BEGIN:VCALENDAR
VERSION:2.0
PRODID:-//Huron Shores - ECPv6.15.11//NONSGML v1.0//EN
CALSCALE:GREGORIAN
METHOD:PUBLISH
X-ORIGINAL-URL:https://huronshores.ca
X-WR-CALDESC:Events for Huron Shores
REFRESH-INTERVAL;VALUE=DURATION:PT1H
X-Robots-Tag:noindex
X-PUBLISHED-TTL:PT1H
BEGIN:VTIMEZONE
TZID:America/Toronto
BEGIN:DAYLIGHT
TZOFFSETFROM:-0500
TZOFFSETTO:-0400
TZNAME:EDT
DTSTART:20150308T070000
END:DAYLIGHT
BEGIN:STANDARD
TZOFFSETFROM:-0400
TZOFFSETTO:-0500
TZNAME:EST
DTSTART:20151101T060000
END:STANDARD
BEGIN:DAYLIGHT
TZOFFSETFROM:-0500
TZOFFSETTO:-0400
TZNAME:EDT
DTSTART:20160313T070000
END:DAYLIGHT
BEGIN:STANDARD
TZOFFSETFROM:-0400
TZOFFSETTO:-0500
TZNAME:EST
DTSTART:20161106T060000
END:STANDARD
BEGIN:DAYLIGHT
TZOFFSETFROM:-0500
TZOFFSETTO:-0400
TZNAME:EDT
DTSTART:20170312T070000
END:DAYLIGHT
BEGIN:STANDARD
TZOFFSETFROM:-0400
TZOFFSETTO:-0500
TZNAME:EST
DTSTART:20171105T060000
END:STANDARD
END:VTIMEZONE
BEGIN:VEVENT
DTSTART;TZID=America/Toronto:20160328T140000
DTEND;TZID=America/Toronto:20160328T153000
DTSTAMP:20260425T110200
CREATED:20151021T181815Z
LAST-MODIFIED:20151021T181815Z
UID:10015895-1459173600-1459179000@huronshores.ca
SUMMARY:Alzheimer Info & Discussion Group
DESCRIPTION:The Alzheimer Society of Sault Ste. Marie & Algoma District hosts an Information & Discussion Group on the 2nd Wednesday of each month\, at the Calvary Gospel Church\, 55 Queen Street\, Blind River from 2:00 – 3:30 p.m.  For more information please call Tanya\, First Link Coordinator\, at 705-848-8145.
URL:https://huronshores.ca/event/alzheimer-info-discussion-group-2/2016-03-28/
LOCATION:Ontario
CATEGORIES:Community News
ATTACH;FMTTYPE=image/jpeg:https://huronshores.ca/wp-content/uploads/2013/01/Alzheimers-Disease.jpg
END:VEVENT
BEGIN:VEVENT
DTSTART;TZID=America/Toronto:20160329T140000
DTEND;TZID=America/Toronto:20160329T153000
DTSTAMP:20260425T110200
CREATED:20151021T181815Z
LAST-MODIFIED:20151021T181815Z
UID:10015896-1459260000-1459265400@huronshores.ca
SUMMARY:Alzheimer Info & Discussion Group
DESCRIPTION:The Alzheimer Society of Sault Ste. Marie & Algoma District hosts an Information & Discussion Group on the 2nd Wednesday of each month\, at the Calvary Gospel Church\, 55 Queen Street\, Blind River from 2:00 – 3:30 p.m.  For more information please call Tanya\, First Link Coordinator\, at 705-848-8145.
URL:https://huronshores.ca/event/alzheimer-info-discussion-group-2/2016-03-29/
LOCATION:Ontario
CATEGORIES:Community News
ATTACH;FMTTYPE=image/jpeg:https://huronshores.ca/wp-content/uploads/2013/01/Alzheimers-Disease.jpg
END:VEVENT
BEGIN:VEVENT
DTSTART;TZID=America/Toronto:20160329T180000
DTEND;TZID=America/Toronto:20160329T180000
DTSTAMP:20260425T110200
CREATED:20160315T181330Z
LAST-MODIFIED:20160315T181330Z
UID:10019412-1459274400-1459274400@huronshores.ca
SUMMARY:BRDHC Board Meeting
DESCRIPTION:The Board of Trustees for the Blind River District Health Centre will meet Tuesday\, March 29/16 at 6:00 p.m. in the BRDHC Board Room.  The public is invited to attend.
URL:https://huronshores.ca/event/brdhc-board-meeting/
LOCATION:Ontario
CATEGORIES:Community News
ATTACH;FMTTYPE=image/jpeg:https://huronshores.ca/wp-content/uploads/2014/04/BRDHC-Logo.jpg
END:VEVENT
BEGIN:VEVENT
DTSTART;TZID=America/Toronto:20160330T140000
DTEND;TZID=America/Toronto:20160330T153000
DTSTAMP:20260425T110200
CREATED:20151021T181815Z
LAST-MODIFIED:20151021T181815Z
UID:10015897-1459346400-1459351800@huronshores.ca
SUMMARY:Alzheimer Info & Discussion Group
DESCRIPTION:The Alzheimer Society of Sault Ste. Marie & Algoma District hosts an Information & Discussion Group on the 2nd Wednesday of each month\, at the Calvary Gospel Church\, 55 Queen Street\, Blind River from 2:00 – 3:30 p.m.  For more information please call Tanya\, First Link Coordinator\, at 705-848-8145.
URL:https://huronshores.ca/event/alzheimer-info-discussion-group-2/2016-03-30/
LOCATION:Ontario
CATEGORIES:Community News
ATTACH;FMTTYPE=image/jpeg:https://huronshores.ca/wp-content/uploads/2013/01/Alzheimers-Disease.jpg
END:VEVENT
BEGIN:VEVENT
DTSTART;TZID=America/Toronto:20160331T083000
DTEND;TZID=America/Toronto:20160331T163000
DTSTAMP:20260425T110200
CREATED:20160115T154903Z
LAST-MODIFIED:20160115T154903Z
UID:10019468-1459413000-1459441800@huronshores.ca
SUMMARY:2016 Interim Tax Billing - 1st Installment
DESCRIPTION:The First Installment of the 2016 Interim Tax Billing is due today\, Thursday\, March 31/16 at 4:30 p.m.  Payment must be in Canadian funds ($$) and may be remitted by credit card via e-Payments on the Home page of huronshores.ca; in the mail by cheque or money order; or in person at the Municipal Office\, Monday – Friday\, 8:30 a.m. – 4:30 p.m. (cash or cheque only\, no debit).  Installments are due the last business day in March and in May.
URL:https://huronshores.ca/event/2016-interim-tax-billing-1st-installment/
LOCATION:Ontario
CATEGORIES:Treasury
ATTACH;FMTTYPE=image/jpeg:https://huronshores.ca/wp-content/uploads/2012/09/Mailings.jpg
END:VEVENT
BEGIN:VEVENT
DTSTART;TZID=America/Toronto:20160331T140000
DTEND;TZID=America/Toronto:20160331T153000
DTSTAMP:20260425T110200
CREATED:20151021T181815Z
LAST-MODIFIED:20151021T181815Z
UID:10015898-1459432800-1459438200@huronshores.ca
SUMMARY:Alzheimer Info & Discussion Group
DESCRIPTION:The Alzheimer Society of Sault Ste. Marie & Algoma District hosts an Information & Discussion Group on the 2nd Wednesday of each month\, at the Calvary Gospel Church\, 55 Queen Street\, Blind River from 2:00 – 3:30 p.m.  For more information please call Tanya\, First Link Coordinator\, at 705-848-8145.
URL:https://huronshores.ca/event/alzheimer-info-discussion-group-2/2016-03-31/
LOCATION:Ontario
CATEGORIES:Community News
ATTACH;FMTTYPE=image/jpeg:https://huronshores.ca/wp-content/uploads/2013/01/Alzheimers-Disease.jpg
END:VEVENT
BEGIN:VEVENT
DTSTART;TZID=America/Toronto:20160331T150000
DTEND;TZID=America/Toronto:20160331T160000
DTSTAMP:20260425T110200
CREATED:20160304T212906Z
LAST-MODIFIED:20160304T212906Z
UID:10019397-1459436400-1459440000@huronshores.ca
SUMMARY:MPP Michael Mantha
DESCRIPTION:Mr. Mantha will hold a constituency clinic on Thursday\, March 31st at the Thessalon Municipal Office from 3:00 – 4:00 p.m.  If you wish to confirm an appointment\, please contact the constituency office as listed below.
URL:https://huronshores.ca/event/mpp-michael-mantha-3/
LOCATION:Ontario
CATEGORIES:Community News
ATTACH;FMTTYPE=image/jpeg:https://huronshores.ca/wp-content/uploads/2015/12/Michael_Mantha.jpg
END:VEVENT
BEGIN:VEVENT
DTSTART;VALUE=DATE:20160401
DTEND;VALUE=DATE:20160402
DTSTAMP:20260425T110200
CREATED:20160115T150430Z
LAST-MODIFIED:20160115T150430Z
UID:10019448-1459468800-1459555199@huronshores.ca
SUMMARY:Waste Site Summer Hours
DESCRIPTION:From April 1st to September 30th\, the Waste Disposal Sites shift to their Summer Hours of Operation:  Saturdays 9:00 a.m. to 5:00 p.m.; Mondays and Wednesdays\, 4:00 to 8:00 p.m.  Please visit the Waste Disposal and Recycling Program page for location of the waste sites and recycling facilities or for further details by clicking on the link below.
URL:https://huronshores.ca/event/waste-site-summer-hours/
LOCATION:Ontario
CATEGORIES:Community News,Waste Disposal
ATTACH;FMTTYPE=image/png:https://huronshores.ca/wp-content/uploads/2012/06/trash-dumpster-white.svg_.thumb_.png
END:VEVENT
BEGIN:VEVENT
DTSTART;TZID=America/Toronto:20160401T110000
DTEND;TZID=America/Toronto:20160401T120000
DTSTAMP:20260425T110200
CREATED:20160304T202935Z
LAST-MODIFIED:20160304T202935Z
UID:10019396-1459508400-1459512000@huronshores.ca
SUMMARY:MPP Michael Mantha
DESCRIPTION:Mr. Mantha will be holding a constituency clinic at the Blind River Municipal Office on Friday\, April 1st from 11:00 a.m. – 12:00 p.m.  If you’d like to confirm an appointment\, please contact the constituency office as listed below.
URL:https://huronshores.ca/event/mpp-michael-mantha-2/
LOCATION:Ontario
CATEGORIES:Community News
ATTACH;FMTTYPE=image/jpeg:https://huronshores.ca/wp-content/uploads/2015/12/Michael_Mantha.jpg
END:VEVENT
BEGIN:VEVENT
DTSTART;TZID=America/Toronto:20160401T130000
DTEND;TZID=America/Toronto:20160401T140000
DTSTAMP:20260425T110200
CREATED:20160304T200357Z
LAST-MODIFIED:20160304T200357Z
UID:10019393-1459515600-1459519200@huronshores.ca
SUMMARY:MPP Michael Mantha
DESCRIPTION:Mr. Mantha will be holding a constituency clinic at the Municipal Office on Friday\, April 1st from 1:00 – 2:00 p.m.  If you’d like to confirm an appointment\, please contact the constituency office as listed below.
URL:https://huronshores.ca/event/mpp-michael-mantha/
LOCATION:Ontario
CATEGORIES:Community News
ATTACH;FMTTYPE=image/jpeg:https://huronshores.ca/wp-content/uploads/2015/12/Michael_Mantha.jpg
END:VEVENT
BEGIN:VEVENT
DTSTART;TZID=America/Toronto:20160401T140000
DTEND;TZID=America/Toronto:20160401T153000
DTSTAMP:20260425T110200
CREATED:20151021T181815Z
LAST-MODIFIED:20151021T181815Z
UID:10015899-1459519200-1459524600@huronshores.ca
SUMMARY:Alzheimer Info & Discussion Group
DESCRIPTION:The Alzheimer Society of Sault Ste. Marie & Algoma District hosts an Information & Discussion Group on the 2nd Wednesday of each month\, at the Calvary Gospel Church\, 55 Queen Street\, Blind River from 2:00 – 3:30 p.m.  For more information please call Tanya\, First Link Coordinator\, at 705-848-8145.
URL:https://huronshores.ca/event/alzheimer-info-discussion-group-2/2016-04-01/
LOCATION:Ontario
CATEGORIES:Community News
ATTACH;FMTTYPE=image/jpeg:https://huronshores.ca/wp-content/uploads/2013/01/Alzheimers-Disease.jpg
END:VEVENT
BEGIN:VEVENT
DTSTART;VALUE=DATE:20160402
DTEND;VALUE=DATE:20160403
DTSTAMP:20260425T110200
CREATED:20160330T202109Z
LAST-MODIFIED:20160330T202109Z
UID:10019565-1459555200-1459641599@huronshores.ca
SUMMARY:Autism Awareness Day
DESCRIPTION:The Council of the Corporation of the Municipality of Huron Shores supports the advocacy and education efforts of Autism Ontario by proclaiming April 2nd as World Autism Awareness Day.  As per the request from Autism Ontario\, due to April 2nd being a Saturday\, Mayor Reeves will Raise the Flag for Autism Awareness at Noon on Monday\, April 4th at Tally Ho Park\, Iron Bridge.
URL:https://huronshores.ca/event/autism-awareness-day/
LOCATION:Ontario
CATEGORIES:Community News,Health & Safety
ATTACH;FMTTYPE=image/jpeg:https://huronshores.ca/wp-content/uploads/2014/04/Raise-the-Flag-EMAIL.jpg
END:VEVENT
BEGIN:VEVENT
DTSTART;TZID=America/Toronto:20160402T140000
DTEND;TZID=America/Toronto:20160402T153000
DTSTAMP:20260425T110200
CREATED:20151021T181815Z
LAST-MODIFIED:20151021T181815Z
UID:10015900-1459605600-1459611000@huronshores.ca
SUMMARY:Alzheimer Info & Discussion Group
DESCRIPTION:The Alzheimer Society of Sault Ste. Marie & Algoma District hosts an Information & Discussion Group on the 2nd Wednesday of each month\, at the Calvary Gospel Church\, 55 Queen Street\, Blind River from 2:00 – 3:30 p.m.  For more information please call Tanya\, First Link Coordinator\, at 705-848-8145.
URL:https://huronshores.ca/event/alzheimer-info-discussion-group-2/2016-04-02/
LOCATION:Ontario
CATEGORIES:Community News
ATTACH;FMTTYPE=image/jpeg:https://huronshores.ca/wp-content/uploads/2013/01/Alzheimers-Disease.jpg
END:VEVENT
BEGIN:VEVENT
DTSTART;TZID=America/Toronto:20160403T093000
DTEND;TZID=America/Toronto:20160403T140000
DTSTAMP:20260425T110200
CREATED:20160121T163837Z
LAST-MODIFIED:20160121T163837Z
UID:10019504-1459675800-1459692000@huronshores.ca
SUMMARY:Pancake Breakfast
DESCRIPTION:The Sowerby Heritage Centre Committee is holding its annual Pancake Breakfast\, Sunday\, April 3/16 at the Sowerby Hall\, 1410 Basswood Lake Road.  Contact David 705-842-6135 or Will 705-843-5567 for details.
URL:https://huronshores.ca/event/pancake-breakfast/
LOCATION:Ontario
CATEGORIES:Community News
ATTACH;FMTTYPE=image/png:https://huronshores.ca/wp-content/uploads/2014/03/Pancakes.png
END:VEVENT
BEGIN:VEVENT
DTSTART;TZID=America/Toronto:20160403T140000
DTEND;TZID=America/Toronto:20160403T153000
DTSTAMP:20260425T110200
CREATED:20151021T181815Z
LAST-MODIFIED:20151021T181815Z
UID:10015901-1459692000-1459697400@huronshores.ca
SUMMARY:Alzheimer Info & Discussion Group
DESCRIPTION:The Alzheimer Society of Sault Ste. Marie & Algoma District hosts an Information & Discussion Group on the 2nd Wednesday of each month\, at the Calvary Gospel Church\, 55 Queen Street\, Blind River from 2:00 – 3:30 p.m.  For more information please call Tanya\, First Link Coordinator\, at 705-848-8145.
URL:https://huronshores.ca/event/alzheimer-info-discussion-group-2/2016-04-03/
LOCATION:Ontario
CATEGORIES:Community News
ATTACH;FMTTYPE=image/jpeg:https://huronshores.ca/wp-content/uploads/2013/01/Alzheimers-Disease.jpg
END:VEVENT
BEGIN:VEVENT
DTSTART;TZID=America/Toronto:20160404T120000
DTEND;TZID=America/Toronto:20160404T120000
DTSTAMP:20260425T110200
CREATED:20160330T202942Z
LAST-MODIFIED:20160330T202942Z
UID:10019566-1459771200-1459771200@huronshores.ca
SUMMARY:April 4:  Raise the Flag for Autism Awareness
DESCRIPTION:The Council of the Corporation of the Municipality of Huron Shores supports the advocacy and education efforts of Autism Ontario by proclaiming April 2nd as World Autism Awareness Day.  As per the request from Autism Ontario\, due to April 2nd being a Saturday\, Mayor Reeves will Raise the Flag for Autism Awareness at Noon on Monday\, April 4th at Tally-Ho Park\, Iron Bridge.
URL:https://huronshores.ca/event/april-4-raise-the-flag-for-autism-awareness/
LOCATION:Ontario
CATEGORIES:Community News,Health & Safety
ATTACH;FMTTYPE=image/jpeg:https://huronshores.ca/wp-content/uploads/2014/04/Raise-the-Flag-EMAIL.jpg
END:VEVENT
BEGIN:VEVENT
DTSTART;TZID=America/Toronto:20160404T140000
DTEND;TZID=America/Toronto:20160404T153000
DTSTAMP:20260425T110200
CREATED:20151021T181815Z
LAST-MODIFIED:20151021T181815Z
UID:10015902-1459778400-1459783800@huronshores.ca
SUMMARY:Alzheimer Info & Discussion Group
DESCRIPTION:The Alzheimer Society of Sault Ste. Marie & Algoma District hosts an Information & Discussion Group on the 2nd Wednesday of each month\, at the Calvary Gospel Church\, 55 Queen Street\, Blind River from 2:00 – 3:30 p.m.  For more information please call Tanya\, First Link Coordinator\, at 705-848-8145.
URL:https://huronshores.ca/event/alzheimer-info-discussion-group-2/2016-04-04/
LOCATION:Ontario
CATEGORIES:Community News
ATTACH;FMTTYPE=image/jpeg:https://huronshores.ca/wp-content/uploads/2013/01/Alzheimers-Disease.jpg
END:VEVENT
BEGIN:VEVENT
DTSTART;TZID=America/Toronto:20160405T140000
DTEND;TZID=America/Toronto:20160405T153000
DTSTAMP:20260425T110200
CREATED:20151021T181815Z
LAST-MODIFIED:20151021T181815Z
UID:10015903-1459864800-1459870200@huronshores.ca
SUMMARY:Alzheimer Info & Discussion Group
DESCRIPTION:The Alzheimer Society of Sault Ste. Marie & Algoma District hosts an Information & Discussion Group on the 2nd Wednesday of each month\, at the Calvary Gospel Church\, 55 Queen Street\, Blind River from 2:00 – 3:30 p.m.  For more information please call Tanya\, First Link Coordinator\, at 705-848-8145.
URL:https://huronshores.ca/event/alzheimer-info-discussion-group-2/2016-04-05/
LOCATION:Ontario
CATEGORIES:Community News
ATTACH;FMTTYPE=image/jpeg:https://huronshores.ca/wp-content/uploads/2013/01/Alzheimers-Disease.jpg
END:VEVENT
BEGIN:VEVENT
DTSTART;TZID=America/Toronto:20160406T140000
DTEND;TZID=America/Toronto:20160406T153000
DTSTAMP:20260425T110200
CREATED:20151021T181815Z
LAST-MODIFIED:20151021T181815Z
UID:10015904-1459951200-1459956600@huronshores.ca
SUMMARY:Alzheimer Info & Discussion Group
DESCRIPTION:The Alzheimer Society of Sault Ste. Marie & Algoma District hosts an Information & Discussion Group on the 2nd Wednesday of each month\, at the Calvary Gospel Church\, 55 Queen Street\, Blind River from 2:00 – 3:30 p.m.  For more information please call Tanya\, First Link Coordinator\, at 705-848-8145.
URL:https://huronshores.ca/event/alzheimer-info-discussion-group-2/2016-04-06/
LOCATION:Ontario
CATEGORIES:Community News
ATTACH;FMTTYPE=image/jpeg:https://huronshores.ca/wp-content/uploads/2013/01/Alzheimers-Disease.jpg
END:VEVENT
BEGIN:VEVENT
DTSTART;TZID=America/Toronto:20160407T140000
DTEND;TZID=America/Toronto:20160407T153000
DTSTAMP:20260425T110200
CREATED:20151021T181815Z
LAST-MODIFIED:20151021T181815Z
UID:10015905-1460037600-1460043000@huronshores.ca
SUMMARY:Alzheimer Info & Discussion Group
DESCRIPTION:The Alzheimer Society of Sault Ste. Marie & Algoma District hosts an Information & Discussion Group on the 2nd Wednesday of each month\, at the Calvary Gospel Church\, 55 Queen Street\, Blind River from 2:00 – 3:30 p.m.  For more information please call Tanya\, First Link Coordinator\, at 705-848-8145.
URL:https://huronshores.ca/event/alzheimer-info-discussion-group-2/2016-04-07/
LOCATION:Ontario
CATEGORIES:Community News
ATTACH;FMTTYPE=image/jpeg:https://huronshores.ca/wp-content/uploads/2013/01/Alzheimers-Disease.jpg
END:VEVENT
BEGIN:VEVENT
DTSTART;TZID=America/Toronto:20160408T140000
DTEND;TZID=America/Toronto:20160408T153000
DTSTAMP:20260425T110200
CREATED:20151021T181815Z
LAST-MODIFIED:20151021T181815Z
UID:10015906-1460124000-1460129400@huronshores.ca
SUMMARY:Alzheimer Info & Discussion Group
DESCRIPTION:The Alzheimer Society of Sault Ste. Marie & Algoma District hosts an Information & Discussion Group on the 2nd Wednesday of each month\, at the Calvary Gospel Church\, 55 Queen Street\, Blind River from 2:00 – 3:30 p.m.  For more information please call Tanya\, First Link Coordinator\, at 705-848-8145.
URL:https://huronshores.ca/event/alzheimer-info-discussion-group-2/2016-04-08/
LOCATION:Ontario
CATEGORIES:Community News
ATTACH;FMTTYPE=image/jpeg:https://huronshores.ca/wp-content/uploads/2013/01/Alzheimers-Disease.jpg
END:VEVENT
BEGIN:VEVENT
DTSTART;TZID=America/Toronto:20160408T180000
DTEND;TZID=America/Toronto:20160408T230000
DTSTAMP:20260425T110200
CREATED:20160106T193208Z
LAST-MODIFIED:20160106T193208Z
UID:10019417-1460138400-1460156400@huronshores.ca
SUMMARY:Wing Nite
DESCRIPTION:The Thessalon Curling Centre hosts Wing Nite on the first Friday of the month.  Doors open at 6:00 p.m. All you can eat; everyone welcome.  Draw to the Button contest.  See you there!
URL:https://huronshores.ca/event/wing-nite/2016-04-08/
LOCATION:Ontario
CATEGORIES:Community News,Recreation
ATTACH;FMTTYPE=image/jpeg:https://huronshores.ca/wp-content/uploads/2014/02/Wing-Night.jpg
END:VEVENT
BEGIN:VEVENT
DTSTART;TZID=America/Toronto:20160409T140000
DTEND;TZID=America/Toronto:20160409T153000
DTSTAMP:20260425T110200
CREATED:20151021T181815Z
LAST-MODIFIED:20151021T181815Z
UID:10015907-1460210400-1460215800@huronshores.ca
SUMMARY:Alzheimer Info & Discussion Group
DESCRIPTION:The Alzheimer Society of Sault Ste. Marie & Algoma District hosts an Information & Discussion Group on the 2nd Wednesday of each month\, at the Calvary Gospel Church\, 55 Queen Street\, Blind River from 2:00 – 3:30 p.m.  For more information please call Tanya\, First Link Coordinator\, at 705-848-8145.
URL:https://huronshores.ca/event/alzheimer-info-discussion-group-2/2016-04-09/
LOCATION:Ontario
CATEGORIES:Community News
ATTACH;FMTTYPE=image/jpeg:https://huronshores.ca/wp-content/uploads/2013/01/Alzheimers-Disease.jpg
END:VEVENT
BEGIN:VEVENT
DTSTART;TZID=America/Toronto:20160409T173000
DTEND;TZID=America/Toronto:20160409T200000
DTSTAMP:20260425T110200
CREATED:20160330T143259Z
LAST-MODIFIED:20160330T143259Z
UID:10019562-1460223000-1460232000@huronshores.ca
SUMMARY:Pasta Dinner Fundraiser & Musical Entertainment
DESCRIPTION:A Pasta Dinner Fundraiser and evening of musical entertainment will be held Saturday\, April 9/16\, at the IOOF Hall\, Thessalon.  Doors open at 5:30 p.m.; Dinner at 6:00 p.m.\, Entertainment from 7:00 to 8:00 p.m.  Tickets $15.  For information call Kelly 705-987-1231 or Leah 705-842-3046.  Talent includes:  Samantha Giguere\, Serene Boileau\, Julie Schryer\, Aine Schryer-O’Gorman\, Emma\, Grace\, and Abbie Wildman.  Proceeds to benefit the Rebekah’s United Nations Pilgrimage for Youth\, Lungs for Lindsay Fund\, and the CASS Arts Trip.
URL:https://huronshores.ca/event/pasta-dinner-fundraiser-musical-entertainment/
LOCATION:Ontario
CATEGORIES:Community News,Fundraiser
ATTACH;FMTTYPE=image/jpeg:https://huronshores.ca/wp-content/uploads/2014/02/Pasta-Supper.jpg
END:VEVENT
BEGIN:VEVENT
DTSTART;TZID=America/Toronto:20160410T140000
DTEND;TZID=America/Toronto:20160410T153000
DTSTAMP:20260425T110200
CREATED:20151021T181815Z
LAST-MODIFIED:20151021T181815Z
UID:10015908-1460296800-1460302200@huronshores.ca
SUMMARY:Alzheimer Info & Discussion Group
DESCRIPTION:The Alzheimer Society of Sault Ste. Marie & Algoma District hosts an Information & Discussion Group on the 2nd Wednesday of each month\, at the Calvary Gospel Church\, 55 Queen Street\, Blind River from 2:00 – 3:30 p.m.  For more information please call Tanya\, First Link Coordinator\, at 705-848-8145.
URL:https://huronshores.ca/event/alzheimer-info-discussion-group-2/2016-04-10/
LOCATION:Ontario
CATEGORIES:Community News
ATTACH;FMTTYPE=image/jpeg:https://huronshores.ca/wp-content/uploads/2013/01/Alzheimers-Disease.jpg
END:VEVENT
BEGIN:VEVENT
DTSTART;TZID=America/Toronto:20160411T140000
DTEND;TZID=America/Toronto:20160411T153000
DTSTAMP:20260425T110200
CREATED:20151021T181815Z
LAST-MODIFIED:20151021T181815Z
UID:10015909-1460383200-1460388600@huronshores.ca
SUMMARY:Alzheimer Info & Discussion Group
DESCRIPTION:The Alzheimer Society of Sault Ste. Marie & Algoma District hosts an Information & Discussion Group on the 2nd Wednesday of each month\, at the Calvary Gospel Church\, 55 Queen Street\, Blind River from 2:00 – 3:30 p.m.  For more information please call Tanya\, First Link Coordinator\, at 705-848-8145.
URL:https://huronshores.ca/event/alzheimer-info-discussion-group-2/2016-04-11/
LOCATION:Ontario
CATEGORIES:Community News
ATTACH;FMTTYPE=image/jpeg:https://huronshores.ca/wp-content/uploads/2013/01/Alzheimers-Disease.jpg
END:VEVENT
BEGIN:VEVENT
DTSTART;TZID=America/Toronto:20160412T140000
DTEND;TZID=America/Toronto:20160412T153000
DTSTAMP:20260425T110200
CREATED:20151021T181815Z
LAST-MODIFIED:20151021T181815Z
UID:10015910-1460469600-1460475000@huronshores.ca
SUMMARY:Alzheimer Info & Discussion Group
DESCRIPTION:The Alzheimer Society of Sault Ste. Marie & Algoma District hosts an Information & Discussion Group on the 2nd Wednesday of each month\, at the Calvary Gospel Church\, 55 Queen Street\, Blind River from 2:00 – 3:30 p.m.  For more information please call Tanya\, First Link Coordinator\, at 705-848-8145.
URL:https://huronshores.ca/event/alzheimer-info-discussion-group-2/2016-04-12/
LOCATION:Ontario
CATEGORIES:Community News
ATTACH;FMTTYPE=image/jpeg:https://huronshores.ca/wp-content/uploads/2013/01/Alzheimers-Disease.jpg
END:VEVENT
BEGIN:VEVENT
DTSTART;TZID=America/Toronto:20160413T140000
DTEND;TZID=America/Toronto:20160413T153000
DTSTAMP:20260425T110200
CREATED:20151021T181815Z
LAST-MODIFIED:20151021T181815Z
UID:10015911-1460556000-1460561400@huronshores.ca
SUMMARY:Alzheimer Info & Discussion Group
DESCRIPTION:The Alzheimer Society of Sault Ste. Marie & Algoma District hosts an Information & Discussion Group on the 2nd Wednesday of each month\, at the Calvary Gospel Church\, 55 Queen Street\, Blind River from 2:00 – 3:30 p.m.  For more information please call Tanya\, First Link Coordinator\, at 705-848-8145.
URL:https://huronshores.ca/event/alzheimer-info-discussion-group-2/2016-04-13/
LOCATION:Ontario
CATEGORIES:Community News
ATTACH;FMTTYPE=image/jpeg:https://huronshores.ca/wp-content/uploads/2013/01/Alzheimers-Disease.jpg
END:VEVENT
BEGIN:VEVENT
DTSTART;TZID=America/Toronto:20160413T190000
DTEND;TZID=America/Toronto:20160413T190000
DTSTAMP:20260425T110200
CREATED:20160115T151033Z
LAST-MODIFIED:20160115T151033Z
UID:10019451-1460574000-1460574000@huronshores.ca
SUMMARY:Regular Council Meeting
DESCRIPTION:The Regular Council Meeting will be held Wednesday\, April 13/16 at 7:00 p.m. in the Council Chambers\, 7 Bridge Street\, Iron Bridge.  The Agenda was posted on Monday\, April 11/16.  Please click on the link below to view the Agenda post.
URL:https://huronshores.ca/event/regular-council-meeting-16/
LOCATION:Ontario
CATEGORIES:Council Meeting
ATTACH;FMTTYPE=:
END:VEVENT
BEGIN:VEVENT
DTSTART;TZID=America/Toronto:20160414T140000
DTEND;TZID=America/Toronto:20160414T153000
DTSTAMP:20260425T110200
CREATED:20151021T181815Z
LAST-MODIFIED:20151021T181815Z
UID:10015912-1460642400-1460647800@huronshores.ca
SUMMARY:Alzheimer Info & Discussion Group
DESCRIPTION:The Alzheimer Society of Sault Ste. Marie & Algoma District hosts an Information & Discussion Group on the 2nd Wednesday of each month\, at the Calvary Gospel Church\, 55 Queen Street\, Blind River from 2:00 – 3:30 p.m.  For more information please call Tanya\, First Link Coordinator\, at 705-848-8145.
URL:https://huronshores.ca/event/alzheimer-info-discussion-group-2/2016-04-14/
LOCATION:Ontario
CATEGORIES:Community News
ATTACH;FMTTYPE=image/jpeg:https://huronshores.ca/wp-content/uploads/2013/01/Alzheimers-Disease.jpg
END:VEVENT
END:VCALENDAR