BEGIN:VCALENDAR
VERSION:2.0
PRODID:-//Huron Shores - ECPv6.15.11//NONSGML v1.0//EN
CALSCALE:GREGORIAN
METHOD:PUBLISH
X-ORIGINAL-URL:https://huronshores.ca
X-WR-CALDESC:Events for Huron Shores
REFRESH-INTERVAL;VALUE=DURATION:PT1H
X-Robots-Tag:noindex
X-PUBLISHED-TTL:PT1H
BEGIN:VTIMEZONE
TZID:America/Toronto
BEGIN:DAYLIGHT
TZOFFSETFROM:-0500
TZOFFSETTO:-0400
TZNAME:EDT
DTSTART:20150308T070000
END:DAYLIGHT
BEGIN:STANDARD
TZOFFSETFROM:-0400
TZOFFSETTO:-0500
TZNAME:EST
DTSTART:20151101T060000
END:STANDARD
BEGIN:DAYLIGHT
TZOFFSETFROM:-0500
TZOFFSETTO:-0400
TZNAME:EDT
DTSTART:20160313T070000
END:DAYLIGHT
BEGIN:STANDARD
TZOFFSETFROM:-0400
TZOFFSETTO:-0500
TZNAME:EST
DTSTART:20161106T060000
END:STANDARD
BEGIN:DAYLIGHT
TZOFFSETFROM:-0500
TZOFFSETTO:-0400
TZNAME:EDT
DTSTART:20170312T070000
END:DAYLIGHT
BEGIN:STANDARD
TZOFFSETFROM:-0400
TZOFFSETTO:-0500
TZNAME:EST
DTSTART:20171105T060000
END:STANDARD
END:VTIMEZONE
BEGIN:VEVENT
DTSTART;TZID=America/Toronto:20160828T140000
DTEND;TZID=America/Toronto:20160828T153000
DTSTAMP:20260425T072458
CREATED:20151021T181815Z
LAST-MODIFIED:20151021T181815Z
UID:10016048-1472392800-1472398200@huronshores.ca
SUMMARY:Alzheimer Info & Discussion Group
DESCRIPTION:The Alzheimer Society of Sault Ste. Marie & Algoma District hosts an Information & Discussion Group on the 2nd Wednesday of each month\, at the Calvary Gospel Church\, 55 Queen Street\, Blind River from 2:00 – 3:30 p.m.  For more information please call Tanya\, First Link Coordinator\, at 705-848-8145.
URL:https://huronshores.ca/event/alzheimer-info-discussion-group-2/2016-08-28/
LOCATION:Ontario
CATEGORIES:Community News
ATTACH;FMTTYPE=image/jpeg:https://huronshores.ca/wp-content/uploads/2013/01/Alzheimers-Disease.jpg
END:VEVENT
BEGIN:VEVENT
DTSTART;TZID=America/Toronto:20160829T140000
DTEND;TZID=America/Toronto:20160829T153000
DTSTAMP:20260425T072458
CREATED:20151021T181815Z
LAST-MODIFIED:20151021T181815Z
UID:10016049-1472479200-1472484600@huronshores.ca
SUMMARY:Alzheimer Info & Discussion Group
DESCRIPTION:The Alzheimer Society of Sault Ste. Marie & Algoma District hosts an Information & Discussion Group on the 2nd Wednesday of each month\, at the Calvary Gospel Church\, 55 Queen Street\, Blind River from 2:00 – 3:30 p.m.  For more information please call Tanya\, First Link Coordinator\, at 705-848-8145.
URL:https://huronshores.ca/event/alzheimer-info-discussion-group-2/2016-08-29/
LOCATION:Ontario
CATEGORIES:Community News
ATTACH;FMTTYPE=image/jpeg:https://huronshores.ca/wp-content/uploads/2013/01/Alzheimers-Disease.jpg
END:VEVENT
BEGIN:VEVENT
DTSTART;TZID=America/Toronto:20160830T140000
DTEND;TZID=America/Toronto:20160830T153000
DTSTAMP:20260425T072458
CREATED:20151021T181815Z
LAST-MODIFIED:20151021T181815Z
UID:10016050-1472565600-1472571000@huronshores.ca
SUMMARY:Alzheimer Info & Discussion Group
DESCRIPTION:The Alzheimer Society of Sault Ste. Marie & Algoma District hosts an Information & Discussion Group on the 2nd Wednesday of each month\, at the Calvary Gospel Church\, 55 Queen Street\, Blind River from 2:00 – 3:30 p.m.  For more information please call Tanya\, First Link Coordinator\, at 705-848-8145.
URL:https://huronshores.ca/event/alzheimer-info-discussion-group-2/2016-08-30/
LOCATION:Ontario
CATEGORIES:Community News
ATTACH;FMTTYPE=image/jpeg:https://huronshores.ca/wp-content/uploads/2013/01/Alzheimers-Disease.jpg
END:VEVENT
BEGIN:VEVENT
DTSTART;TZID=America/Toronto:20160831T140000
DTEND;TZID=America/Toronto:20160831T153000
DTSTAMP:20260425T072458
CREATED:20151021T181815Z
LAST-MODIFIED:20151021T181815Z
UID:10016051-1472652000-1472657400@huronshores.ca
SUMMARY:Alzheimer Info & Discussion Group
DESCRIPTION:The Alzheimer Society of Sault Ste. Marie & Algoma District hosts an Information & Discussion Group on the 2nd Wednesday of each month\, at the Calvary Gospel Church\, 55 Queen Street\, Blind River from 2:00 – 3:30 p.m.  For more information please call Tanya\, First Link Coordinator\, at 705-848-8145.
URL:https://huronshores.ca/event/alzheimer-info-discussion-group-2/2016-08-31/
LOCATION:Ontario
CATEGORIES:Community News
ATTACH;FMTTYPE=image/jpeg:https://huronshores.ca/wp-content/uploads/2013/01/Alzheimers-Disease.jpg
END:VEVENT
BEGIN:VEVENT
DTSTART;TZID=America/Toronto:20160831T193000
DTEND;TZID=America/Toronto:20160831T193000
DTSTAMP:20260425T072458
CREATED:20160721T182330Z
LAST-MODIFIED:20160721T182330Z
UID:10019634-1472671800-1472671800@huronshores.ca
SUMMARY:Jammin' Session at the Thessalon Community Curling Club
DESCRIPTION:Every Wedneday night at 7:30PM\, join us at Thessalon Community Curling Club for our Jammin’ Session. You play an instrument and love to play with other instrumentalists\, or just love to listen to live music\, then come on down…the bar is open! Everyone welcome! Bring a friend!
URL:https://huronshores.ca/event/jammin-session-at-the-thessalon-community-curling-club/2016-08-31/
LOCATION:Ontario
CATEGORIES:Recreation
END:VEVENT
BEGIN:VEVENT
DTSTART;TZID=America/Toronto:20160901T140000
DTEND;TZID=America/Toronto:20160901T153000
DTSTAMP:20260425T072458
CREATED:20151021T181815Z
LAST-MODIFIED:20151021T181815Z
UID:10016052-1472738400-1472743800@huronshores.ca
SUMMARY:Alzheimer Info & Discussion Group
DESCRIPTION:The Alzheimer Society of Sault Ste. Marie & Algoma District hosts an Information & Discussion Group on the 2nd Wednesday of each month\, at the Calvary Gospel Church\, 55 Queen Street\, Blind River from 2:00 – 3:30 p.m.  For more information please call Tanya\, First Link Coordinator\, at 705-848-8145.
URL:https://huronshores.ca/event/alzheimer-info-discussion-group-2/2016-09-01/
LOCATION:Ontario
CATEGORIES:Community News
ATTACH;FMTTYPE=image/jpeg:https://huronshores.ca/wp-content/uploads/2013/01/Alzheimers-Disease.jpg
END:VEVENT
BEGIN:VEVENT
DTSTART;TZID=America/Toronto:20160902T140000
DTEND;TZID=America/Toronto:20160902T153000
DTSTAMP:20260425T072458
CREATED:20151021T181815Z
LAST-MODIFIED:20151021T181815Z
UID:10016053-1472824800-1472830200@huronshores.ca
SUMMARY:Alzheimer Info & Discussion Group
DESCRIPTION:The Alzheimer Society of Sault Ste. Marie & Algoma District hosts an Information & Discussion Group on the 2nd Wednesday of each month\, at the Calvary Gospel Church\, 55 Queen Street\, Blind River from 2:00 – 3:30 p.m.  For more information please call Tanya\, First Link Coordinator\, at 705-848-8145.
URL:https://huronshores.ca/event/alzheimer-info-discussion-group-2/2016-09-02/
LOCATION:Ontario
CATEGORIES:Community News
ATTACH;FMTTYPE=image/jpeg:https://huronshores.ca/wp-content/uploads/2013/01/Alzheimers-Disease.jpg
END:VEVENT
BEGIN:VEVENT
DTSTART;TZID=America/Toronto:20160903T090000
DTEND;TZID=America/Toronto:20160903T140000
DTSTAMP:20260425T072458
CREATED:20160601T181327Z
LAST-MODIFIED:20160601T181327Z
UID:10019599-1472893200-1472911200@huronshores.ca
SUMMARY:Sowerby Farmers' Market
DESCRIPTION:The Farmers’ Market in Sowerby is held every Saturday from 9:00 a.m. to 2:00 p.m.\, June to September\, at the Historic Cordukes/Weber 12-Sided Barn\, 1410 Basswood Lake Road\, just north of the intersection with Highway 17.
URL:https://huronshores.ca/event/sowerby-farmers-market-2/2016-09-03/
LOCATION:Ontario
CATEGORIES:Community News,Farmers' Markets
ATTACH;FMTTYPE=image/jpeg:https://huronshores.ca/wp-content/uploads/2014/02/farmers-market-623x200-1.jpg
END:VEVENT
BEGIN:VEVENT
DTSTART;TZID=America/Toronto:20160903T090000
DTEND;TZID=America/Toronto:20160903T140000
DTSTAMP:20260425T072458
CREATED:20160627T141148Z
LAST-MODIFIED:20160627T141148Z
UID:10019620-1472893200-1472911200@huronshores.ca
SUMMARY:Iron Bridge Farmers' Market
DESCRIPTION:The Iron Bridge Farmers’ Market is held on Saturdays from 9:00 a.m. to 2:00 p.m. in the Gazebo at the Iron Bridge Historical Museum\, 1 James Street (at the intersection with Hwy. 17).  Come out and try our vendors fresh local produce\, mouth-watering baking\, preserves\, and handicrafts.   Take time to browse the museum exhibits depicting the proud pioneer heritage of our area.
URL:https://huronshores.ca/event/iron-bridge-farmers-market/2016-09-03/
LOCATION:Ontario
CATEGORIES:Community News,Farmers' Markets
ATTACH;FMTTYPE=image/jpeg:https://huronshores.ca/wp-content/uploads/2014/02/farmers-market-623x200-1.jpg
END:VEVENT
BEGIN:VEVENT
DTSTART;TZID=America/Toronto:20160903T100000
DTEND;TZID=America/Toronto:20160903T160000
DTSTAMP:20260425T072458
CREATED:20160120T193524Z
LAST-MODIFIED:20160120T193524Z
UID:10019491-1472896800-1472918400@huronshores.ca
SUMMARY:Iron Bridge Fall Fair
DESCRIPTION:The Iron Bridge Agricultural Society hosts the 129th Annual Iron Bridge Fall Fair\, Saturday\, September 3/16 at the Iron Bridge Recreation Centre (1 Chiblow Lake Rd.).  Parade at 12:30 p.m. beginning at Lion’s Park (2 Northern Ave.) and ending at the Rec Centre.  Events include Men’s and Children’s Chili Challenge; the Ladies’ Stew Challenge\, Science North’s interactive space exhibit:  3-2-1 Blast Off!; and more.  Admission is by donation.  Click on the link below for more details.
URL:https://huronshores.ca/event/iron-bridge-fall-fair-2/
LOCATION:Ontario
CATEGORIES:Community News,Local Food
ATTACH;FMTTYPE=image/gif:https://huronshores.ca/wp-content/uploads/2013/08/Fall-Fair.gif
END:VEVENT
BEGIN:VEVENT
DTSTART;TZID=America/Toronto:20160903T140000
DTEND;TZID=America/Toronto:20160903T153000
DTSTAMP:20260425T072458
CREATED:20151021T181815Z
LAST-MODIFIED:20151021T181815Z
UID:10016054-1472911200-1472916600@huronshores.ca
SUMMARY:Alzheimer Info & Discussion Group
DESCRIPTION:The Alzheimer Society of Sault Ste. Marie & Algoma District hosts an Information & Discussion Group on the 2nd Wednesday of each month\, at the Calvary Gospel Church\, 55 Queen Street\, Blind River from 2:00 – 3:30 p.m.  For more information please call Tanya\, First Link Coordinator\, at 705-848-8145.
URL:https://huronshores.ca/event/alzheimer-info-discussion-group-2/2016-09-03/
LOCATION:Ontario
CATEGORIES:Community News
ATTACH;FMTTYPE=image/jpeg:https://huronshores.ca/wp-content/uploads/2013/01/Alzheimers-Disease.jpg
END:VEVENT
BEGIN:VEVENT
DTSTART;TZID=America/Toronto:20160904T140000
DTEND;TZID=America/Toronto:20160904T153000
DTSTAMP:20260425T072458
CREATED:20151021T181815Z
LAST-MODIFIED:20151021T181815Z
UID:10016055-1472997600-1473003000@huronshores.ca
SUMMARY:Alzheimer Info & Discussion Group
DESCRIPTION:The Alzheimer Society of Sault Ste. Marie & Algoma District hosts an Information & Discussion Group on the 2nd Wednesday of each month\, at the Calvary Gospel Church\, 55 Queen Street\, Blind River from 2:00 – 3:30 p.m.  For more information please call Tanya\, First Link Coordinator\, at 705-848-8145.
URL:https://huronshores.ca/event/alzheimer-info-discussion-group-2/2016-09-04/
LOCATION:Ontario
CATEGORIES:Community News
ATTACH;FMTTYPE=image/jpeg:https://huronshores.ca/wp-content/uploads/2013/01/Alzheimers-Disease.jpg
END:VEVENT
BEGIN:VEVENT
DTSTART;VALUE=DATE:20160905
DTEND;VALUE=DATE:20160906
DTSTAMP:20260425T072458
CREATED:20160115T192113Z
LAST-MODIFIED:20160115T192113Z
UID:10019481-1473033600-1473119999@huronshores.ca
SUMMARY:Labour Day
DESCRIPTION:The Municipal Office and all Waste Sites will be CLOSED Monday\, September 5/16 for the Labour Day holiday.  The Office will re-open Tuesday\, the 6th\, at 8:30 a.m.  Happy Labour Day from Council & Staff of Huron Shores!
URL:https://huronshores.ca/event/labour-day-2/
LOCATION:Ontario
CATEGORIES:Office Closure
ATTACH;FMTTYPE=image/png:https://huronshores.ca/wp-content/uploads/2015/07/Happy-Labour-Day.png
END:VEVENT
BEGIN:VEVENT
DTSTART;TZID=America/Toronto:20160905T140000
DTEND;TZID=America/Toronto:20160905T153000
DTSTAMP:20260425T072458
CREATED:20151021T181815Z
LAST-MODIFIED:20151021T181815Z
UID:10016056-1473084000-1473089400@huronshores.ca
SUMMARY:Alzheimer Info & Discussion Group
DESCRIPTION:The Alzheimer Society of Sault Ste. Marie & Algoma District hosts an Information & Discussion Group on the 2nd Wednesday of each month\, at the Calvary Gospel Church\, 55 Queen Street\, Blind River from 2:00 – 3:30 p.m.  For more information please call Tanya\, First Link Coordinator\, at 705-848-8145.
URL:https://huronshores.ca/event/alzheimer-info-discussion-group-2/2016-09-05/
LOCATION:Ontario
CATEGORIES:Community News
ATTACH;FMTTYPE=image/jpeg:https://huronshores.ca/wp-content/uploads/2013/01/Alzheimers-Disease.jpg
END:VEVENT
BEGIN:VEVENT
DTSTART;TZID=America/Toronto:20160906T140000
DTEND;TZID=America/Toronto:20160906T153000
DTSTAMP:20260425T072458
CREATED:20151021T181815Z
LAST-MODIFIED:20151021T181815Z
UID:10016057-1473170400-1473175800@huronshores.ca
SUMMARY:Alzheimer Info & Discussion Group
DESCRIPTION:The Alzheimer Society of Sault Ste. Marie & Algoma District hosts an Information & Discussion Group on the 2nd Wednesday of each month\, at the Calvary Gospel Church\, 55 Queen Street\, Blind River from 2:00 – 3:30 p.m.  For more information please call Tanya\, First Link Coordinator\, at 705-848-8145.
URL:https://huronshores.ca/event/alzheimer-info-discussion-group-2/2016-09-06/
LOCATION:Ontario
CATEGORIES:Community News
ATTACH;FMTTYPE=image/jpeg:https://huronshores.ca/wp-content/uploads/2013/01/Alzheimers-Disease.jpg
END:VEVENT
BEGIN:VEVENT
DTSTART;TZID=America/Toronto:20160907T140000
DTEND;TZID=America/Toronto:20160907T153000
DTSTAMP:20260425T072458
CREATED:20151021T181815Z
LAST-MODIFIED:20151021T181815Z
UID:10016058-1473256800-1473262200@huronshores.ca
SUMMARY:Alzheimer Info & Discussion Group
DESCRIPTION:The Alzheimer Society of Sault Ste. Marie & Algoma District hosts an Information & Discussion Group on the 2nd Wednesday of each month\, at the Calvary Gospel Church\, 55 Queen Street\, Blind River from 2:00 – 3:30 p.m.  For more information please call Tanya\, First Link Coordinator\, at 705-848-8145.
URL:https://huronshores.ca/event/alzheimer-info-discussion-group-2/2016-09-07/
LOCATION:Ontario
CATEGORIES:Community News
ATTACH;FMTTYPE=image/jpeg:https://huronshores.ca/wp-content/uploads/2013/01/Alzheimers-Disease.jpg
END:VEVENT
BEGIN:VEVENT
DTSTART;TZID=America/Toronto:20160907T193000
DTEND;TZID=America/Toronto:20160907T193000
DTSTAMP:20260425T072458
CREATED:20160721T182330Z
LAST-MODIFIED:20160721T182330Z
UID:10019635-1473276600-1473276600@huronshores.ca
SUMMARY:Jammin' Session at the Thessalon Community Curling Club
DESCRIPTION:Every Wedneday night at 7:30PM\, join us at Thessalon Community Curling Club for our Jammin’ Session. You play an instrument and love to play with other instrumentalists\, or just love to listen to live music\, then come on down…the bar is open! Everyone welcome! Bring a friend!
URL:https://huronshores.ca/event/jammin-session-at-the-thessalon-community-curling-club/2016-09-07/
LOCATION:Ontario
CATEGORIES:Recreation
END:VEVENT
BEGIN:VEVENT
DTSTART;TZID=America/Toronto:20160908T140000
DTEND;TZID=America/Toronto:20160908T153000
DTSTAMP:20260425T072458
CREATED:20151021T181815Z
LAST-MODIFIED:20151021T181815Z
UID:10016059-1473343200-1473348600@huronshores.ca
SUMMARY:Alzheimer Info & Discussion Group
DESCRIPTION:The Alzheimer Society of Sault Ste. Marie & Algoma District hosts an Information & Discussion Group on the 2nd Wednesday of each month\, at the Calvary Gospel Church\, 55 Queen Street\, Blind River from 2:00 – 3:30 p.m.  For more information please call Tanya\, First Link Coordinator\, at 705-848-8145.
URL:https://huronshores.ca/event/alzheimer-info-discussion-group-2/2016-09-08/
LOCATION:Ontario
CATEGORIES:Community News
ATTACH;FMTTYPE=image/jpeg:https://huronshores.ca/wp-content/uploads/2013/01/Alzheimers-Disease.jpg
END:VEVENT
BEGIN:VEVENT
DTSTART;TZID=America/Toronto:20160909T140000
DTEND;TZID=America/Toronto:20160909T153000
DTSTAMP:20260425T072458
CREATED:20151021T181815Z
LAST-MODIFIED:20151021T181815Z
UID:10016060-1473429600-1473435000@huronshores.ca
SUMMARY:Alzheimer Info & Discussion Group
DESCRIPTION:The Alzheimer Society of Sault Ste. Marie & Algoma District hosts an Information & Discussion Group on the 2nd Wednesday of each month\, at the Calvary Gospel Church\, 55 Queen Street\, Blind River from 2:00 – 3:30 p.m.  For more information please call Tanya\, First Link Coordinator\, at 705-848-8145.
URL:https://huronshores.ca/event/alzheimer-info-discussion-group-2/2016-09-09/
LOCATION:Ontario
CATEGORIES:Community News
ATTACH;FMTTYPE=image/jpeg:https://huronshores.ca/wp-content/uploads/2013/01/Alzheimers-Disease.jpg
END:VEVENT
BEGIN:VEVENT
DTSTART;TZID=America/Toronto:20160910T090000
DTEND;TZID=America/Toronto:20160910T140000
DTSTAMP:20260425T072458
CREATED:20160601T181327Z
LAST-MODIFIED:20160601T181327Z
UID:10019600-1473498000-1473516000@huronshores.ca
SUMMARY:Sowerby Farmers' Market
DESCRIPTION:The Farmers’ Market in Sowerby is held every Saturday from 9:00 a.m. to 2:00 p.m.\, June to September\, at the Historic Cordukes/Weber 12-Sided Barn\, 1410 Basswood Lake Road\, just north of the intersection with Highway 17.
URL:https://huronshores.ca/event/sowerby-farmers-market-2/2016-09-10/
LOCATION:Ontario
CATEGORIES:Community News,Farmers' Markets
ATTACH;FMTTYPE=image/jpeg:https://huronshores.ca/wp-content/uploads/2014/02/farmers-market-623x200-1.jpg
END:VEVENT
BEGIN:VEVENT
DTSTART;TZID=America/Toronto:20160910T090000
DTEND;TZID=America/Toronto:20160910T140000
DTSTAMP:20260425T072458
CREATED:20160627T141148Z
LAST-MODIFIED:20160627T141148Z
UID:10019621-1473498000-1473516000@huronshores.ca
SUMMARY:Iron Bridge Farmers' Market
DESCRIPTION:The Iron Bridge Farmers’ Market is held on Saturdays from 9:00 a.m. to 2:00 p.m. in the Gazebo at the Iron Bridge Historical Museum\, 1 James Street (at the intersection with Hwy. 17).  Come out and try our vendors fresh local produce\, mouth-watering baking\, preserves\, and handicrafts.   Take time to browse the museum exhibits depicting the proud pioneer heritage of our area.
URL:https://huronshores.ca/event/iron-bridge-farmers-market/2016-09-10/
LOCATION:Ontario
CATEGORIES:Community News,Farmers' Markets
ATTACH;FMTTYPE=image/jpeg:https://huronshores.ca/wp-content/uploads/2014/02/farmers-market-623x200-1.jpg
END:VEVENT
BEGIN:VEVENT
DTSTART;TZID=America/Toronto:20160910T140000
DTEND;TZID=America/Toronto:20160910T153000
DTSTAMP:20260425T072458
CREATED:20151021T181815Z
LAST-MODIFIED:20151021T181815Z
UID:10016061-1473516000-1473521400@huronshores.ca
SUMMARY:Alzheimer Info & Discussion Group
DESCRIPTION:The Alzheimer Society of Sault Ste. Marie & Algoma District hosts an Information & Discussion Group on the 2nd Wednesday of each month\, at the Calvary Gospel Church\, 55 Queen Street\, Blind River from 2:00 – 3:30 p.m.  For more information please call Tanya\, First Link Coordinator\, at 705-848-8145.
URL:https://huronshores.ca/event/alzheimer-info-discussion-group-2/2016-09-10/
LOCATION:Ontario
CATEGORIES:Community News
ATTACH;FMTTYPE=image/jpeg:https://huronshores.ca/wp-content/uploads/2013/01/Alzheimers-Disease.jpg
END:VEVENT
BEGIN:VEVENT
DTSTART;TZID=America/Toronto:20160911T140000
DTEND;TZID=America/Toronto:20160911T153000
DTSTAMP:20260425T072458
CREATED:20151021T181815Z
LAST-MODIFIED:20151021T181815Z
UID:10016062-1473602400-1473607800@huronshores.ca
SUMMARY:Alzheimer Info & Discussion Group
DESCRIPTION:The Alzheimer Society of Sault Ste. Marie & Algoma District hosts an Information & Discussion Group on the 2nd Wednesday of each month\, at the Calvary Gospel Church\, 55 Queen Street\, Blind River from 2:00 – 3:30 p.m.  For more information please call Tanya\, First Link Coordinator\, at 705-848-8145.
URL:https://huronshores.ca/event/alzheimer-info-discussion-group-2/2016-09-11/
LOCATION:Ontario
CATEGORIES:Community News
ATTACH;FMTTYPE=image/jpeg:https://huronshores.ca/wp-content/uploads/2013/01/Alzheimers-Disease.jpg
END:VEVENT
BEGIN:VEVENT
DTSTART;TZID=America/Toronto:20160912T140000
DTEND;TZID=America/Toronto:20160912T153000
DTSTAMP:20260425T072458
CREATED:20151021T181815Z
LAST-MODIFIED:20151021T181815Z
UID:10016063-1473688800-1473694200@huronshores.ca
SUMMARY:Alzheimer Info & Discussion Group
DESCRIPTION:The Alzheimer Society of Sault Ste. Marie & Algoma District hosts an Information & Discussion Group on the 2nd Wednesday of each month\, at the Calvary Gospel Church\, 55 Queen Street\, Blind River from 2:00 – 3:30 p.m.  For more information please call Tanya\, First Link Coordinator\, at 705-848-8145.
URL:https://huronshores.ca/event/alzheimer-info-discussion-group-2/2016-09-12/
LOCATION:Ontario
CATEGORIES:Community News
ATTACH;FMTTYPE=image/jpeg:https://huronshores.ca/wp-content/uploads/2013/01/Alzheimers-Disease.jpg
END:VEVENT
BEGIN:VEVENT
DTSTART;TZID=America/Toronto:20160913T140000
DTEND;TZID=America/Toronto:20160913T153000
DTSTAMP:20260425T072458
CREATED:20151021T181815Z
LAST-MODIFIED:20151021T181815Z
UID:10016064-1473775200-1473780600@huronshores.ca
SUMMARY:Alzheimer Info & Discussion Group
DESCRIPTION:The Alzheimer Society of Sault Ste. Marie & Algoma District hosts an Information & Discussion Group on the 2nd Wednesday of each month\, at the Calvary Gospel Church\, 55 Queen Street\, Blind River from 2:00 – 3:30 p.m.  For more information please call Tanya\, First Link Coordinator\, at 705-848-8145.
URL:https://huronshores.ca/event/alzheimer-info-discussion-group-2/2016-09-13/
LOCATION:Ontario
CATEGORIES:Community News
ATTACH;FMTTYPE=image/jpeg:https://huronshores.ca/wp-content/uploads/2013/01/Alzheimers-Disease.jpg
END:VEVENT
BEGIN:VEVENT
DTSTART;TZID=America/Toronto:20160914T093000
DTEND;TZID=America/Toronto:20160914T113000
DTSTAMP:20260425T072458
CREATED:20160916T200955Z
LAST-MODIFIED:20160916T200955Z
UID:10019459-1473845400-1473852600@huronshores.ca
SUMMARY:Coffee Time
DESCRIPTION:Join us for “Coffee Time” at Zion United Church\, in the lower level\, from 9:30 -11:30 a.m. on the second and fourth Wednesday of the month.  Enjoy coffee and fellowship.
URL:https://huronshores.ca/event/coffee-time/2016-09-14/
LOCATION:Ontario
CATEGORIES:Community News
ATTACH;FMTTYPE=image/jpeg:https://huronshores.ca/wp-content/uploads/2012/09/coffee_cup_clip_art_154678.jpg
END:VEVENT
BEGIN:VEVENT
DTSTART;TZID=America/Toronto:20160914T140000
DTEND;TZID=America/Toronto:20160914T140000
DTSTAMP:20260425T072458
CREATED:20160908T181006Z
LAST-MODIFIED:20160908T181006Z
UID:10019449-1473861600-1473861600@huronshores.ca
SUMMARY:Alzheimer's Coffee Break Fundraiser
DESCRIPTION:Algoma Manor will host an Alzheimer’s Coffee Break Fundraiser on Wednesday\, September 14/16 at 2:00 p.m.  A piece of pie & coffee is $7.00; a whole pie is $12.00.  Pies available will be cherry\, blueberry\, raisin\, strawberry rhubarb & apple rhubarb.  Call to order pies:  705-842-2840 ext. 120.  All proceeds to benefit the Alzheimer’s Society.
URL:https://huronshores.ca/event/alzheimers-coffee-break-fundraiser/
LOCATION:Ontario
CATEGORIES:Community News
ATTACH;FMTTYPE=image/jpeg:https://huronshores.ca/wp-content/uploads/2013/01/Alzheimers-Disease-2.jpg
END:VEVENT
BEGIN:VEVENT
DTSTART;TZID=America/Toronto:20160914T140000
DTEND;TZID=America/Toronto:20160914T153000
DTSTAMP:20260425T072458
CREATED:20151021T181815Z
LAST-MODIFIED:20151021T181815Z
UID:10016065-1473861600-1473867000@huronshores.ca
SUMMARY:Alzheimer Info & Discussion Group
DESCRIPTION:The Alzheimer Society of Sault Ste. Marie & Algoma District hosts an Information & Discussion Group on the 2nd Wednesday of each month\, at the Calvary Gospel Church\, 55 Queen Street\, Blind River from 2:00 – 3:30 p.m.  For more information please call Tanya\, First Link Coordinator\, at 705-848-8145.
URL:https://huronshores.ca/event/alzheimer-info-discussion-group-2/2016-09-14/
LOCATION:Ontario
CATEGORIES:Community News
ATTACH;FMTTYPE=image/jpeg:https://huronshores.ca/wp-content/uploads/2013/01/Alzheimers-Disease.jpg
END:VEVENT
BEGIN:VEVENT
DTSTART;TZID=America/Toronto:20160914T190000
DTEND;TZID=America/Toronto:20160914T190000
DTSTAMP:20260425T072458
CREATED:20160115T191704Z
LAST-MODIFIED:20160115T191704Z
UID:10019479-1473879600-1473879600@huronshores.ca
SUMMARY:Regular Council Meeting
DESCRIPTION:The Regular Meeting of Council will be held Wednesday\, September 14/16 at 7:00 p.m. in the Council Chambers\, 7 Bridge Street\, Iron Bridge.  The Agenda will be posted on Monday\, September 12/16.
URL:https://huronshores.ca/event/regular-council-meeting-24/
LOCATION:Ontario
CATEGORIES:Council Meeting
ATTACH;FMTTYPE=:
END:VEVENT
BEGIN:VEVENT
DTSTART;TZID=America/Toronto:20160914T193000
DTEND;TZID=America/Toronto:20160914T193000
DTSTAMP:20260425T072458
CREATED:20160721T182330Z
LAST-MODIFIED:20160721T182330Z
UID:10019636-1473881400-1473881400@huronshores.ca
SUMMARY:Jammin' Session at the Thessalon Community Curling Club
DESCRIPTION:Every Wedneday night at 7:30PM\, join us at Thessalon Community Curling Club for our Jammin’ Session. You play an instrument and love to play with other instrumentalists\, or just love to listen to live music\, then come on down…the bar is open! Everyone welcome! Bring a friend!
URL:https://huronshores.ca/event/jammin-session-at-the-thessalon-community-curling-club/2016-09-14/
LOCATION:Ontario
CATEGORIES:Recreation
END:VEVENT
END:VCALENDAR