BEGIN:VCALENDAR
VERSION:2.0
PRODID:-//Huron Shores - ECPv6.15.11//NONSGML v1.0//EN
CALSCALE:GREGORIAN
METHOD:PUBLISH
X-ORIGINAL-URL:https://huronshores.ca
X-WR-CALDESC:Events for Huron Shores
REFRESH-INTERVAL;VALUE=DURATION:PT1H
X-Robots-Tag:noindex
X-PUBLISHED-TTL:PT1H
BEGIN:VTIMEZONE
TZID:America/Toronto
BEGIN:DAYLIGHT
TZOFFSETFROM:-0500
TZOFFSETTO:-0400
TZNAME:EDT
DTSTART:20170312T070000
END:DAYLIGHT
BEGIN:STANDARD
TZOFFSETFROM:-0400
TZOFFSETTO:-0500
TZNAME:EST
DTSTART:20171105T060000
END:STANDARD
BEGIN:DAYLIGHT
TZOFFSETFROM:-0500
TZOFFSETTO:-0400
TZNAME:EDT
DTSTART:20180311T070000
END:DAYLIGHT
BEGIN:STANDARD
TZOFFSETFROM:-0400
TZOFFSETTO:-0500
TZNAME:EST
DTSTART:20181104T060000
END:STANDARD
BEGIN:DAYLIGHT
TZOFFSETFROM:-0500
TZOFFSETTO:-0400
TZNAME:EDT
DTSTART:20190310T070000
END:DAYLIGHT
BEGIN:STANDARD
TZOFFSETFROM:-0400
TZOFFSETTO:-0500
TZNAME:EST
DTSTART:20191103T060000
END:STANDARD
END:VTIMEZONE
BEGIN:VEVENT
DTSTART;TZID=America/Toronto:20180830T180000
DTEND;TZID=America/Toronto:20180830T190000
DTSTAMP:20260423T054527
CREATED:20180820T124956Z
LAST-MODIFIED:20180820T124956Z
UID:10020964-1535652000-1535655600@huronshores.ca
SUMMARY:Iron Bridge Recreation Family Walking Group
DESCRIPTION:Every Thursday beginning on August 9\, 2018 from 6:00-7:00 pm at the Iron Bridge Recreation Centre.  Hosted by the Iron Bridge Recreation Committee. \nFee by donation. Families are all welcomed to come! There will be toys for children to play with\, or they can join the walking group. There will be fitness tracker sheets available; a prize will be awarded for the most active participant. \nBenefits of walking:\nEvery minute of walking can extend your life by 1.5-2 minutes.\nIncreases physical activity.\nLowers obesity rates.\nLower risk of chronic diseases such as diabetes\, stroke and heart disease.\nReduces stress and depression.
URL:https://huronshores.ca/event/iron-bridge-recreation-family-walking-group/2018-08-30/
LOCATION:Ontario
CATEGORIES:Recreation
END:VEVENT
BEGIN:VEVENT
DTSTART;TZID=America/Toronto:20180831T140000
DTEND;TZID=America/Toronto:20180831T153000
DTSTAMP:20260423T054527
CREATED:20151021T181815Z
LAST-MODIFIED:20151021T181815Z
UID:10016782-1535724000-1535729400@huronshores.ca
SUMMARY:Alzheimer Info & Discussion Group
DESCRIPTION:The Alzheimer Society of Sault Ste. Marie & Algoma District hosts an Information & Discussion Group on the 2nd Wednesday of each month\, at the Calvary Gospel Church\, 55 Queen Street\, Blind River from 2:00 – 3:30 p.m.  For more information please call Tanya\, First Link Coordinator\, at 705-848-8145.
URL:https://huronshores.ca/event/alzheimer-info-discussion-group-2/2018-08-31/
LOCATION:Ontario
CATEGORIES:Community News
ATTACH;FMTTYPE=image/jpeg:https://huronshores.ca/wp-content/uploads/2013/01/Alzheimers-Disease.jpg
END:VEVENT
BEGIN:VEVENT
DTSTART;VALUE=DATE:20180901
DTEND;VALUE=DATE:20180902
DTSTAMP:20260423T054527
CREATED:20171129T202344Z
LAST-MODIFIED:20171129T202344Z
UID:10020419-1535760000-1535846399@huronshores.ca
SUMMARY:Iron Bridge Fall Fair
DESCRIPTION:The Iron Bridge Agricultural Society’s Fall Fair is Saturday\, September 1/18.  Watch for details!
URL:https://huronshores.ca/event/iron-bridge-fall-fair-4/
LOCATION:Ontario
CATEGORIES:Community News,Local Food
ATTACH;FMTTYPE=image/gif:https://huronshores.ca/wp-content/uploads/2013/08/Fall-Fair.gif
END:VEVENT
BEGIN:VEVENT
DTSTART;TZID=America/Toronto:20180901T090000
DTEND;TZID=America/Toronto:20180901T140000
DTSTAMP:20260423T054527
CREATED:20180109T194134Z
LAST-MODIFIED:20180109T194134Z
UID:10020501-1535792400-1535810400@huronshores.ca
SUMMARY:Sowerby Farmers' Market
DESCRIPTION:The Farmers’ Market is held on Saturdays from 9:00 a.m. to 2:00 p.m. from mid-June to October at the Historic Cordukes/Weber 12-Sided Barn located at 1410 Basswood Lake Rd.\, just north of the intersection with Highway 17 in Sowerby.
URL:https://huronshores.ca/event/sowerby-farmers-market-4/2018-09-01/
LOCATION:Ontario
CATEGORIES:Community News,Local Food
ATTACH;FMTTYPE=image/jpeg:https://huronshores.ca/wp-content/uploads/2011/08/Historic-Cordukes-Weber-12-Sided-Barn-Sign1.jpg
END:VEVENT
BEGIN:VEVENT
DTSTART;TZID=America/Toronto:20180901T090000
DTEND;TZID=America/Toronto:20180901T140000
DTSTAMP:20260423T054527
CREATED:20180109T194634Z
LAST-MODIFIED:20180109T194634Z
UID:10020516-1535792400-1535810400@huronshores.ca
SUMMARY:Iron Bridge Farmers' Market
DESCRIPTION:The Iron Bridge Farmers’ Market is open on Saturdays\, 9:00 a.m. – 2:00 p.m.\, from the end of June to mid-September at the Gazebo at the Iron Bridge Historical Museum\, 1 James Street.
URL:https://huronshores.ca/event/iron-bridge-farmers-market-3/2018-09-01/
LOCATION:Ontario
CATEGORIES:Community News,Local Food
ATTACH;FMTTYPE=image/jpeg:https://huronshores.ca/wp-content/uploads/2013/12/Farmers-Market-Produce.jpg
END:VEVENT
BEGIN:VEVENT
DTSTART;TZID=America/Toronto:20180901T140000
DTEND;TZID=America/Toronto:20180901T153000
DTSTAMP:20260423T054527
CREATED:20151021T181815Z
LAST-MODIFIED:20151021T181815Z
UID:10016783-1535810400-1535815800@huronshores.ca
SUMMARY:Alzheimer Info & Discussion Group
DESCRIPTION:The Alzheimer Society of Sault Ste. Marie & Algoma District hosts an Information & Discussion Group on the 2nd Wednesday of each month\, at the Calvary Gospel Church\, 55 Queen Street\, Blind River from 2:00 – 3:30 p.m.  For more information please call Tanya\, First Link Coordinator\, at 705-848-8145.
URL:https://huronshores.ca/event/alzheimer-info-discussion-group-2/2018-09-01/
LOCATION:Ontario
CATEGORIES:Community News
ATTACH;FMTTYPE=image/jpeg:https://huronshores.ca/wp-content/uploads/2013/01/Alzheimers-Disease.jpg
END:VEVENT
BEGIN:VEVENT
DTSTART;TZID=America/Toronto:20180902T140000
DTEND;TZID=America/Toronto:20180902T153000
DTSTAMP:20260423T054527
CREATED:20151021T181815Z
LAST-MODIFIED:20151021T181815Z
UID:10016784-1535896800-1535902200@huronshores.ca
SUMMARY:Alzheimer Info & Discussion Group
DESCRIPTION:The Alzheimer Society of Sault Ste. Marie & Algoma District hosts an Information & Discussion Group on the 2nd Wednesday of each month\, at the Calvary Gospel Church\, 55 Queen Street\, Blind River from 2:00 – 3:30 p.m.  For more information please call Tanya\, First Link Coordinator\, at 705-848-8145.
URL:https://huronshores.ca/event/alzheimer-info-discussion-group-2/2018-09-02/
LOCATION:Ontario
CATEGORIES:Community News
ATTACH;FMTTYPE=image/jpeg:https://huronshores.ca/wp-content/uploads/2013/01/Alzheimers-Disease.jpg
END:VEVENT
BEGIN:VEVENT
DTSTART;VALUE=DATE:20180903
DTEND;VALUE=DATE:20180904
DTSTAMP:20260423T054527
CREATED:20171129T202007Z
LAST-MODIFIED:20171129T202007Z
UID:10020416-1535932800-1536019199@huronshores.ca
SUMMARY:Labour Day
DESCRIPTION:The Municipal Office and all Waste Sites will be CLOSED for the Labour Day holiday Monday.  The Office will re-open on Tuesday\, September 4/18 at 8:30 a.m.; the Waste Sites on Wednesday\, September 5/18 at 4:00 p.m.  Happy Labour Day weekend from Council and staff of Huron Shores!
URL:https://huronshores.ca/event/labour-day-4/
LOCATION:Ontario
CATEGORIES:Community News,Office Closure,Waste Disposal
ATTACH;FMTTYPE=image/png:https://huronshores.ca/wp-content/uploads/2015/07/Happy-Labour-Day.png
END:VEVENT
BEGIN:VEVENT
DTSTART;TZID=America/Toronto:20180903T140000
DTEND;TZID=America/Toronto:20180903T153000
DTSTAMP:20260423T054527
CREATED:20151021T181815Z
LAST-MODIFIED:20151021T181815Z
UID:10016785-1535983200-1535988600@huronshores.ca
SUMMARY:Alzheimer Info & Discussion Group
DESCRIPTION:The Alzheimer Society of Sault Ste. Marie & Algoma District hosts an Information & Discussion Group on the 2nd Wednesday of each month\, at the Calvary Gospel Church\, 55 Queen Street\, Blind River from 2:00 – 3:30 p.m.  For more information please call Tanya\, First Link Coordinator\, at 705-848-8145.
URL:https://huronshores.ca/event/alzheimer-info-discussion-group-2/2018-09-03/
LOCATION:Ontario
CATEGORIES:Community News
ATTACH;FMTTYPE=image/jpeg:https://huronshores.ca/wp-content/uploads/2013/01/Alzheimers-Disease.jpg
END:VEVENT
BEGIN:VEVENT
DTSTART;TZID=America/Toronto:20180904T140000
DTEND;TZID=America/Toronto:20180904T153000
DTSTAMP:20260423T054527
CREATED:20151021T181815Z
LAST-MODIFIED:20151021T181815Z
UID:10016786-1536069600-1536075000@huronshores.ca
SUMMARY:Alzheimer Info & Discussion Group
DESCRIPTION:The Alzheimer Society of Sault Ste. Marie & Algoma District hosts an Information & Discussion Group on the 2nd Wednesday of each month\, at the Calvary Gospel Church\, 55 Queen Street\, Blind River from 2:00 – 3:30 p.m.  For more information please call Tanya\, First Link Coordinator\, at 705-848-8145.
URL:https://huronshores.ca/event/alzheimer-info-discussion-group-2/2018-09-04/
LOCATION:Ontario
CATEGORIES:Community News
ATTACH;FMTTYPE=image/jpeg:https://huronshores.ca/wp-content/uploads/2013/01/Alzheimers-Disease.jpg
END:VEVENT
BEGIN:VEVENT
DTSTART;TZID=America/Toronto:20180905T140000
DTEND;TZID=America/Toronto:20180905T153000
DTSTAMP:20260423T054527
CREATED:20151021T181815Z
LAST-MODIFIED:20151021T181815Z
UID:10016787-1536156000-1536161400@huronshores.ca
SUMMARY:Alzheimer Info & Discussion Group
DESCRIPTION:The Alzheimer Society of Sault Ste. Marie & Algoma District hosts an Information & Discussion Group on the 2nd Wednesday of each month\, at the Calvary Gospel Church\, 55 Queen Street\, Blind River from 2:00 – 3:30 p.m.  For more information please call Tanya\, First Link Coordinator\, at 705-848-8145.
URL:https://huronshores.ca/event/alzheimer-info-discussion-group-2/2018-09-05/
LOCATION:Ontario
CATEGORIES:Community News
ATTACH;FMTTYPE=image/jpeg:https://huronshores.ca/wp-content/uploads/2013/01/Alzheimers-Disease.jpg
END:VEVENT
BEGIN:VEVENT
DTSTART;TZID=America/Toronto:20180905T190000
DTEND;TZID=America/Toronto:20180905T200000
DTSTAMP:20260423T054527
CREATED:20180820T124008Z
LAST-MODIFIED:20180820T124008Z
UID:10020597-1536174000-1536177600@huronshores.ca
SUMMARY:Rollerblade Ball Hockey
DESCRIPTION:Begins on August 1st\, 2018 and runs every Wednesday night at 7:00 pm.  Kids of all ages welcome! Hosted by the Iron Bridge Recreation Committee. \nAdmission: $2/kid; Note: Must have knee and elbow pads and a helmet.
URL:https://huronshores.ca/event/rollerblade-ball-hockey/2018-09-05/
LOCATION:Ontario
CATEGORIES:Recreation
END:VEVENT
BEGIN:VEVENT
DTSTART;TZID=America/Toronto:20180905T193000
DTEND;TZID=America/Toronto:20180905T193000
DTSTAMP:20260423T054527
CREATED:20160721T182330Z
LAST-MODIFIED:20160721T182330Z
UID:10019739-1536175800-1536175800@huronshores.ca
SUMMARY:Jammin' Session at the Thessalon Community Curling Club
DESCRIPTION:Every Wedneday night at 7:30PM\, join us at Thessalon Community Curling Club for our Jammin’ Session. You play an instrument and love to play with other instrumentalists\, or just love to listen to live music\, then come on down…the bar is open! Everyone welcome! Bring a friend!
URL:https://huronshores.ca/event/jammin-session-at-the-thessalon-community-curling-club/2018-09-05/
LOCATION:Ontario
CATEGORIES:Recreation
END:VEVENT
BEGIN:VEVENT
DTSTART;TZID=America/Toronto:20180906T140000
DTEND;TZID=America/Toronto:20180906T153000
DTSTAMP:20260423T054527
CREATED:20151021T181815Z
LAST-MODIFIED:20151021T181815Z
UID:10016788-1536242400-1536247800@huronshores.ca
SUMMARY:Alzheimer Info & Discussion Group
DESCRIPTION:The Alzheimer Society of Sault Ste. Marie & Algoma District hosts an Information & Discussion Group on the 2nd Wednesday of each month\, at the Calvary Gospel Church\, 55 Queen Street\, Blind River from 2:00 – 3:30 p.m.  For more information please call Tanya\, First Link Coordinator\, at 705-848-8145.
URL:https://huronshores.ca/event/alzheimer-info-discussion-group-2/2018-09-06/
LOCATION:Ontario
CATEGORIES:Community News
ATTACH;FMTTYPE=image/jpeg:https://huronshores.ca/wp-content/uploads/2013/01/Alzheimers-Disease.jpg
END:VEVENT
BEGIN:VEVENT
DTSTART;TZID=America/Toronto:20180906T180000
DTEND;TZID=America/Toronto:20180906T190000
DTSTAMP:20260423T054527
CREATED:20180820T124956Z
LAST-MODIFIED:20180820T124956Z
UID:10020965-1536256800-1536260400@huronshores.ca
SUMMARY:Iron Bridge Recreation Family Walking Group
DESCRIPTION:Every Thursday beginning on August 9\, 2018 from 6:00-7:00 pm at the Iron Bridge Recreation Centre.  Hosted by the Iron Bridge Recreation Committee. \nFee by donation. Families are all welcomed to come! There will be toys for children to play with\, or they can join the walking group. There will be fitness tracker sheets available; a prize will be awarded for the most active participant. \nBenefits of walking:\nEvery minute of walking can extend your life by 1.5-2 minutes.\nIncreases physical activity.\nLowers obesity rates.\nLower risk of chronic diseases such as diabetes\, stroke and heart disease.\nReduces stress and depression.
URL:https://huronshores.ca/event/iron-bridge-recreation-family-walking-group/2018-09-06/
LOCATION:Ontario
CATEGORIES:Recreation
END:VEVENT
BEGIN:VEVENT
DTSTART;TZID=America/Toronto:20180907T140000
DTEND;TZID=America/Toronto:20180907T153000
DTSTAMP:20260423T054527
CREATED:20151021T181815Z
LAST-MODIFIED:20151021T181815Z
UID:10016789-1536328800-1536334200@huronshores.ca
SUMMARY:Alzheimer Info & Discussion Group
DESCRIPTION:The Alzheimer Society of Sault Ste. Marie & Algoma District hosts an Information & Discussion Group on the 2nd Wednesday of each month\, at the Calvary Gospel Church\, 55 Queen Street\, Blind River from 2:00 – 3:30 p.m.  For more information please call Tanya\, First Link Coordinator\, at 705-848-8145.
URL:https://huronshores.ca/event/alzheimer-info-discussion-group-2/2018-09-07/
LOCATION:Ontario
CATEGORIES:Community News
ATTACH;FMTTYPE=image/jpeg:https://huronshores.ca/wp-content/uploads/2013/01/Alzheimers-Disease.jpg
END:VEVENT
BEGIN:VEVENT
DTSTART;TZID=America/Toronto:20180908T090000
DTEND;TZID=America/Toronto:20180908T140000
DTSTAMP:20260423T054527
CREATED:20180109T194134Z
LAST-MODIFIED:20180109T194134Z
UID:10020502-1536397200-1536415200@huronshores.ca
SUMMARY:Sowerby Farmers' Market
DESCRIPTION:The Farmers’ Market is held on Saturdays from 9:00 a.m. to 2:00 p.m. from mid-June to October at the Historic Cordukes/Weber 12-Sided Barn located at 1410 Basswood Lake Rd.\, just north of the intersection with Highway 17 in Sowerby.
URL:https://huronshores.ca/event/sowerby-farmers-market-4/2018-09-08/
LOCATION:Ontario
CATEGORIES:Community News,Local Food
ATTACH;FMTTYPE=image/jpeg:https://huronshores.ca/wp-content/uploads/2011/08/Historic-Cordukes-Weber-12-Sided-Barn-Sign1.jpg
END:VEVENT
BEGIN:VEVENT
DTSTART;TZID=America/Toronto:20180908T090000
DTEND;TZID=America/Toronto:20180908T140000
DTSTAMP:20260423T054527
CREATED:20180109T194634Z
LAST-MODIFIED:20180109T194634Z
UID:10020517-1536397200-1536415200@huronshores.ca
SUMMARY:Iron Bridge Farmers' Market
DESCRIPTION:The Iron Bridge Farmers’ Market is open on Saturdays\, 9:00 a.m. – 2:00 p.m.\, from the end of June to mid-September at the Gazebo at the Iron Bridge Historical Museum\, 1 James Street.
URL:https://huronshores.ca/event/iron-bridge-farmers-market-3/2018-09-08/
LOCATION:Ontario
CATEGORIES:Community News,Local Food
ATTACH;FMTTYPE=image/jpeg:https://huronshores.ca/wp-content/uploads/2013/12/Farmers-Market-Produce.jpg
END:VEVENT
BEGIN:VEVENT
DTSTART;TZID=America/Toronto:20180908T093000
DTEND;TZID=America/Toronto:20180908T093000
DTSTAMP:20260423T054527
CREATED:20180904T174104Z
LAST-MODIFIED:20180904T174104Z
UID:10020069-1536399000-1536399000@huronshores.ca
SUMMARY:Obstacle Run
DESCRIPTION:
URL:https://huronshores.ca/event/obstacle-run/
LOCATION:Ontario
CATEGORIES:Community News,Recreation
ATTACH;FMTTYPE=image/jpeg:https://huronshores.ca/wp-content/uploads/2018/09/OBSTACLE-FACEBOOK-ENGLISH-final.jpg
END:VEVENT
BEGIN:VEVENT
DTSTART;TZID=America/Toronto:20180908T140000
DTEND;TZID=America/Toronto:20180908T153000
DTSTAMP:20260423T054527
CREATED:20151021T181815Z
LAST-MODIFIED:20151021T181815Z
UID:10016790-1536415200-1536420600@huronshores.ca
SUMMARY:Alzheimer Info & Discussion Group
DESCRIPTION:The Alzheimer Society of Sault Ste. Marie & Algoma District hosts an Information & Discussion Group on the 2nd Wednesday of each month\, at the Calvary Gospel Church\, 55 Queen Street\, Blind River from 2:00 – 3:30 p.m.  For more information please call Tanya\, First Link Coordinator\, at 705-848-8145.
URL:https://huronshores.ca/event/alzheimer-info-discussion-group-2/2018-09-08/
LOCATION:Ontario
CATEGORIES:Community News
ATTACH;FMTTYPE=image/jpeg:https://huronshores.ca/wp-content/uploads/2013/01/Alzheimers-Disease.jpg
END:VEVENT
BEGIN:VEVENT
DTSTART;TZID=America/Toronto:20180909T140000
DTEND;TZID=America/Toronto:20180909T153000
DTSTAMP:20260423T054528
CREATED:20151021T181815Z
LAST-MODIFIED:20151021T181815Z
UID:10016791-1536501600-1536507000@huronshores.ca
SUMMARY:Alzheimer Info & Discussion Group
DESCRIPTION:The Alzheimer Society of Sault Ste. Marie & Algoma District hosts an Information & Discussion Group on the 2nd Wednesday of each month\, at the Calvary Gospel Church\, 55 Queen Street\, Blind River from 2:00 – 3:30 p.m.  For more information please call Tanya\, First Link Coordinator\, at 705-848-8145.
URL:https://huronshores.ca/event/alzheimer-info-discussion-group-2/2018-09-09/
LOCATION:Ontario
CATEGORIES:Community News
ATTACH;FMTTYPE=image/jpeg:https://huronshores.ca/wp-content/uploads/2013/01/Alzheimers-Disease.jpg
END:VEVENT
BEGIN:VEVENT
DTSTART;TZID=America/Toronto:20180910T140000
DTEND;TZID=America/Toronto:20180910T153000
DTSTAMP:20260423T054528
CREATED:20151021T181815Z
LAST-MODIFIED:20151021T181815Z
UID:10016792-1536588000-1536593400@huronshores.ca
SUMMARY:Alzheimer Info & Discussion Group
DESCRIPTION:The Alzheimer Society of Sault Ste. Marie & Algoma District hosts an Information & Discussion Group on the 2nd Wednesday of each month\, at the Calvary Gospel Church\, 55 Queen Street\, Blind River from 2:00 – 3:30 p.m.  For more information please call Tanya\, First Link Coordinator\, at 705-848-8145.
URL:https://huronshores.ca/event/alzheimer-info-discussion-group-2/2018-09-10/
LOCATION:Ontario
CATEGORIES:Community News
ATTACH;FMTTYPE=image/jpeg:https://huronshores.ca/wp-content/uploads/2013/01/Alzheimers-Disease.jpg
END:VEVENT
BEGIN:VEVENT
DTSTART;TZID=America/Toronto:20180911T140000
DTEND;TZID=America/Toronto:20180911T153000
DTSTAMP:20260423T054528
CREATED:20151021T181815Z
LAST-MODIFIED:20151021T181815Z
UID:10016793-1536674400-1536679800@huronshores.ca
SUMMARY:Alzheimer Info & Discussion Group
DESCRIPTION:The Alzheimer Society of Sault Ste. Marie & Algoma District hosts an Information & Discussion Group on the 2nd Wednesday of each month\, at the Calvary Gospel Church\, 55 Queen Street\, Blind River from 2:00 – 3:30 p.m.  For more information please call Tanya\, First Link Coordinator\, at 705-848-8145.
URL:https://huronshores.ca/event/alzheimer-info-discussion-group-2/2018-09-11/
LOCATION:Ontario
CATEGORIES:Community News
ATTACH;FMTTYPE=image/jpeg:https://huronshores.ca/wp-content/uploads/2013/01/Alzheimers-Disease.jpg
END:VEVENT
BEGIN:VEVENT
DTSTART;TZID=America/Toronto:20180912T140000
DTEND;TZID=America/Toronto:20180912T153000
DTSTAMP:20260423T054528
CREATED:20151021T181815Z
LAST-MODIFIED:20151021T181815Z
UID:10016794-1536760800-1536766200@huronshores.ca
SUMMARY:Alzheimer Info & Discussion Group
DESCRIPTION:The Alzheimer Society of Sault Ste. Marie & Algoma District hosts an Information & Discussion Group on the 2nd Wednesday of each month\, at the Calvary Gospel Church\, 55 Queen Street\, Blind River from 2:00 – 3:30 p.m.  For more information please call Tanya\, First Link Coordinator\, at 705-848-8145.
URL:https://huronshores.ca/event/alzheimer-info-discussion-group-2/2018-09-12/
LOCATION:Ontario
CATEGORIES:Community News
ATTACH;FMTTYPE=image/jpeg:https://huronshores.ca/wp-content/uploads/2013/01/Alzheimers-Disease.jpg
END:VEVENT
BEGIN:VEVENT
DTSTART;TZID=America/Toronto:20180912T190000
DTEND;TZID=America/Toronto:20180912T200000
DTSTAMP:20260423T054528
CREATED:20180820T124008Z
LAST-MODIFIED:20180820T124008Z
UID:10020598-1536778800-1536782400@huronshores.ca
SUMMARY:Rollerblade Ball Hockey
DESCRIPTION:Begins on August 1st\, 2018 and runs every Wednesday night at 7:00 pm.  Kids of all ages welcome! Hosted by the Iron Bridge Recreation Committee. \nAdmission: $2/kid; Note: Must have knee and elbow pads and a helmet.
URL:https://huronshores.ca/event/rollerblade-ball-hockey/2018-09-12/
LOCATION:Ontario
CATEGORIES:Recreation
END:VEVENT
BEGIN:VEVENT
DTSTART;TZID=America/Toronto:20180912T193000
DTEND;TZID=America/Toronto:20180912T193000
DTSTAMP:20260423T054528
CREATED:20160721T182330Z
LAST-MODIFIED:20160721T182330Z
UID:10019740-1536780600-1536780600@huronshores.ca
SUMMARY:Jammin' Session at the Thessalon Community Curling Club
DESCRIPTION:Every Wedneday night at 7:30PM\, join us at Thessalon Community Curling Club for our Jammin’ Session. You play an instrument and love to play with other instrumentalists\, or just love to listen to live music\, then come on down…the bar is open! Everyone welcome! Bring a friend!
URL:https://huronshores.ca/event/jammin-session-at-the-thessalon-community-curling-club/2018-09-12/
LOCATION:Ontario
CATEGORIES:Recreation
END:VEVENT
BEGIN:VEVENT
DTSTART;TZID=America/Toronto:20180913T140000
DTEND;TZID=America/Toronto:20180913T153000
DTSTAMP:20260423T054528
CREATED:20151021T181815Z
LAST-MODIFIED:20151021T181815Z
UID:10016795-1536847200-1536852600@huronshores.ca
SUMMARY:Alzheimer Info & Discussion Group
DESCRIPTION:The Alzheimer Society of Sault Ste. Marie & Algoma District hosts an Information & Discussion Group on the 2nd Wednesday of each month\, at the Calvary Gospel Church\, 55 Queen Street\, Blind River from 2:00 – 3:30 p.m.  For more information please call Tanya\, First Link Coordinator\, at 705-848-8145.
URL:https://huronshores.ca/event/alzheimer-info-discussion-group-2/2018-09-13/
LOCATION:Ontario
CATEGORIES:Community News
ATTACH;FMTTYPE=image/jpeg:https://huronshores.ca/wp-content/uploads/2013/01/Alzheimers-Disease.jpg
END:VEVENT
BEGIN:VEVENT
DTSTART;TZID=America/Toronto:20180913T180000
DTEND;TZID=America/Toronto:20180913T190000
DTSTAMP:20260423T054528
CREATED:20180820T124956Z
LAST-MODIFIED:20180820T124956Z
UID:10020966-1536861600-1536865200@huronshores.ca
SUMMARY:Iron Bridge Recreation Family Walking Group
DESCRIPTION:Every Thursday beginning on August 9\, 2018 from 6:00-7:00 pm at the Iron Bridge Recreation Centre.  Hosted by the Iron Bridge Recreation Committee. \nFee by donation. Families are all welcomed to come! There will be toys for children to play with\, or they can join the walking group. There will be fitness tracker sheets available; a prize will be awarded for the most active participant. \nBenefits of walking:\nEvery minute of walking can extend your life by 1.5-2 minutes.\nIncreases physical activity.\nLowers obesity rates.\nLower risk of chronic diseases such as diabetes\, stroke and heart disease.\nReduces stress and depression.
URL:https://huronshores.ca/event/iron-bridge-recreation-family-walking-group/2018-09-13/
LOCATION:Ontario
CATEGORIES:Recreation
END:VEVENT
BEGIN:VEVENT
DTSTART;TZID=America/Toronto:20180914T140000
DTEND;TZID=America/Toronto:20180914T153000
DTSTAMP:20260423T054528
CREATED:20151021T181815Z
LAST-MODIFIED:20151021T181815Z
UID:10016796-1536933600-1536939000@huronshores.ca
SUMMARY:Alzheimer Info & Discussion Group
DESCRIPTION:The Alzheimer Society of Sault Ste. Marie & Algoma District hosts an Information & Discussion Group on the 2nd Wednesday of each month\, at the Calvary Gospel Church\, 55 Queen Street\, Blind River from 2:00 – 3:30 p.m.  For more information please call Tanya\, First Link Coordinator\, at 705-848-8145.
URL:https://huronshores.ca/event/alzheimer-info-discussion-group-2/2018-09-14/
LOCATION:Ontario
CATEGORIES:Community News
ATTACH;FMTTYPE=image/jpeg:https://huronshores.ca/wp-content/uploads/2013/01/Alzheimers-Disease.jpg
END:VEVENT
BEGIN:VEVENT
DTSTART;TZID=America/Toronto:20180915T090000
DTEND;TZID=America/Toronto:20180915T140000
DTSTAMP:20260423T054528
CREATED:20180109T194134Z
LAST-MODIFIED:20180109T194134Z
UID:10020503-1537002000-1537020000@huronshores.ca
SUMMARY:Sowerby Farmers' Market
DESCRIPTION:The Farmers’ Market is held on Saturdays from 9:00 a.m. to 2:00 p.m. from mid-June to October at the Historic Cordukes/Weber 12-Sided Barn located at 1410 Basswood Lake Rd.\, just north of the intersection with Highway 17 in Sowerby.
URL:https://huronshores.ca/event/sowerby-farmers-market-4/2018-09-15/
LOCATION:Ontario
CATEGORIES:Community News,Local Food
ATTACH;FMTTYPE=image/jpeg:https://huronshores.ca/wp-content/uploads/2011/08/Historic-Cordukes-Weber-12-Sided-Barn-Sign1.jpg
END:VEVENT
END:VCALENDAR