BEGIN:VCALENDAR
VERSION:2.0
PRODID:-//Huron Shores - ECPv6.15.11//NONSGML v1.0//EN
CALSCALE:GREGORIAN
METHOD:PUBLISH
X-WR-CALNAME:Huron Shores
X-ORIGINAL-URL:https://huronshores.ca
X-WR-CALDESC:Events for Huron Shores
REFRESH-INTERVAL;VALUE=DURATION:PT1H
X-Robots-Tag:noindex
X-PUBLISHED-TTL:PT1H
BEGIN:VTIMEZONE
TZID:America/Toronto
BEGIN:DAYLIGHT
TZOFFSETFROM:-0500
TZOFFSETTO:-0400
TZNAME:EDT
DTSTART:20150308T070000
END:DAYLIGHT
BEGIN:STANDARD
TZOFFSETFROM:-0400
TZOFFSETTO:-0500
TZNAME:EST
DTSTART:20151101T060000
END:STANDARD
BEGIN:DAYLIGHT
TZOFFSETFROM:-0500
TZOFFSETTO:-0400
TZNAME:EDT
DTSTART:20160313T070000
END:DAYLIGHT
BEGIN:STANDARD
TZOFFSETFROM:-0400
TZOFFSETTO:-0500
TZNAME:EST
DTSTART:20161106T060000
END:STANDARD
BEGIN:DAYLIGHT
TZOFFSETFROM:-0500
TZOFFSETTO:-0400
TZNAME:EDT
DTSTART:20170312T070000
END:DAYLIGHT
BEGIN:STANDARD
TZOFFSETFROM:-0400
TZOFFSETTO:-0500
TZNAME:EST
DTSTART:20171105T060000
END:STANDARD
END:VTIMEZONE
BEGIN:VEVENT
DTSTART;TZID=America/Toronto:20160521T140000
DTEND;TZID=America/Toronto:20160521T153000
DTSTAMP:20260425T125606
CREATED:20151021T181815Z
LAST-MODIFIED:20151021T181815Z
UID:10015949-1463839200-1463844600@huronshores.ca
SUMMARY:Alzheimer Info & Discussion Group
DESCRIPTION:The Alzheimer Society of Sault Ste. Marie & Algoma District hosts an Information & Discussion Group on the 2nd Wednesday of each month\, at the Calvary Gospel Church\, 55 Queen Street\, Blind River from 2:00 – 3:30 p.m.  For more information please call Tanya\, First Link Coordinator\, at 705-848-8145.
URL:https://huronshores.ca/event/alzheimer-info-discussion-group-2/2016-05-21/
LOCATION:Ontario
CATEGORIES:Community News
ATTACH;FMTTYPE=image/jpeg:https://huronshores.ca/wp-content/uploads/2013/01/Alzheimers-Disease.jpg
END:VEVENT
BEGIN:VEVENT
DTSTART;TZID=America/Toronto:20160522T140000
DTEND;TZID=America/Toronto:20160522T153000
DTSTAMP:20260425T125606
CREATED:20151021T181815Z
LAST-MODIFIED:20151021T181815Z
UID:10015950-1463925600-1463931000@huronshores.ca
SUMMARY:Alzheimer Info & Discussion Group
DESCRIPTION:The Alzheimer Society of Sault Ste. Marie & Algoma District hosts an Information & Discussion Group on the 2nd Wednesday of each month\, at the Calvary Gospel Church\, 55 Queen Street\, Blind River from 2:00 – 3:30 p.m.  For more information please call Tanya\, First Link Coordinator\, at 705-848-8145.
URL:https://huronshores.ca/event/alzheimer-info-discussion-group-2/2016-05-22/
LOCATION:Ontario
CATEGORIES:Community News
ATTACH;FMTTYPE=image/jpeg:https://huronshores.ca/wp-content/uploads/2013/01/Alzheimers-Disease.jpg
END:VEVENT
BEGIN:VEVENT
DTSTART;VALUE=DATE:20160523
DTEND;VALUE=DATE:20160524
DTSTAMP:20260425T125606
CREATED:20160115T153335Z
LAST-MODIFIED:20160115T153335Z
UID:10019465-1463961600-1464047999@huronshores.ca
SUMMARY:Victoria Day
DESCRIPTION:The Municipal Office and All Waste Sites are CLOSED.  The Office will re-open on Tuesday\, April 24/16 at 8:30 a.m.  Happy Victoria Day from Council & Staff of Huron Shores!  Enjoy the first long weekend of summer.
URL:https://huronshores.ca/event/victoria-day/
LOCATION:Ontario
CATEGORIES:Community News
ATTACH;FMTTYPE=image/jpeg:https://huronshores.ca/wp-content/uploads/2015/05/Victoria-Day-2015-clip-Art.jpg
END:VEVENT
BEGIN:VEVENT
DTSTART;TZID=America/Toronto:20160523T140000
DTEND;TZID=America/Toronto:20160523T153000
DTSTAMP:20260425T125606
CREATED:20151021T181815Z
LAST-MODIFIED:20151021T181815Z
UID:10015951-1464012000-1464017400@huronshores.ca
SUMMARY:Alzheimer Info & Discussion Group
DESCRIPTION:The Alzheimer Society of Sault Ste. Marie & Algoma District hosts an Information & Discussion Group on the 2nd Wednesday of each month\, at the Calvary Gospel Church\, 55 Queen Street\, Blind River from 2:00 – 3:30 p.m.  For more information please call Tanya\, First Link Coordinator\, at 705-848-8145.
URL:https://huronshores.ca/event/alzheimer-info-discussion-group-2/2016-05-23/
LOCATION:Ontario
CATEGORIES:Community News
ATTACH;FMTTYPE=image/jpeg:https://huronshores.ca/wp-content/uploads/2013/01/Alzheimers-Disease.jpg
END:VEVENT
BEGIN:VEVENT
DTSTART;TZID=America/Toronto:20160524T140000
DTEND;TZID=America/Toronto:20160524T153000
DTSTAMP:20260425T125606
CREATED:20151021T181815Z
LAST-MODIFIED:20151021T181815Z
UID:10015952-1464098400-1464103800@huronshores.ca
SUMMARY:Alzheimer Info & Discussion Group
DESCRIPTION:The Alzheimer Society of Sault Ste. Marie & Algoma District hosts an Information & Discussion Group on the 2nd Wednesday of each month\, at the Calvary Gospel Church\, 55 Queen Street\, Blind River from 2:00 – 3:30 p.m.  For more information please call Tanya\, First Link Coordinator\, at 705-848-8145.
URL:https://huronshores.ca/event/alzheimer-info-discussion-group-2/2016-05-24/
LOCATION:Ontario
CATEGORIES:Community News
ATTACH;FMTTYPE=image/jpeg:https://huronshores.ca/wp-content/uploads/2013/01/Alzheimers-Disease.jpg
END:VEVENT
BEGIN:VEVENT
DTSTART;TZID=America/Toronto:20160524T190000
DTEND;TZID=America/Toronto:20160524T203000
DTSTAMP:20260425T125606
CREATED:20160510T195506Z
LAST-MODIFIED:20160510T195506Z
UID:10019577-1464116400-1464121800@huronshores.ca
SUMMARY:Family Fun Night
DESCRIPTION:The North Channel Healthy Kids Community Challenge Committee and the Iron Bridge Recreation Committee host Family Fun Night on Tuesdays from 7:00 to 8:30 p.m. at the Iron Bridge Rec Centre (1 Chiblow Lake Rd.).  Come on out and get movin’ with the whole family!
URL:https://huronshores.ca/event/family-fun-night-3/2016-05-24/
LOCATION:Ontario
CATEGORIES:Community News,Recreation
ATTACH;FMTTYPE=image/jpeg:https://huronshores.ca/wp-content/uploads/2015/09/Family-Activities.jpeg
END:VEVENT
BEGIN:VEVENT
DTSTART;TZID=America/Toronto:20160525T140000
DTEND;TZID=America/Toronto:20160525T153000
DTSTAMP:20260425T125606
CREATED:20151021T181815Z
LAST-MODIFIED:20151021T181815Z
UID:10015953-1464184800-1464190200@huronshores.ca
SUMMARY:Alzheimer Info & Discussion Group
DESCRIPTION:The Alzheimer Society of Sault Ste. Marie & Algoma District hosts an Information & Discussion Group on the 2nd Wednesday of each month\, at the Calvary Gospel Church\, 55 Queen Street\, Blind River from 2:00 – 3:30 p.m.  For more information please call Tanya\, First Link Coordinator\, at 705-848-8145.
URL:https://huronshores.ca/event/alzheimer-info-discussion-group-2/2016-05-25/
LOCATION:Ontario
CATEGORIES:Community News
ATTACH;FMTTYPE=image/jpeg:https://huronshores.ca/wp-content/uploads/2013/01/Alzheimers-Disease.jpg
END:VEVENT
BEGIN:VEVENT
DTSTART;TZID=America/Toronto:20160525T163000
DTEND;TZID=America/Toronto:20160525T163000
DTSTAMP:20260425T125606
CREATED:20160510T165838Z
LAST-MODIFIED:20160510T165838Z
UID:10019574-1464193800-1464193800@huronshores.ca
SUMMARY:Summer Student Application Deadline
DESCRIPTION:Wednesday\, May 25/16 at 4:30 p.m. is the deadline to submit Summer Student Applications.  For more info please click on the link below to view the Summer Student Jobs Post and to download the required Application Form.
URL:https://huronshores.ca/event/summer-student-application-deadline/
LOCATION:Ontario
CATEGORIES:Community News,Employment Opportunities
ATTACH;FMTTYPE=image/jpeg:https://huronshores.ca/wp-content/uploads/2015/04/Summer-Jobs-for-Students.jpg
END:VEVENT
BEGIN:VEVENT
DTSTART;TZID=America/Toronto:20160525T190000
DTEND;TZID=America/Toronto:20160525T190000
DTSTAMP:20260425T125606
CREATED:20160115T152413Z
LAST-MODIFIED:20160115T152413Z
UID:10019457-1464202800-1464202800@huronshores.ca
SUMMARY:Regular Council Meeting
DESCRIPTION:The Regular Meeting of Council will be held Wednesday\, May 25/16 at 7:00 p.m. in the Council Chambers\, 7 Bridge Street\, Iron Bridge.  The Agenda was posted on Tuesday\, May 24/16 as the Municipal Office was closed on Monday\, the 23rd\, for the Victoria Day holiday.  Please click on the link below to view the Agenda post.
URL:https://huronshores.ca/event/regular-council-meeting-19/
LOCATION:Ontario
CATEGORIES:Council Meeting
ATTACH;FMTTYPE=:
END:VEVENT
BEGIN:VEVENT
DTSTART;TZID=America/Toronto:20160526T140000
DTEND;TZID=America/Toronto:20160526T153000
DTSTAMP:20260425T125606
CREATED:20151021T181815Z
LAST-MODIFIED:20151021T181815Z
UID:10015954-1464271200-1464276600@huronshores.ca
SUMMARY:Alzheimer Info & Discussion Group
DESCRIPTION:The Alzheimer Society of Sault Ste. Marie & Algoma District hosts an Information & Discussion Group on the 2nd Wednesday of each month\, at the Calvary Gospel Church\, 55 Queen Street\, Blind River from 2:00 – 3:30 p.m.  For more information please call Tanya\, First Link Coordinator\, at 705-848-8145.
URL:https://huronshores.ca/event/alzheimer-info-discussion-group-2/2016-05-26/
LOCATION:Ontario
CATEGORIES:Community News
ATTACH;FMTTYPE=image/jpeg:https://huronshores.ca/wp-content/uploads/2013/01/Alzheimers-Disease.jpg
END:VEVENT
BEGIN:VEVENT
DTSTART;TZID=America/Toronto:20160527T140000
DTEND;TZID=America/Toronto:20160527T153000
DTSTAMP:20260425T125606
CREATED:20151021T181815Z
LAST-MODIFIED:20151021T181815Z
UID:10015955-1464357600-1464363000@huronshores.ca
SUMMARY:Alzheimer Info & Discussion Group
DESCRIPTION:The Alzheimer Society of Sault Ste. Marie & Algoma District hosts an Information & Discussion Group on the 2nd Wednesday of each month\, at the Calvary Gospel Church\, 55 Queen Street\, Blind River from 2:00 – 3:30 p.m.  For more information please call Tanya\, First Link Coordinator\, at 705-848-8145.
URL:https://huronshores.ca/event/alzheimer-info-discussion-group-2/2016-05-27/
LOCATION:Ontario
CATEGORIES:Community News
ATTACH;FMTTYPE=image/jpeg:https://huronshores.ca/wp-content/uploads/2013/01/Alzheimers-Disease.jpg
END:VEVENT
BEGIN:VEVENT
DTSTART;TZID=America/Toronto:20160527T170000
DTEND;TZID=America/Toronto:20160527T190000
DTSTAMP:20260425T125606
CREATED:20160310T212000Z
LAST-MODIFIED:20160310T212000Z
UID:10019408-1464368400-1464375600@huronshores.ca
SUMMARY:Legion Fish Fry
DESCRIPTION:The Thessalon Royal Canadian Legion Branch 182 hosts a fish fry\, Friday\, May 27\, 5:00  to 7:00 p.m.  Takeout called in by 4:30 p.m. & picked up by 5:00 p.m.  Call 705-842-2418.
URL:https://huronshores.ca/event/legion-fish-fry-3/
LOCATION:Ontario
CATEGORIES:Community News
ATTACH;FMTTYPE=image/jpeg:https://huronshores.ca/wp-content/uploads/2015/12/Friday-Fish-Fry.jpg
END:VEVENT
BEGIN:VEVENT
DTSTART;VALUE=DATE:20160528
DTEND;VALUE=DATE:20160529
DTSTAMP:20260425T125606
CREATED:20160121T193318Z
LAST-MODIFIED:20160121T193318Z
UID:10019505-1464393600-1464479999@huronshores.ca
SUMMARY:ATV Fun Run
DESCRIPTION:The Little Rapids Recreation Complex Committee hosts its annual ATV Fun Run on Saturday\, May 28/16 starting at\, and returning to\, the Little Rapids Gazebo\, 34 Little Rapids Rd.  Pre-Register by May 21st by calling Audrey at 705-842-1779 or e-mail wenfair2000@yahoo.com.  Registration on May 28th is at 8:00 a.m.  Route:  Little Rapids to Tunnel Lake Trading Post and Return.  Cost is $50/person\, extra riders $25/adult & $10/child.  Registration fee includes coffee & cinnamon buns at the start\, lunch at Tunnel Lake\, & Supper at 6:00 p.m. at the Gazebo.  Prizes Galore!
URL:https://huronshores.ca/event/atv-fun-run/
LOCATION:Ontario
CATEGORIES:Community News,Recreation
ATTACH;FMTTYPE=image/jpeg:https://huronshores.ca/wp-content/uploads/2013/06/ATV-Rider.jpg
END:VEVENT
BEGIN:VEVENT
DTSTART;TZID=America/Toronto:20160528T140000
DTEND;TZID=America/Toronto:20160528T153000
DTSTAMP:20260425T125606
CREATED:20151021T181815Z
LAST-MODIFIED:20151021T181815Z
UID:10015956-1464444000-1464449400@huronshores.ca
SUMMARY:Alzheimer Info & Discussion Group
DESCRIPTION:The Alzheimer Society of Sault Ste. Marie & Algoma District hosts an Information & Discussion Group on the 2nd Wednesday of each month\, at the Calvary Gospel Church\, 55 Queen Street\, Blind River from 2:00 – 3:30 p.m.  For more information please call Tanya\, First Link Coordinator\, at 705-848-8145.
URL:https://huronshores.ca/event/alzheimer-info-discussion-group-2/2016-05-28/
LOCATION:Ontario
CATEGORIES:Community News
ATTACH;FMTTYPE=image/jpeg:https://huronshores.ca/wp-content/uploads/2013/01/Alzheimers-Disease.jpg
END:VEVENT
BEGIN:VEVENT
DTSTART;TZID=America/Toronto:20160529T140000
DTEND;TZID=America/Toronto:20160529T153000
DTSTAMP:20260425T125606
CREATED:20151021T181815Z
LAST-MODIFIED:20151021T181815Z
UID:10015957-1464530400-1464535800@huronshores.ca
SUMMARY:Alzheimer Info & Discussion Group
DESCRIPTION:The Alzheimer Society of Sault Ste. Marie & Algoma District hosts an Information & Discussion Group on the 2nd Wednesday of each month\, at the Calvary Gospel Church\, 55 Queen Street\, Blind River from 2:00 – 3:30 p.m.  For more information please call Tanya\, First Link Coordinator\, at 705-848-8145.
URL:https://huronshores.ca/event/alzheimer-info-discussion-group-2/2016-05-29/
LOCATION:Ontario
CATEGORIES:Community News
ATTACH;FMTTYPE=image/jpeg:https://huronshores.ca/wp-content/uploads/2013/01/Alzheimers-Disease.jpg
END:VEVENT
BEGIN:VEVENT
DTSTART;TZID=America/Toronto:20160530T140000
DTEND;TZID=America/Toronto:20160530T153000
DTSTAMP:20260425T125606
CREATED:20151021T181815Z
LAST-MODIFIED:20151021T181815Z
UID:10015958-1464616800-1464622200@huronshores.ca
SUMMARY:Alzheimer Info & Discussion Group
DESCRIPTION:The Alzheimer Society of Sault Ste. Marie & Algoma District hosts an Information & Discussion Group on the 2nd Wednesday of each month\, at the Calvary Gospel Church\, 55 Queen Street\, Blind River from 2:00 – 3:30 p.m.  For more information please call Tanya\, First Link Coordinator\, at 705-848-8145.
URL:https://huronshores.ca/event/alzheimer-info-discussion-group-2/2016-05-30/
LOCATION:Ontario
CATEGORIES:Community News
ATTACH;FMTTYPE=image/jpeg:https://huronshores.ca/wp-content/uploads/2013/01/Alzheimers-Disease.jpg
END:VEVENT
BEGIN:VEVENT
DTSTART;TZID=America/Toronto:20160531T083000
DTEND;TZID=America/Toronto:20160531T163000
DTSTAMP:20260425T125606
CREATED:20160115T155256Z
LAST-MODIFIED:20160115T155256Z
UID:10019471-1464683400-1464712200@huronshores.ca
SUMMARY:2016 Interim Tax Billing - 2nd Installment
DESCRIPTION:The Second Installment of the 2016 Interim Tax Billing is due today\, Tuesday\, May 31/16 at 4:30 p.m.  Payment must be in Canadian funds ($$) and may be remitted by credit card via e-Payments on the Home page of huronshores.ca; in the mail by cheque or money order; or in person at the Municipal Office\, Monday – Friday\, 8:30 a.m. – 4:30 p.m. (cash or cheque only\, no debit).  Installments are due the last business day in March and in May.
URL:https://huronshores.ca/event/2016-interim-tax-billing-2nd-installment/
LOCATION:Ontario
CATEGORIES:Treasury
ATTACH;FMTTYPE=image/jpeg:https://huronshores.ca/wp-content/uploads/2012/09/Mailings.jpg
END:VEVENT
BEGIN:VEVENT
DTSTART;TZID=America/Toronto:20160531T140000
DTEND;TZID=America/Toronto:20160531T153000
DTSTAMP:20260425T125606
CREATED:20151021T181815Z
LAST-MODIFIED:20151021T181815Z
UID:10015959-1464703200-1464708600@huronshores.ca
SUMMARY:Alzheimer Info & Discussion Group
DESCRIPTION:The Alzheimer Society of Sault Ste. Marie & Algoma District hosts an Information & Discussion Group on the 2nd Wednesday of each month\, at the Calvary Gospel Church\, 55 Queen Street\, Blind River from 2:00 – 3:30 p.m.  For more information please call Tanya\, First Link Coordinator\, at 705-848-8145.
URL:https://huronshores.ca/event/alzheimer-info-discussion-group-2/2016-05-31/
LOCATION:Ontario
CATEGORIES:Community News
ATTACH;FMTTYPE=image/jpeg:https://huronshores.ca/wp-content/uploads/2013/01/Alzheimers-Disease.jpg
END:VEVENT
BEGIN:VEVENT
DTSTART;TZID=America/Toronto:20160531T190000
DTEND;TZID=America/Toronto:20160531T203000
DTSTAMP:20260425T125606
CREATED:20160510T195506Z
LAST-MODIFIED:20160510T195506Z
UID:10019578-1464721200-1464726600@huronshores.ca
SUMMARY:Family Fun Night
DESCRIPTION:The North Channel Healthy Kids Community Challenge Committee and the Iron Bridge Recreation Committee host Family Fun Night on Tuesdays from 7:00 to 8:30 p.m. at the Iron Bridge Rec Centre (1 Chiblow Lake Rd.).  Come on out and get movin’ with the whole family!
URL:https://huronshores.ca/event/family-fun-night-3/2016-05-31/
LOCATION:Ontario
CATEGORIES:Community News,Recreation
ATTACH;FMTTYPE=image/jpeg:https://huronshores.ca/wp-content/uploads/2015/09/Family-Activities.jpeg
END:VEVENT
BEGIN:VEVENT
DTSTART;TZID=America/Toronto:20160601T140000
DTEND;TZID=America/Toronto:20160601T153000
DTSTAMP:20260425T125606
CREATED:20151021T181815Z
LAST-MODIFIED:20151021T181815Z
UID:10015960-1464789600-1464795000@huronshores.ca
SUMMARY:Alzheimer Info & Discussion Group
DESCRIPTION:The Alzheimer Society of Sault Ste. Marie & Algoma District hosts an Information & Discussion Group on the 2nd Wednesday of each month\, at the Calvary Gospel Church\, 55 Queen Street\, Blind River from 2:00 – 3:30 p.m.  For more information please call Tanya\, First Link Coordinator\, at 705-848-8145.
URL:https://huronshores.ca/event/alzheimer-info-discussion-group-2/2016-06-01/
LOCATION:Ontario
CATEGORIES:Community News
ATTACH;FMTTYPE=image/jpeg:https://huronshores.ca/wp-content/uploads/2013/01/Alzheimers-Disease.jpg
END:VEVENT
BEGIN:VEVENT
DTSTART;TZID=America/Toronto:20160601T190000
DTEND;TZID=America/Toronto:20160601T190000
DTSTAMP:20260425T125606
CREATED:20160316T182337Z
LAST-MODIFIED:20160316T182337Z
UID:10019561-1464807600-1464807600@huronshores.ca
SUMMARY:Special Council Meeting
DESCRIPTION:A Special Meeting of Council will be held at 7:00 p.m.\, Wednesday\, June 1/16\, in the Council Chambers\, 7 Bridge Street\, as per Resolution #16-13-19 dated April 27/16\, for the purpose of reviewing Council Motions with respect to the Draft Comprehensive Zoning By-law\, Version 1.0\, of October 7th\, 2015 as updated January 15th and March 1st\, 2016.  The Agenda was posted Monday\, May 30/16.  The original date for the Special Meeting was May 18/16 but was rescheduled to June 1 due to councillor availability concerns.
URL:https://huronshores.ca/event/special-council-meeting-3/
LOCATION:Ontario
CATEGORIES:Council Meeting,Planning & Zoning
ATTACH;FMTTYPE=:
END:VEVENT
BEGIN:VEVENT
DTSTART;TZID=America/Toronto:20160602T140000
DTEND;TZID=America/Toronto:20160602T153000
DTSTAMP:20260425T125606
CREATED:20151021T181815Z
LAST-MODIFIED:20151021T181815Z
UID:10015961-1464876000-1464881400@huronshores.ca
SUMMARY:Alzheimer Info & Discussion Group
DESCRIPTION:The Alzheimer Society of Sault Ste. Marie & Algoma District hosts an Information & Discussion Group on the 2nd Wednesday of each month\, at the Calvary Gospel Church\, 55 Queen Street\, Blind River from 2:00 – 3:30 p.m.  For more information please call Tanya\, First Link Coordinator\, at 705-848-8145.
URL:https://huronshores.ca/event/alzheimer-info-discussion-group-2/2016-06-02/
LOCATION:Ontario
CATEGORIES:Community News
ATTACH;FMTTYPE=image/jpeg:https://huronshores.ca/wp-content/uploads/2013/01/Alzheimers-Disease.jpg
END:VEVENT
BEGIN:VEVENT
DTSTART;TZID=America/Toronto:20160603T140000
DTEND;TZID=America/Toronto:20160603T153000
DTSTAMP:20260425T125606
CREATED:20151021T181815Z
LAST-MODIFIED:20151021T181815Z
UID:10015962-1464962400-1464967800@huronshores.ca
SUMMARY:Alzheimer Info & Discussion Group
DESCRIPTION:The Alzheimer Society of Sault Ste. Marie & Algoma District hosts an Information & Discussion Group on the 2nd Wednesday of each month\, at the Calvary Gospel Church\, 55 Queen Street\, Blind River from 2:00 – 3:30 p.m.  For more information please call Tanya\, First Link Coordinator\, at 705-848-8145.
URL:https://huronshores.ca/event/alzheimer-info-discussion-group-2/2016-06-03/
LOCATION:Ontario
CATEGORIES:Community News
ATTACH;FMTTYPE=image/jpeg:https://huronshores.ca/wp-content/uploads/2013/01/Alzheimers-Disease.jpg
END:VEVENT
BEGIN:VEVENT
DTSTART;TZID=America/Toronto:20160603T180000
DTEND;TZID=America/Toronto:20160603T180000
DTSTAMP:20260425T125606
CREATED:20160601T182036Z
LAST-MODIFIED:20160601T182036Z
UID:10019604-1464976800-1464976800@huronshores.ca
SUMMARY:Turducken Charity Dinner
DESCRIPTION:The Thessalon Lions Club hosts its 4th Annual Turducken Charity Dinner\, Friday\, June 3/16 at the Thessalon Curling Club\, Main St.\, Thessalon.  Cocktails at 6:00 p.m.; Dinner at 7:00 p.m.  $35/person\, Cash Bar.  Tickets available from Thessalon Lions Club Members.  Proceeds to benefit the many local charities/groups that the Lions support.
URL:https://huronshores.ca/event/turducken-charity-dinner/
LOCATION:Ontario
CATEGORIES:Community News,Fundraiser
ATTACH;FMTTYPE=image/png:https://huronshores.ca/wp-content/uploads/2015/10/turducken.png
END:VEVENT
BEGIN:VEVENT
DTSTART;TZID=America/Toronto:20160604T090000
DTEND;TZID=America/Toronto:20160604T140000
DTSTAMP:20260425T125606
CREATED:20160601T181327Z
LAST-MODIFIED:20160601T181327Z
UID:10019586-1465030800-1465048800@huronshores.ca
SUMMARY:Sowerby Farmers' Market
DESCRIPTION:The Farmers’ Market in Sowerby is held every Saturday from 9:00 a.m. to 2:00 p.m.\, June to September\, at the Historic Cordukes/Weber 12-Sided Barn\, 1410 Basswood Lake Road\, just north of the intersection with Highway 17.
URL:https://huronshores.ca/event/sowerby-farmers-market-2/2016-06-04/
LOCATION:Ontario
CATEGORIES:Community News,Farmers' Markets
ATTACH;FMTTYPE=image/jpeg:https://huronshores.ca/wp-content/uploads/2014/02/farmers-market-623x200-1.jpg
END:VEVENT
BEGIN:VEVENT
DTSTART;TZID=America/Toronto:20160604T090000
DTEND;TZID=America/Toronto:20160604T140000
DTSTAMP:20260425T125606
CREATED:20160601T185722Z
LAST-MODIFIED:20160601T185722Z
UID:10019608-1465030800-1465048800@huronshores.ca
SUMMARY:Iron Bridge Flea Market
DESCRIPTION:The Iron Bridge Flea Market will be held Saturday\, June 4/16 from 9:00 a.m. – 2:00 p.m. at the Rec Centre\, 1 Chiblow Lake Rd.  Vendors Tables are: first table $10; each additional table $5.  Call the Municipal Office for more details or to reserve a spot (705-843-2033).
URL:https://huronshores.ca/event/iron-bridge-flea-market/
LOCATION:Ontario
CATEGORIES:Community News
ATTACH;FMTTYPE=image/jpeg:https://huronshores.ca/wp-content/uploads/2014/06/Yard-Sale.jpg
END:VEVENT
BEGIN:VEVENT
DTSTART;TZID=America/Toronto:20160604T100000
DTEND;TZID=America/Toronto:20160604T150000
DTSTAMP:20260425T125606
CREATED:20160601T183358Z
LAST-MODIFIED:20160601T183358Z
UID:10019605-1465034400-1465052400@huronshores.ca
SUMMARY:Heritage Park Museum Work Bee
DESCRIPTION:The Thessalon Twp. Heritage Association is hosting an old-fashioned “Work Bee” at the Heritage Park Museum (2 Little Rapids Rd.\, 3 km north of Thessalon on Hwy. 129)\, Saturday\, June 4/16 from 10:00 a.m. to 3:00 p.m.  Coffee\, tea\, water\, snacks & BBQ lunch provided to all registered volunteers.  Call Mary Anne 705-842-2722 or e-mail:  mamac@soonet.ca for details. (Rain date June 18/16)
URL:https://huronshores.ca/event/heritage-park-museum-work-bee/
LOCATION:Ontario
CATEGORIES:Community News
ATTACH;FMTTYPE=image/jpeg:https://huronshores.ca/wp-content/uploads/2015/05/Work-Bee-2-Re-sized.jpg
END:VEVENT
BEGIN:VEVENT
DTSTART;TZID=America/Toronto:20160604T140000
DTEND;TZID=America/Toronto:20160604T153000
DTSTAMP:20260425T125606
CREATED:20151021T181815Z
LAST-MODIFIED:20151021T181815Z
UID:10015963-1465048800-1465054200@huronshores.ca
SUMMARY:Alzheimer Info & Discussion Group
DESCRIPTION:The Alzheimer Society of Sault Ste. Marie & Algoma District hosts an Information & Discussion Group on the 2nd Wednesday of each month\, at the Calvary Gospel Church\, 55 Queen Street\, Blind River from 2:00 – 3:30 p.m.  For more information please call Tanya\, First Link Coordinator\, at 705-848-8145.
URL:https://huronshores.ca/event/alzheimer-info-discussion-group-2/2016-06-04/
LOCATION:Ontario
CATEGORIES:Community News
ATTACH;FMTTYPE=image/jpeg:https://huronshores.ca/wp-content/uploads/2013/01/Alzheimers-Disease.jpg
END:VEVENT
BEGIN:VEVENT
DTSTART;TZID=America/Toronto:20160605T140000
DTEND;TZID=America/Toronto:20160605T153000
DTSTAMP:20260425T125606
CREATED:20151021T181815Z
LAST-MODIFIED:20151021T181815Z
UID:10015964-1465135200-1465140600@huronshores.ca
SUMMARY:Alzheimer Info & Discussion Group
DESCRIPTION:The Alzheimer Society of Sault Ste. Marie & Algoma District hosts an Information & Discussion Group on the 2nd Wednesday of each month\, at the Calvary Gospel Church\, 55 Queen Street\, Blind River from 2:00 – 3:30 p.m.  For more information please call Tanya\, First Link Coordinator\, at 705-848-8145.
URL:https://huronshores.ca/event/alzheimer-info-discussion-group-2/2016-06-05/
LOCATION:Ontario
CATEGORIES:Community News
ATTACH;FMTTYPE=image/jpeg:https://huronshores.ca/wp-content/uploads/2013/01/Alzheimers-Disease.jpg
END:VEVENT
BEGIN:VEVENT
DTSTART;TZID=America/Toronto:20160606T140000
DTEND;TZID=America/Toronto:20160606T153000
DTSTAMP:20260425T125606
CREATED:20151021T181815Z
LAST-MODIFIED:20151021T181815Z
UID:10015965-1465221600-1465227000@huronshores.ca
SUMMARY:Alzheimer Info & Discussion Group
DESCRIPTION:The Alzheimer Society of Sault Ste. Marie & Algoma District hosts an Information & Discussion Group on the 2nd Wednesday of each month\, at the Calvary Gospel Church\, 55 Queen Street\, Blind River from 2:00 – 3:30 p.m.  For more information please call Tanya\, First Link Coordinator\, at 705-848-8145.
URL:https://huronshores.ca/event/alzheimer-info-discussion-group-2/2016-06-06/
LOCATION:Ontario
CATEGORIES:Community News
ATTACH;FMTTYPE=image/jpeg:https://huronshores.ca/wp-content/uploads/2013/01/Alzheimers-Disease.jpg
END:VEVENT
END:VCALENDAR