BEGIN:VCALENDAR
VERSION:2.0
PRODID:-//Huron Shores - ECPv6.15.11//NONSGML v1.0//EN
CALSCALE:GREGORIAN
METHOD:PUBLISH
X-WR-CALNAME:Huron Shores
X-ORIGINAL-URL:https://huronshores.ca
X-WR-CALDESC:Events for Huron Shores
REFRESH-INTERVAL;VALUE=DURATION:PT1H
X-Robots-Tag:noindex
X-PUBLISHED-TTL:PT1H
BEGIN:VTIMEZONE
TZID:America/Toronto
BEGIN:DAYLIGHT
TZOFFSETFROM:-0500
TZOFFSETTO:-0400
TZNAME:EDT
DTSTART:20150308T070000
END:DAYLIGHT
BEGIN:STANDARD
TZOFFSETFROM:-0400
TZOFFSETTO:-0500
TZNAME:EST
DTSTART:20151101T060000
END:STANDARD
BEGIN:DAYLIGHT
TZOFFSETFROM:-0500
TZOFFSETTO:-0400
TZNAME:EDT
DTSTART:20160313T070000
END:DAYLIGHT
BEGIN:STANDARD
TZOFFSETFROM:-0400
TZOFFSETTO:-0500
TZNAME:EST
DTSTART:20161106T060000
END:STANDARD
BEGIN:DAYLIGHT
TZOFFSETFROM:-0500
TZOFFSETTO:-0400
TZNAME:EDT
DTSTART:20170312T070000
END:DAYLIGHT
BEGIN:STANDARD
TZOFFSETFROM:-0400
TZOFFSETTO:-0500
TZNAME:EST
DTSTART:20171105T060000
END:STANDARD
END:VTIMEZONE
BEGIN:VEVENT
DTSTART;TZID=America/Toronto:20160715T140000
DTEND;TZID=America/Toronto:20160715T153000
DTSTAMP:20260425T090528
CREATED:20151021T181815Z
LAST-MODIFIED:20151021T181815Z
UID:10016004-1468591200-1468596600@huronshores.ca
SUMMARY:Alzheimer Info & Discussion Group
DESCRIPTION:The Alzheimer Society of Sault Ste. Marie & Algoma District hosts an Information & Discussion Group on the 2nd Wednesday of each month\, at the Calvary Gospel Church\, 55 Queen Street\, Blind River from 2:00 – 3:30 p.m.  For more information please call Tanya\, First Link Coordinator\, at 705-848-8145.
URL:https://huronshores.ca/event/alzheimer-info-discussion-group-2/2016-07-15/
LOCATION:Ontario
CATEGORIES:Community News
ATTACH;FMTTYPE=image/jpeg:https://huronshores.ca/wp-content/uploads/2013/01/Alzheimers-Disease.jpg
END:VEVENT
BEGIN:VEVENT
DTSTART;VALUE=DATE:20160716
DTEND;VALUE=DATE:20160717
DTSTAMP:20260425T090528
CREATED:20160224T193049Z
LAST-MODIFIED:20160224T193049Z
UID:10019520-1468627200-1468713599@huronshores.ca
SUMMARY:1940's Museum Exhibit
DESCRIPTION:The Iron Bridge Historical Museum Committee will showcase The 1940’s – A Decade of Events along the North Shore\, daily from July 15 to August 15/16 at the Museum\, 1 James Street.
URL:https://huronshores.ca/event/1940s-museum-exhibit/2016-07-16/
LOCATION:Ontario
CATEGORIES:Community News
ATTACH;FMTTYPE=image/jpeg:https://huronshores.ca/wp-content/uploads/2016/02/1940s.jpg
END:VEVENT
BEGIN:VEVENT
DTSTART;TZID=America/Toronto:20160716T090000
DTEND;TZID=America/Toronto:20160716T140000
DTSTAMP:20260425T090528
CREATED:20160601T181327Z
LAST-MODIFIED:20160601T181327Z
UID:10019592-1468659600-1468677600@huronshores.ca
SUMMARY:Sowerby Farmers' Market
DESCRIPTION:The Farmers’ Market in Sowerby is held every Saturday from 9:00 a.m. to 2:00 p.m.\, June to September\, at the Historic Cordukes/Weber 12-Sided Barn\, 1410 Basswood Lake Road\, just north of the intersection with Highway 17.
URL:https://huronshores.ca/event/sowerby-farmers-market-2/2016-07-16/
LOCATION:Ontario
CATEGORIES:Community News,Farmers' Markets
ATTACH;FMTTYPE=image/jpeg:https://huronshores.ca/wp-content/uploads/2014/02/farmers-market-623x200-1.jpg
END:VEVENT
BEGIN:VEVENT
DTSTART;TZID=America/Toronto:20160716T090000
DTEND;TZID=America/Toronto:20160716T140000
DTSTAMP:20260425T090528
CREATED:20160627T141148Z
LAST-MODIFIED:20160627T141148Z
UID:10019613-1468659600-1468677600@huronshores.ca
SUMMARY:Iron Bridge Farmers' Market
DESCRIPTION:The Iron Bridge Farmers’ Market is held on Saturdays from 9:00 a.m. to 2:00 p.m. in the Gazebo at the Iron Bridge Historical Museum\, 1 James Street (at the intersection with Hwy. 17).  Come out and try our vendors fresh local produce\, mouth-watering baking\, preserves\, and handicrafts.   Take time to browse the museum exhibits depicting the proud pioneer heritage of our area.
URL:https://huronshores.ca/event/iron-bridge-farmers-market/2016-07-16/
LOCATION:Ontario
CATEGORIES:Community News,Farmers' Markets
ATTACH;FMTTYPE=image/jpeg:https://huronshores.ca/wp-content/uploads/2014/02/farmers-market-623x200-1.jpg
END:VEVENT
BEGIN:VEVENT
DTSTART;TZID=America/Toronto:20160716T140000
DTEND;TZID=America/Toronto:20160716T153000
DTSTAMP:20260425T090528
CREATED:20151021T181815Z
LAST-MODIFIED:20151021T181815Z
UID:10016005-1468677600-1468683000@huronshores.ca
SUMMARY:Alzheimer Info & Discussion Group
DESCRIPTION:The Alzheimer Society of Sault Ste. Marie & Algoma District hosts an Information & Discussion Group on the 2nd Wednesday of each month\, at the Calvary Gospel Church\, 55 Queen Street\, Blind River from 2:00 – 3:30 p.m.  For more information please call Tanya\, First Link Coordinator\, at 705-848-8145.
URL:https://huronshores.ca/event/alzheimer-info-discussion-group-2/2016-07-16/
LOCATION:Ontario
CATEGORIES:Community News
ATTACH;FMTTYPE=image/jpeg:https://huronshores.ca/wp-content/uploads/2013/01/Alzheimers-Disease.jpg
END:VEVENT
BEGIN:VEVENT
DTSTART;VALUE=DATE:20160717
DTEND;VALUE=DATE:20160718
DTSTAMP:20260425T090528
CREATED:20160224T193049Z
LAST-MODIFIED:20160224T193049Z
UID:10019521-1468713600-1468799999@huronshores.ca
SUMMARY:1940's Museum Exhibit
DESCRIPTION:The Iron Bridge Historical Museum Committee will showcase The 1940’s – A Decade of Events along the North Shore\, daily from July 15 to August 15/16 at the Museum\, 1 James Street.
URL:https://huronshores.ca/event/1940s-museum-exhibit/2016-07-17/
LOCATION:Ontario
CATEGORIES:Community News
ATTACH;FMTTYPE=image/jpeg:https://huronshores.ca/wp-content/uploads/2016/02/1940s.jpg
END:VEVENT
BEGIN:VEVENT
DTSTART;TZID=America/Toronto:20160717T140000
DTEND;TZID=America/Toronto:20160717T153000
DTSTAMP:20260425T090528
CREATED:20151021T181815Z
LAST-MODIFIED:20151021T181815Z
UID:10016006-1468764000-1468769400@huronshores.ca
SUMMARY:Alzheimer Info & Discussion Group
DESCRIPTION:The Alzheimer Society of Sault Ste. Marie & Algoma District hosts an Information & Discussion Group on the 2nd Wednesday of each month\, at the Calvary Gospel Church\, 55 Queen Street\, Blind River from 2:00 – 3:30 p.m.  For more information please call Tanya\, First Link Coordinator\, at 705-848-8145.
URL:https://huronshores.ca/event/alzheimer-info-discussion-group-2/2016-07-17/
LOCATION:Ontario
CATEGORIES:Community News
ATTACH;FMTTYPE=image/jpeg:https://huronshores.ca/wp-content/uploads/2013/01/Alzheimers-Disease.jpg
END:VEVENT
BEGIN:VEVENT
DTSTART;VALUE=DATE:20160718
DTEND;VALUE=DATE:20160719
DTSTAMP:20260425T090528
CREATED:20160224T193049Z
LAST-MODIFIED:20160224T193049Z
UID:10019522-1468800000-1468886399@huronshores.ca
SUMMARY:1940's Museum Exhibit
DESCRIPTION:The Iron Bridge Historical Museum Committee will showcase The 1940’s – A Decade of Events along the North Shore\, daily from July 15 to August 15/16 at the Museum\, 1 James Street.
URL:https://huronshores.ca/event/1940s-museum-exhibit/2016-07-18/
LOCATION:Ontario
CATEGORIES:Community News
ATTACH;FMTTYPE=image/jpeg:https://huronshores.ca/wp-content/uploads/2016/02/1940s.jpg
END:VEVENT
BEGIN:VEVENT
DTSTART;VALUE=DATE:20160718
DTEND;VALUE=DATE:20160723
DTSTAMP:20260425T090528
CREATED:20160721T180116Z
LAST-MODIFIED:20160721T180116Z
UID:10019627-1468800000-1469231999@huronshores.ca
SUMMARY:July 18 to 29: Silent Auction
DESCRIPTION:In support of the Thessalon Public Library\, at Northern Credit Union\,  Main Street\, Thessalon\, featuring the work of talent local artisans. Bids must be in by 12 noon on Friday\, July 29.
URL:https://huronshores.ca/event/july-18-to-29-silent-auction/
LOCATION:Ontario
CATEGORIES:Community News
ATTACH;FMTTYPE=image/jpeg:https://huronshores.ca/wp-content/uploads/2014/02/silent-auction.jpg
END:VEVENT
BEGIN:VEVENT
DTSTART;TZID=America/Toronto:20160718T140000
DTEND;TZID=America/Toronto:20160718T153000
DTSTAMP:20260425T090528
CREATED:20151021T181815Z
LAST-MODIFIED:20151021T181815Z
UID:10016007-1468850400-1468855800@huronshores.ca
SUMMARY:Alzheimer Info & Discussion Group
DESCRIPTION:The Alzheimer Society of Sault Ste. Marie & Algoma District hosts an Information & Discussion Group on the 2nd Wednesday of each month\, at the Calvary Gospel Church\, 55 Queen Street\, Blind River from 2:00 – 3:30 p.m.  For more information please call Tanya\, First Link Coordinator\, at 705-848-8145.
URL:https://huronshores.ca/event/alzheimer-info-discussion-group-2/2016-07-18/
LOCATION:Ontario
CATEGORIES:Community News
ATTACH;FMTTYPE=image/jpeg:https://huronshores.ca/wp-content/uploads/2013/01/Alzheimers-Disease.jpg
END:VEVENT
BEGIN:VEVENT
DTSTART;VALUE=DATE:20160719
DTEND;VALUE=DATE:20160720
DTSTAMP:20260425T090528
CREATED:20160224T193049Z
LAST-MODIFIED:20160224T193049Z
UID:10019523-1468886400-1468972799@huronshores.ca
SUMMARY:1940's Museum Exhibit
DESCRIPTION:The Iron Bridge Historical Museum Committee will showcase The 1940’s – A Decade of Events along the North Shore\, daily from July 15 to August 15/16 at the Museum\, 1 James Street.
URL:https://huronshores.ca/event/1940s-museum-exhibit/2016-07-19/
LOCATION:Ontario
CATEGORIES:Community News
ATTACH;FMTTYPE=image/jpeg:https://huronshores.ca/wp-content/uploads/2016/02/1940s.jpg
END:VEVENT
BEGIN:VEVENT
DTSTART;TZID=America/Toronto:20160719T140000
DTEND;TZID=America/Toronto:20160719T153000
DTSTAMP:20260425T090528
CREATED:20151021T181815Z
LAST-MODIFIED:20151021T181815Z
UID:10016008-1468936800-1468942200@huronshores.ca
SUMMARY:Alzheimer Info & Discussion Group
DESCRIPTION:The Alzheimer Society of Sault Ste. Marie & Algoma District hosts an Information & Discussion Group on the 2nd Wednesday of each month\, at the Calvary Gospel Church\, 55 Queen Street\, Blind River from 2:00 – 3:30 p.m.  For more information please call Tanya\, First Link Coordinator\, at 705-848-8145.
URL:https://huronshores.ca/event/alzheimer-info-discussion-group-2/2016-07-19/
LOCATION:Ontario
CATEGORIES:Community News
ATTACH;FMTTYPE=image/jpeg:https://huronshores.ca/wp-content/uploads/2013/01/Alzheimers-Disease.jpg
END:VEVENT
BEGIN:VEVENT
DTSTART;VALUE=DATE:20160720
DTEND;VALUE=DATE:20160721
DTSTAMP:20260425T090528
CREATED:20160224T193049Z
LAST-MODIFIED:20160224T193049Z
UID:10019524-1468972800-1469059199@huronshores.ca
SUMMARY:1940's Museum Exhibit
DESCRIPTION:The Iron Bridge Historical Museum Committee will showcase The 1940’s – A Decade of Events along the North Shore\, daily from July 15 to August 15/16 at the Museum\, 1 James Street.
URL:https://huronshores.ca/event/1940s-museum-exhibit/2016-07-20/
LOCATION:Ontario
CATEGORIES:Community News
ATTACH;FMTTYPE=image/jpeg:https://huronshores.ca/wp-content/uploads/2016/02/1940s.jpg
END:VEVENT
BEGIN:VEVENT
DTSTART;TZID=America/Toronto:20160720T140000
DTEND;TZID=America/Toronto:20160720T153000
DTSTAMP:20260425T090528
CREATED:20151021T181815Z
LAST-MODIFIED:20151021T181815Z
UID:10016009-1469023200-1469028600@huronshores.ca
SUMMARY:Alzheimer Info & Discussion Group
DESCRIPTION:The Alzheimer Society of Sault Ste. Marie & Algoma District hosts an Information & Discussion Group on the 2nd Wednesday of each month\, at the Calvary Gospel Church\, 55 Queen Street\, Blind River from 2:00 – 3:30 p.m.  For more information please call Tanya\, First Link Coordinator\, at 705-848-8145.
URL:https://huronshores.ca/event/alzheimer-info-discussion-group-2/2016-07-20/
LOCATION:Ontario
CATEGORIES:Community News
ATTACH;FMTTYPE=image/jpeg:https://huronshores.ca/wp-content/uploads/2013/01/Alzheimers-Disease.jpg
END:VEVENT
BEGIN:VEVENT
DTSTART;TZID=America/Toronto:20160720T193000
DTEND;TZID=America/Toronto:20160720T193000
DTSTAMP:20260425T090528
CREATED:20160721T182330Z
LAST-MODIFIED:20160721T182330Z
UID:10019628-1469043000-1469043000@huronshores.ca
SUMMARY:Jammin' Session at the Thessalon Community Curling Club
DESCRIPTION:Every Wedneday night at 7:30PM\, join us at Thessalon Community Curling Club for our Jammin’ Session. You play an instrument and love to play with other instrumentalists\, or just love to listen to live music\, then come on down…the bar is open! Everyone welcome! Bring a friend!
URL:https://huronshores.ca/event/jammin-session-at-the-thessalon-community-curling-club/2016-07-20/
LOCATION:Ontario
CATEGORIES:Recreation
END:VEVENT
BEGIN:VEVENT
DTSTART;VALUE=DATE:20160721
DTEND;VALUE=DATE:20160722
DTSTAMP:20260425T090528
CREATED:20160224T193049Z
LAST-MODIFIED:20160224T193049Z
UID:10019525-1469059200-1469145599@huronshores.ca
SUMMARY:1940's Museum Exhibit
DESCRIPTION:The Iron Bridge Historical Museum Committee will showcase The 1940’s – A Decade of Events along the North Shore\, daily from July 15 to August 15/16 at the Museum\, 1 James Street.
URL:https://huronshores.ca/event/1940s-museum-exhibit/2016-07-21/
LOCATION:Ontario
CATEGORIES:Community News
ATTACH;FMTTYPE=image/jpeg:https://huronshores.ca/wp-content/uploads/2016/02/1940s.jpg
END:VEVENT
BEGIN:VEVENT
DTSTART;TZID=America/Toronto:20160721T140000
DTEND;TZID=America/Toronto:20160721T153000
DTSTAMP:20260425T090528
CREATED:20151021T181815Z
LAST-MODIFIED:20151021T181815Z
UID:10016010-1469109600-1469115000@huronshores.ca
SUMMARY:Alzheimer Info & Discussion Group
DESCRIPTION:The Alzheimer Society of Sault Ste. Marie & Algoma District hosts an Information & Discussion Group on the 2nd Wednesday of each month\, at the Calvary Gospel Church\, 55 Queen Street\, Blind River from 2:00 – 3:30 p.m.  For more information please call Tanya\, First Link Coordinator\, at 705-848-8145.
URL:https://huronshores.ca/event/alzheimer-info-discussion-group-2/2016-07-21/
LOCATION:Ontario
CATEGORIES:Community News
ATTACH;FMTTYPE=image/jpeg:https://huronshores.ca/wp-content/uploads/2013/01/Alzheimers-Disease.jpg
END:VEVENT
BEGIN:VEVENT
DTSTART;VALUE=DATE:20160722
DTEND;VALUE=DATE:20160723
DTSTAMP:20260425T090528
CREATED:20160224T193049Z
LAST-MODIFIED:20160224T193049Z
UID:10019526-1469145600-1469231999@huronshores.ca
SUMMARY:1940's Museum Exhibit
DESCRIPTION:The Iron Bridge Historical Museum Committee will showcase The 1940’s – A Decade of Events along the North Shore\, daily from July 15 to August 15/16 at the Museum\, 1 James Street.
URL:https://huronshores.ca/event/1940s-museum-exhibit/2016-07-22/
LOCATION:Ontario
CATEGORIES:Community News
ATTACH;FMTTYPE=image/jpeg:https://huronshores.ca/wp-content/uploads/2016/02/1940s.jpg
END:VEVENT
BEGIN:VEVENT
DTSTART;TZID=America/Toronto:20160722T140000
DTEND;TZID=America/Toronto:20160722T153000
DTSTAMP:20260425T090528
CREATED:20151021T181815Z
LAST-MODIFIED:20151021T181815Z
UID:10016011-1469196000-1469201400@huronshores.ca
SUMMARY:Alzheimer Info & Discussion Group
DESCRIPTION:The Alzheimer Society of Sault Ste. Marie & Algoma District hosts an Information & Discussion Group on the 2nd Wednesday of each month\, at the Calvary Gospel Church\, 55 Queen Street\, Blind River from 2:00 – 3:30 p.m.  For more information please call Tanya\, First Link Coordinator\, at 705-848-8145.
URL:https://huronshores.ca/event/alzheimer-info-discussion-group-2/2016-07-22/
LOCATION:Ontario
CATEGORIES:Community News
ATTACH;FMTTYPE=image/jpeg:https://huronshores.ca/wp-content/uploads/2013/01/Alzheimers-Disease.jpg
END:VEVENT
BEGIN:VEVENT
DTSTART;TZID=America/Toronto:20160722T160000
DTEND;TZID=America/Toronto:20160722T230000
DTSTAMP:20260425T090528
CREATED:20160720T152711Z
LAST-MODIFIED:20160720T152711Z
UID:10019624-1469203200-1469228400@huronshores.ca
SUMMARY:Hillbilly Hoedown
DESCRIPTION:Massey Agricultural Society presents: \nHillbilly Howdown! \nFriday July 22nd and Saturday July 23rd at the Massey Fair Grounds \nEvents taking place on Friday include: \nSquare Dancing \nLarry Berrio live in concert \nTeam Farmall Show \nEvents taking place on Saturday include: \nFarmer Olympics \n2 Team Farmall Shows \nHeavy Horse Pull \nLicenced Country & Western Dance\, $10.00 at 8:00 PM
URL:https://huronshores.ca/event/hillbilly-hoedown/
LOCATION:Ontario
CATEGORIES:Recreation
ATTACH;FMTTYPE=image/jpeg:https://huronshores.ca/wp-content/uploads/2016/07/Massey-Fair.jpg
END:VEVENT
BEGIN:VEVENT
DTSTART;VALUE=DATE:20160723
DTEND;VALUE=DATE:20160724
DTSTAMP:20260425T090528
CREATED:20160224T193049Z
LAST-MODIFIED:20160224T193049Z
UID:10019527-1469232000-1469318399@huronshores.ca
SUMMARY:1940's Museum Exhibit
DESCRIPTION:The Iron Bridge Historical Museum Committee will showcase The 1940’s – A Decade of Events along the North Shore\, daily from July 15 to August 15/16 at the Museum\, 1 James Street.
URL:https://huronshores.ca/event/1940s-museum-exhibit/2016-07-23/
LOCATION:Ontario
CATEGORIES:Community News
ATTACH;FMTTYPE=image/jpeg:https://huronshores.ca/wp-content/uploads/2016/02/1940s.jpg
END:VEVENT
BEGIN:VEVENT
DTSTART;VALUE=DATE:20160723
DTEND;VALUE=DATE:20160724
DTSTAMP:20260425T090528
CREATED:20160721T202801Z
LAST-MODIFIED:20160721T202801Z
UID:10019920-1469232000-1469318399@huronshores.ca
SUMMARY:Sustain Algoma Expo
DESCRIPTION:On Saturday July 23\, 2016\, join us for a fun family event that promotes living sustainably in Algoma! This event will feature unique initiatives and products that include food & agriculture\, wood products\, water management\, social enterprise and arts & culture. With the change in direction\, the Sustain Algoma Expo will feature a diverse variety of exhibitors\, kid’s activities\, and local food with a focus on building sustainable Algoma communities.
URL:https://huronshores.ca/event/sustain-algoma-expo/
LOCATION:Ontario
CATEGORIES:Community News,Farmers' Markets
END:VEVENT
BEGIN:VEVENT
DTSTART;TZID=America/Toronto:20160723T080000
DTEND;TZID=America/Toronto:20160723T230000
DTSTAMP:20260425T090528
CREATED:20160720T153705Z
LAST-MODIFIED:20160720T153705Z
UID:10019625-1469260800-1469314800@huronshores.ca
SUMMARY:Hillbilly Hoedown
DESCRIPTION:Massey Agricultural Society presents: \nHillbilly Howdown! \nFriday July 22nd and Saturday July 23rd at the Massey Fair Grounds \nEvents taking place on Friday include: \nSquare Dancing \nLarry Berrio live in concert \nTeam Farmall Show \nEvents taking place on Saturday include: \nFarmer Olympics \n2 Team Farmall Shows \nHeavy Horse Pull \nLicenced Country & Western Dance\, $10.00 at 8:00 PM
URL:https://huronshores.ca/event/hillbilly-hoedown-2/
LOCATION:Ontario
CATEGORIES:Recreation
ATTACH;FMTTYPE=image/jpeg:https://huronshores.ca/wp-content/uploads/2016/07/Massey-Fair.jpg
END:VEVENT
BEGIN:VEVENT
DTSTART;TZID=America/Toronto:20160723T090000
DTEND;TZID=America/Toronto:20160723T140000
DTSTAMP:20260425T090528
CREATED:20160601T181327Z
LAST-MODIFIED:20160601T181327Z
UID:10019593-1469264400-1469282400@huronshores.ca
SUMMARY:Sowerby Farmers' Market
DESCRIPTION:The Farmers’ Market in Sowerby is held every Saturday from 9:00 a.m. to 2:00 p.m.\, June to September\, at the Historic Cordukes/Weber 12-Sided Barn\, 1410 Basswood Lake Road\, just north of the intersection with Highway 17.
URL:https://huronshores.ca/event/sowerby-farmers-market-2/2016-07-23/
LOCATION:Ontario
CATEGORIES:Community News,Farmers' Markets
ATTACH;FMTTYPE=image/jpeg:https://huronshores.ca/wp-content/uploads/2014/02/farmers-market-623x200-1.jpg
END:VEVENT
BEGIN:VEVENT
DTSTART;TZID=America/Toronto:20160723T090000
DTEND;TZID=America/Toronto:20160723T140000
DTSTAMP:20260425T090528
CREATED:20160627T141148Z
LAST-MODIFIED:20160627T141148Z
UID:10019614-1469264400-1469282400@huronshores.ca
SUMMARY:Iron Bridge Farmers' Market
DESCRIPTION:The Iron Bridge Farmers’ Market is held on Saturdays from 9:00 a.m. to 2:00 p.m. in the Gazebo at the Iron Bridge Historical Museum\, 1 James Street (at the intersection with Hwy. 17).  Come out and try our vendors fresh local produce\, mouth-watering baking\, preserves\, and handicrafts.   Take time to browse the museum exhibits depicting the proud pioneer heritage of our area.
URL:https://huronshores.ca/event/iron-bridge-farmers-market/2016-07-23/
LOCATION:Ontario
CATEGORIES:Community News,Farmers' Markets
ATTACH;FMTTYPE=image/jpeg:https://huronshores.ca/wp-content/uploads/2014/02/farmers-market-623x200-1.jpg
END:VEVENT
BEGIN:VEVENT
DTSTART;TZID=America/Toronto:20160723T100000
DTEND;TZID=America/Toronto:20160723T140000
DTSTAMP:20260425T090528
CREATED:20160719T170804Z
LAST-MODIFIED:20160719T170804Z
UID:10019623-1469268000-1469282400@huronshores.ca
SUMMARY:Household Hazardous Waste Day
DESCRIPTION:Get rid of your household hazardous waste!  The Municipality of Huron Shores is participating in the Household Hazardous Waste Day\, Saturday\, July 23rd\, 2016 from 10:00 a.m. to 2:00 p.m. at the Blind River Travel Information Centre parking lot off Highway 17 next to the Timber Village Museum.    Please click here to view the flyer for details of accepted items.  This is for residential hazardous waste only;  commercially generated hazardous waste will NOT be accepted.  For more information\, contact the Town of Blind River at 705-356-2251.  Please click on the link below to view the post for further details.
URL:https://huronshores.ca/event/household-hazardous-waste-day/
LOCATION:Ontario
CATEGORIES:Community News,Health & Safety
ATTACH;FMTTYPE=image/jpeg:https://huronshores.ca/wp-content/uploads/2012/06/Householdhazardouswaste.jpeg
END:VEVENT
BEGIN:VEVENT
DTSTART;TZID=America/Toronto:20160723T100000
DTEND;TZID=America/Toronto:20160723T140000
DTSTAMP:20260425T090528
CREATED:20160720T202402Z
LAST-MODIFIED:20160720T202402Z
UID:10019626-1469268000-1469282400@huronshores.ca
SUMMARY:Charity Yard Sale
DESCRIPTION:The Iron Bridge Recreation Centre is the host for the Charity Yard Sale taking place from 10:00AM – 2:00PM on Saturday\, July 23rd. See something you like? Take it and leave a donation! Donations are also welcome. Call 705-843-0892 to make arrangements\, or email Ibasociety9@gmail.com. Proceeds go to the Iron Bridge Agricultural Society.
URL:https://huronshores.ca/event/charity-yard-sale/
LOCATION:Ontario
CATEGORIES:Community News,Fundraiser
END:VEVENT
BEGIN:VEVENT
DTSTART;TZID=America/Toronto:20160723T140000
DTEND;TZID=America/Toronto:20160723T153000
DTSTAMP:20260425T090528
CREATED:20151021T181815Z
LAST-MODIFIED:20151021T181815Z
UID:10016012-1469282400-1469287800@huronshores.ca
SUMMARY:Alzheimer Info & Discussion Group
DESCRIPTION:The Alzheimer Society of Sault Ste. Marie & Algoma District hosts an Information & Discussion Group on the 2nd Wednesday of each month\, at the Calvary Gospel Church\, 55 Queen Street\, Blind River from 2:00 – 3:30 p.m.  For more information please call Tanya\, First Link Coordinator\, at 705-848-8145.
URL:https://huronshores.ca/event/alzheimer-info-discussion-group-2/2016-07-23/
LOCATION:Ontario
CATEGORIES:Community News
ATTACH;FMTTYPE=image/jpeg:https://huronshores.ca/wp-content/uploads/2013/01/Alzheimers-Disease.jpg
END:VEVENT
BEGIN:VEVENT
DTSTART;VALUE=DATE:20160724
DTEND;VALUE=DATE:20160725
DTSTAMP:20260425T090528
CREATED:20160224T193049Z
LAST-MODIFIED:20160224T193049Z
UID:10019528-1469318400-1469404799@huronshores.ca
SUMMARY:1940's Museum Exhibit
DESCRIPTION:The Iron Bridge Historical Museum Committee will showcase The 1940’s – A Decade of Events along the North Shore\, daily from July 15 to August 15/16 at the Museum\, 1 James Street.
URL:https://huronshores.ca/event/1940s-museum-exhibit/2016-07-24/
LOCATION:Ontario
CATEGORIES:Community News
ATTACH;FMTTYPE=image/jpeg:https://huronshores.ca/wp-content/uploads/2016/02/1940s.jpg
END:VEVENT
BEGIN:VEVENT
DTSTART;TZID=America/Toronto:20160724T140000
DTEND;TZID=America/Toronto:20160724T153000
DTSTAMP:20260425T090528
CREATED:20151021T181815Z
LAST-MODIFIED:20151021T181815Z
UID:10016013-1469368800-1469374200@huronshores.ca
SUMMARY:Alzheimer Info & Discussion Group
DESCRIPTION:The Alzheimer Society of Sault Ste. Marie & Algoma District hosts an Information & Discussion Group on the 2nd Wednesday of each month\, at the Calvary Gospel Church\, 55 Queen Street\, Blind River from 2:00 – 3:30 p.m.  For more information please call Tanya\, First Link Coordinator\, at 705-848-8145.
URL:https://huronshores.ca/event/alzheimer-info-discussion-group-2/2016-07-24/
LOCATION:Ontario
CATEGORIES:Community News
ATTACH;FMTTYPE=image/jpeg:https://huronshores.ca/wp-content/uploads/2013/01/Alzheimers-Disease.jpg
END:VEVENT
END:VCALENDAR