BEGIN:VCALENDAR
VERSION:2.0
PRODID:-//Huron Shores - ECPv6.15.11//NONSGML v1.0//EN
CALSCALE:GREGORIAN
METHOD:PUBLISH
X-WR-CALNAME:Huron Shores
X-ORIGINAL-URL:https://huronshores.ca
X-WR-CALDESC:Events for Huron Shores
REFRESH-INTERVAL;VALUE=DURATION:PT1H
X-Robots-Tag:noindex
X-PUBLISHED-TTL:PT1H
BEGIN:VTIMEZONE
TZID:America/Toronto
BEGIN:DAYLIGHT
TZOFFSETFROM:-0500
TZOFFSETTO:-0400
TZNAME:EDT
DTSTART:20150308T070000
END:DAYLIGHT
BEGIN:STANDARD
TZOFFSETFROM:-0400
TZOFFSETTO:-0500
TZNAME:EST
DTSTART:20151101T060000
END:STANDARD
BEGIN:DAYLIGHT
TZOFFSETFROM:-0500
TZOFFSETTO:-0400
TZNAME:EDT
DTSTART:20160313T070000
END:DAYLIGHT
BEGIN:STANDARD
TZOFFSETFROM:-0400
TZOFFSETTO:-0500
TZNAME:EST
DTSTART:20161106T060000
END:STANDARD
BEGIN:DAYLIGHT
TZOFFSETFROM:-0500
TZOFFSETTO:-0400
TZNAME:EDT
DTSTART:20170312T070000
END:DAYLIGHT
BEGIN:STANDARD
TZOFFSETFROM:-0400
TZOFFSETTO:-0500
TZNAME:EST
DTSTART:20171105T060000
END:STANDARD
END:VTIMEZONE
BEGIN:VEVENT
DTSTART;TZID=America/Toronto:20160917T140000
DTEND;TZID=America/Toronto:20160917T153000
DTSTAMP:20260425T110055
CREATED:20151021T181815Z
LAST-MODIFIED:20151021T181815Z
UID:10016068-1474120800-1474126200@huronshores.ca
SUMMARY:Alzheimer Info & Discussion Group
DESCRIPTION:The Alzheimer Society of Sault Ste. Marie & Algoma District hosts an Information & Discussion Group on the 2nd Wednesday of each month\, at the Calvary Gospel Church\, 55 Queen Street\, Blind River from 2:00 – 3:30 p.m.  For more information please call Tanya\, First Link Coordinator\, at 705-848-8145.
URL:https://huronshores.ca/event/alzheimer-info-discussion-group-2/2016-09-17/
LOCATION:Ontario
CATEGORIES:Community News
ATTACH;FMTTYPE=image/jpeg:https://huronshores.ca/wp-content/uploads/2013/01/Alzheimers-Disease.jpg
END:VEVENT
BEGIN:VEVENT
DTSTART;TZID=America/Toronto:20160918T140000
DTEND;TZID=America/Toronto:20160918T153000
DTSTAMP:20260425T110055
CREATED:20151021T181815Z
LAST-MODIFIED:20151021T181815Z
UID:10016069-1474207200-1474212600@huronshores.ca
SUMMARY:Alzheimer Info & Discussion Group
DESCRIPTION:The Alzheimer Society of Sault Ste. Marie & Algoma District hosts an Information & Discussion Group on the 2nd Wednesday of each month\, at the Calvary Gospel Church\, 55 Queen Street\, Blind River from 2:00 – 3:30 p.m.  For more information please call Tanya\, First Link Coordinator\, at 705-848-8145.
URL:https://huronshores.ca/event/alzheimer-info-discussion-group-2/2016-09-18/
LOCATION:Ontario
CATEGORIES:Community News
ATTACH;FMTTYPE=image/jpeg:https://huronshores.ca/wp-content/uploads/2013/01/Alzheimers-Disease.jpg
END:VEVENT
BEGIN:VEVENT
DTSTART;TZID=America/Toronto:20160919T140000
DTEND;TZID=America/Toronto:20160919T153000
DTSTAMP:20260425T110055
CREATED:20151021T181815Z
LAST-MODIFIED:20151021T181815Z
UID:10016070-1474293600-1474299000@huronshores.ca
SUMMARY:Alzheimer Info & Discussion Group
DESCRIPTION:The Alzheimer Society of Sault Ste. Marie & Algoma District hosts an Information & Discussion Group on the 2nd Wednesday of each month\, at the Calvary Gospel Church\, 55 Queen Street\, Blind River from 2:00 – 3:30 p.m.  For more information please call Tanya\, First Link Coordinator\, at 705-848-8145.
URL:https://huronshores.ca/event/alzheimer-info-discussion-group-2/2016-09-19/
LOCATION:Ontario
CATEGORIES:Community News
ATTACH;FMTTYPE=image/jpeg:https://huronshores.ca/wp-content/uploads/2013/01/Alzheimers-Disease.jpg
END:VEVENT
BEGIN:VEVENT
DTSTART;TZID=America/Toronto:20160919T190000
DTEND;TZID=America/Toronto:20160919T190000
DTSTAMP:20260425T110055
CREATED:20160916T191213Z
LAST-MODIFIED:20160916T191213Z
UID:10019453-1474311600-1474311600@huronshores.ca
SUMMARY:2 Worlds United Trio
DESCRIPTION:The 2 Worlds United Trio (Pierre Schryer\, Dermot Byrne\, Adam Dobres) are playing at Yellow Steeple Music Hall\, 44 Michigan Ave.\, Blind River.  Doors open at 7:00 p.m; Concert at 7:30 p.m.  Admission $20 (advance)/$25 (door)  For more INFO or Advance Tickets contact:  Rose 705-849-2261 or text 705-849-3288.  Sponsored in part by Christine Elliott Counselling Services\, Lakeview Inn\, Barrel of Goodies Bulk Food Store.
URL:https://huronshores.ca/event/2-worlds-united-trio/
LOCATION:Ontario
CATEGORIES:Community News
ATTACH;FMTTYPE=image/jpeg:https://huronshores.ca/wp-content/uploads/2016/09/2-Worlds-United-Trio.jpg
END:VEVENT
BEGIN:VEVENT
DTSTART;TZID=America/Toronto:20160920T140000
DTEND;TZID=America/Toronto:20160920T153000
DTSTAMP:20260425T110055
CREATED:20151021T181815Z
LAST-MODIFIED:20151021T181815Z
UID:10016071-1474380000-1474385400@huronshores.ca
SUMMARY:Alzheimer Info & Discussion Group
DESCRIPTION:The Alzheimer Society of Sault Ste. Marie & Algoma District hosts an Information & Discussion Group on the 2nd Wednesday of each month\, at the Calvary Gospel Church\, 55 Queen Street\, Blind River from 2:00 – 3:30 p.m.  For more information please call Tanya\, First Link Coordinator\, at 705-848-8145.
URL:https://huronshores.ca/event/alzheimer-info-discussion-group-2/2016-09-20/
LOCATION:Ontario
CATEGORIES:Community News
ATTACH;FMTTYPE=image/jpeg:https://huronshores.ca/wp-content/uploads/2013/01/Alzheimers-Disease.jpg
END:VEVENT
BEGIN:VEVENT
DTSTART;TZID=America/Toronto:20160921T140000
DTEND;TZID=America/Toronto:20160921T153000
DTSTAMP:20260425T110055
CREATED:20151021T181815Z
LAST-MODIFIED:20151021T181815Z
UID:10016072-1474466400-1474471800@huronshores.ca
SUMMARY:Alzheimer Info & Discussion Group
DESCRIPTION:The Alzheimer Society of Sault Ste. Marie & Algoma District hosts an Information & Discussion Group on the 2nd Wednesday of each month\, at the Calvary Gospel Church\, 55 Queen Street\, Blind River from 2:00 – 3:30 p.m.  For more information please call Tanya\, First Link Coordinator\, at 705-848-8145.
URL:https://huronshores.ca/event/alzheimer-info-discussion-group-2/2016-09-21/
LOCATION:Ontario
CATEGORIES:Community News
ATTACH;FMTTYPE=image/jpeg:https://huronshores.ca/wp-content/uploads/2013/01/Alzheimers-Disease.jpg
END:VEVENT
BEGIN:VEVENT
DTSTART;TZID=America/Toronto:20160921T190000
DTEND;TZID=America/Toronto:20160921T190000
DTSTAMP:20260425T110055
CREATED:20160916T155112Z
LAST-MODIFIED:20160916T155112Z
UID:10019450-1474484400-1474484400@huronshores.ca
SUMMARY:Special Council Meeting
DESCRIPTION:A Special Meeting of Council will be held on Wednesday\, September 21/16 at 7:00 p.m. in the Council Chambers\, 7 Bridge Street\, Iron Bridge.  The Special Meeting was authorized via Resolution #16-22-04\, dated September 14/16\, in order to review required\, and possible\, conditions that may be considered to make a decision respecting the Application for Consent to Sever File 2016-C-2 (Van Hoof to Seabrook). The Agenda was posted on Monday\, September 19/16.  Please click on the link below to view the Agenda post.
URL:https://huronshores.ca/event/special-council-meeting-4/
LOCATION:Ontario
CATEGORIES:Council Meeting,Planning & Zoning
ATTACH;FMTTYPE=:
END:VEVENT
BEGIN:VEVENT
DTSTART;TZID=America/Toronto:20160921T193000
DTEND;TZID=America/Toronto:20160921T193000
DTSTAMP:20260425T110055
CREATED:20160721T182330Z
LAST-MODIFIED:20160721T182330Z
UID:10019637-1474486200-1474486200@huronshores.ca
SUMMARY:Jammin' Session at the Thessalon Community Curling Club
DESCRIPTION:Every Wedneday night at 7:30PM\, join us at Thessalon Community Curling Club for our Jammin’ Session. You play an instrument and love to play with other instrumentalists\, or just love to listen to live music\, then come on down…the bar is open! Everyone welcome! Bring a friend!
URL:https://huronshores.ca/event/jammin-session-at-the-thessalon-community-curling-club/2016-09-21/
LOCATION:Ontario
CATEGORIES:Recreation
END:VEVENT
BEGIN:VEVENT
DTSTART;TZID=America/Toronto:20160922T140000
DTEND;TZID=America/Toronto:20160922T153000
DTSTAMP:20260425T110055
CREATED:20151021T181815Z
LAST-MODIFIED:20151021T181815Z
UID:10016073-1474552800-1474558200@huronshores.ca
SUMMARY:Alzheimer Info & Discussion Group
DESCRIPTION:The Alzheimer Society of Sault Ste. Marie & Algoma District hosts an Information & Discussion Group on the 2nd Wednesday of each month\, at the Calvary Gospel Church\, 55 Queen Street\, Blind River from 2:00 – 3:30 p.m.  For more information please call Tanya\, First Link Coordinator\, at 705-848-8145.
URL:https://huronshores.ca/event/alzheimer-info-discussion-group-2/2016-09-22/
LOCATION:Ontario
CATEGORIES:Community News
ATTACH;FMTTYPE=image/jpeg:https://huronshores.ca/wp-content/uploads/2013/01/Alzheimers-Disease.jpg
END:VEVENT
BEGIN:VEVENT
DTSTART;TZID=America/Toronto:20160923T140000
DTEND;TZID=America/Toronto:20160923T153000
DTSTAMP:20260425T110055
CREATED:20151021T181815Z
LAST-MODIFIED:20151021T181815Z
UID:10016074-1474639200-1474644600@huronshores.ca
SUMMARY:Alzheimer Info & Discussion Group
DESCRIPTION:The Alzheimer Society of Sault Ste. Marie & Algoma District hosts an Information & Discussion Group on the 2nd Wednesday of each month\, at the Calvary Gospel Church\, 55 Queen Street\, Blind River from 2:00 – 3:30 p.m.  For more information please call Tanya\, First Link Coordinator\, at 705-848-8145.
URL:https://huronshores.ca/event/alzheimer-info-discussion-group-2/2016-09-23/
LOCATION:Ontario
CATEGORIES:Community News
ATTACH;FMTTYPE=image/jpeg:https://huronshores.ca/wp-content/uploads/2013/01/Alzheimers-Disease.jpg
END:VEVENT
BEGIN:VEVENT
DTSTART;VALUE=DATE:20160924
DTEND;VALUE=DATE:20160925
DTSTAMP:20260425T110055
CREATED:20160224T194222Z
LAST-MODIFIED:20160224T194222Z
UID:10019551-1474675200-1474761599@huronshores.ca
SUMMARY:Fall Harvest & Music Festival & More!
DESCRIPTION:The Iron Bridge Historical Museum Committee hosts the Fall Harvest & Music Festival\, Saturday\, September 24/16 at the Iron Bridge Recreation Centre\, 1 Chiblow Lake Rd.  The last Iron Bridge Farmers’ Market for the season will also be held this date at the Rec Centre.  The Music Fest will be followed by a turkey supper from 5:00 – 7:00 p.m. \, courtesy of the Iron Bridge Agricultural Society\, and a Dance from 8:00 p.m. to midnight\, sponsored by the Iron Bridge Rec Committee.  Both the Supper and the Dance are licensed under the LLBO. Click on the link below to view the post with more details!
URL:https://huronshores.ca/event/fall-harvest-music-festival/
LOCATION:Ontario
CATEGORIES:Community News,Farmers' Markets,Local Food
ATTACH;FMTTYPE=image/jpeg:https://huronshores.ca/wp-content/uploads/2013/09/harvest.jpg
END:VEVENT
BEGIN:VEVENT
DTSTART;TZID=America/Toronto:20160924T090000
DTEND;TZID=America/Toronto:20160924T140000
DTSTAMP:20260425T110055
CREATED:20160601T181327Z
LAST-MODIFIED:20160601T181327Z
UID:10019602-1474707600-1474725600@huronshores.ca
SUMMARY:Sowerby Farmers' Market
DESCRIPTION:The Farmers’ Market in Sowerby is held every Saturday from 9:00 a.m. to 2:00 p.m.\, June to September\, at the Historic Cordukes/Weber 12-Sided Barn\, 1410 Basswood Lake Road\, just north of the intersection with Highway 17.
URL:https://huronshores.ca/event/sowerby-farmers-market-2/2016-09-24/
LOCATION:Ontario
CATEGORIES:Community News,Farmers' Markets
ATTACH;FMTTYPE=image/jpeg:https://huronshores.ca/wp-content/uploads/2014/02/farmers-market-623x200-1.jpg
END:VEVENT
BEGIN:VEVENT
DTSTART;TZID=America/Toronto:20160924T133000
DTEND;TZID=America/Toronto:20160924T153000
DTSTAMP:20260425T110055
CREATED:20160916T200055Z
LAST-MODIFIED:20160916T200055Z
UID:10019456-1474723800-1474731000@huronshores.ca
SUMMARY:Autumn Tea "Back to the Fifties"
DESCRIPTION:An Autumn Tea will be held on Saturday\, September 24/16 at Zion United Church\, Thessalon\, from 1:30 – 3;30 p.m.  The Theme is “Back to the Fifties”.  All welcome.  Sponsored by the Zionettes.
URL:https://huronshores.ca/event/autumn-tea-back-to-the-fifties/
LOCATION:Ontario
CATEGORIES:Community News
ATTACH;FMTTYPE=image/jpeg:https://huronshores.ca/wp-content/uploads/2015/09/Harvest-Tea.jpg
END:VEVENT
BEGIN:VEVENT
DTSTART;TZID=America/Toronto:20160924T140000
DTEND;TZID=America/Toronto:20160924T153000
DTSTAMP:20260425T110055
CREATED:20151021T181815Z
LAST-MODIFIED:20151021T181815Z
UID:10016075-1474725600-1474731000@huronshores.ca
SUMMARY:Alzheimer Info & Discussion Group
DESCRIPTION:The Alzheimer Society of Sault Ste. Marie & Algoma District hosts an Information & Discussion Group on the 2nd Wednesday of each month\, at the Calvary Gospel Church\, 55 Queen Street\, Blind River from 2:00 – 3:30 p.m.  For more information please call Tanya\, First Link Coordinator\, at 705-848-8145.
URL:https://huronshores.ca/event/alzheimer-info-discussion-group-2/2016-09-24/
LOCATION:Ontario
CATEGORIES:Community News
ATTACH;FMTTYPE=image/jpeg:https://huronshores.ca/wp-content/uploads/2013/01/Alzheimers-Disease.jpg
END:VEVENT
BEGIN:VEVENT
DTSTART;TZID=America/Toronto:20160925T140000
DTEND;TZID=America/Toronto:20160925T153000
DTSTAMP:20260425T110055
CREATED:20151021T181815Z
LAST-MODIFIED:20151021T181815Z
UID:10016076-1474812000-1474817400@huronshores.ca
SUMMARY:Alzheimer Info & Discussion Group
DESCRIPTION:The Alzheimer Society of Sault Ste. Marie & Algoma District hosts an Information & Discussion Group on the 2nd Wednesday of each month\, at the Calvary Gospel Church\, 55 Queen Street\, Blind River from 2:00 – 3:30 p.m.  For more information please call Tanya\, First Link Coordinator\, at 705-848-8145.
URL:https://huronshores.ca/event/alzheimer-info-discussion-group-2/2016-09-25/
LOCATION:Ontario
CATEGORIES:Community News
ATTACH;FMTTYPE=image/jpeg:https://huronshores.ca/wp-content/uploads/2013/01/Alzheimers-Disease.jpg
END:VEVENT
BEGIN:VEVENT
DTSTART;TZID=America/Toronto:20160926T140000
DTEND;TZID=America/Toronto:20160926T153000
DTSTAMP:20260425T110055
CREATED:20151021T181815Z
LAST-MODIFIED:20151021T181815Z
UID:10016077-1474898400-1474903800@huronshores.ca
SUMMARY:Alzheimer Info & Discussion Group
DESCRIPTION:The Alzheimer Society of Sault Ste. Marie & Algoma District hosts an Information & Discussion Group on the 2nd Wednesday of each month\, at the Calvary Gospel Church\, 55 Queen Street\, Blind River from 2:00 – 3:30 p.m.  For more information please call Tanya\, First Link Coordinator\, at 705-848-8145.
URL:https://huronshores.ca/event/alzheimer-info-discussion-group-2/2016-09-26/
LOCATION:Ontario
CATEGORIES:Community News
ATTACH;FMTTYPE=image/jpeg:https://huronshores.ca/wp-content/uploads/2013/01/Alzheimers-Disease.jpg
END:VEVENT
BEGIN:VEVENT
DTSTART;TZID=America/Toronto:20160927T110000
DTEND;TZID=America/Toronto:20160927T190000
DTSTAMP:20260425T110055
CREATED:20160923T205445Z
LAST-MODIFIED:20160923T205445Z
UID:10019470-1474974000-1475002800@huronshores.ca
SUMMARY:Blue Umbrella Program Launch
DESCRIPTION:Everyone is Welcome to the Open House for the Blue Umbrella Program Launch on Tuesday\, September 27/16 from 11:00 a.m. to 7:00 p.m. at 33 Woodward Ave.\, Blind River.  Please join the Alzheimer Society at their NEW satellite office and learn how Blind River is becoming Dementia Friendly!  Refreshments will be served.  Cameco Thank-you Celebration @ 4:00 p.m.
URL:https://huronshores.ca/event/blue-umbrella-program-launch/
LOCATION:Ontario
CATEGORIES:Community News,Health & Safety
ATTACH;FMTTYPE=image/jpeg:https://huronshores.ca/wp-content/uploads/2016/09/alzheimer-Blue-Umbrella.jpg
END:VEVENT
BEGIN:VEVENT
DTSTART;TZID=America/Toronto:20160927T140000
DTEND;TZID=America/Toronto:20160927T153000
DTSTAMP:20260425T110055
CREATED:20151021T181815Z
LAST-MODIFIED:20151021T181815Z
UID:10016078-1474984800-1474990200@huronshores.ca
SUMMARY:Alzheimer Info & Discussion Group
DESCRIPTION:The Alzheimer Society of Sault Ste. Marie & Algoma District hosts an Information & Discussion Group on the 2nd Wednesday of each month\, at the Calvary Gospel Church\, 55 Queen Street\, Blind River from 2:00 – 3:30 p.m.  For more information please call Tanya\, First Link Coordinator\, at 705-848-8145.
URL:https://huronshores.ca/event/alzheimer-info-discussion-group-2/2016-09-27/
LOCATION:Ontario
CATEGORIES:Community News
ATTACH;FMTTYPE=image/jpeg:https://huronshores.ca/wp-content/uploads/2013/01/Alzheimers-Disease.jpg
END:VEVENT
BEGIN:VEVENT
DTSTART;TZID=America/Toronto:20160928T093000
DTEND;TZID=America/Toronto:20160928T113000
DTSTAMP:20260425T110055
CREATED:20160916T200955Z
LAST-MODIFIED:20160916T200955Z
UID:10019460-1475055000-1475062200@huronshores.ca
SUMMARY:Coffee Time
DESCRIPTION:Join us for “Coffee Time” at Zion United Church\, in the lower level\, from 9:30 -11:30 a.m. on the second and fourth Wednesday of the month.  Enjoy coffee and fellowship.
URL:https://huronshores.ca/event/coffee-time/2016-09-28/
LOCATION:Ontario
CATEGORIES:Community News
ATTACH;FMTTYPE=image/jpeg:https://huronshores.ca/wp-content/uploads/2012/09/coffee_cup_clip_art_154678.jpg
END:VEVENT
BEGIN:VEVENT
DTSTART;TZID=America/Toronto:20160928T140000
DTEND;TZID=America/Toronto:20160928T153000
DTSTAMP:20260425T110055
CREATED:20151021T181815Z
LAST-MODIFIED:20151021T181815Z
UID:10016079-1475071200-1475076600@huronshores.ca
SUMMARY:Alzheimer Info & Discussion Group
DESCRIPTION:The Alzheimer Society of Sault Ste. Marie & Algoma District hosts an Information & Discussion Group on the 2nd Wednesday of each month\, at the Calvary Gospel Church\, 55 Queen Street\, Blind River from 2:00 – 3:30 p.m.  For more information please call Tanya\, First Link Coordinator\, at 705-848-8145.
URL:https://huronshores.ca/event/alzheimer-info-discussion-group-2/2016-09-28/
LOCATION:Ontario
CATEGORIES:Community News
ATTACH;FMTTYPE=image/jpeg:https://huronshores.ca/wp-content/uploads/2013/01/Alzheimers-Disease.jpg
END:VEVENT
BEGIN:VEVENT
DTSTART;TZID=America/Toronto:20160928T160000
DTEND;TZID=America/Toronto:20160928T200000
DTSTAMP:20260425T110055
CREATED:20160923T204739Z
LAST-MODIFIED:20160923T204739Z
UID:10019469-1475078400-1475092800@huronshores.ca
SUMMARY:Blood Donor Clinic
DESCRIPTION:Canadian Blood Services will hold a blood donor clinic on Wednesday\, September 28/16 from 4:00 to 8:00 p.m. at the Blind River Community Centre.  Book your appointment to donate at blood.ca\, call 1 888 2 DONATE (1 888 236 6283).  We do accept walk-ins!
URL:https://huronshores.ca/event/blood-donor-clinic-2/
LOCATION:Ontario
CATEGORIES:Community News
ATTACH;FMTTYPE=image/png:https://huronshores.ca/wp-content/uploads/2015/01/blood-home-logo.png
END:VEVENT
BEGIN:VEVENT
DTSTART;TZID=America/Toronto:20160928T190000
DTEND;TZID=America/Toronto:20160928T190000
DTSTAMP:20260425T110055
CREATED:20160115T191901Z
LAST-MODIFIED:20160115T191901Z
UID:10019480-1475089200-1475089200@huronshores.ca
SUMMARY:Regular Council Meeting
DESCRIPTION:The Regular Meeting of Council will be held Wednesday\, September 28/16 at 7:00 p.m. in the Council Chambers\, 7 Bridge Street\, Iron Bridge.  The Agenda will be posted on Monday\, September 26/16.
URL:https://huronshores.ca/event/regular-council-meeting-25/
LOCATION:Ontario
CATEGORIES:Council Meeting
ATTACH;FMTTYPE=:
END:VEVENT
BEGIN:VEVENT
DTSTART;TZID=America/Toronto:20160928T193000
DTEND;TZID=America/Toronto:20160928T193000
DTSTAMP:20260425T110055
CREATED:20160721T182330Z
LAST-MODIFIED:20160721T182330Z
UID:10019638-1475091000-1475091000@huronshores.ca
SUMMARY:Jammin' Session at the Thessalon Community Curling Club
DESCRIPTION:Every Wedneday night at 7:30PM\, join us at Thessalon Community Curling Club for our Jammin’ Session. You play an instrument and love to play with other instrumentalists\, or just love to listen to live music\, then come on down…the bar is open! Everyone welcome! Bring a friend!
URL:https://huronshores.ca/event/jammin-session-at-the-thessalon-community-curling-club/2016-09-28/
LOCATION:Ontario
CATEGORIES:Recreation
END:VEVENT
BEGIN:VEVENT
DTSTART;TZID=America/Toronto:20160929T140000
DTEND;TZID=America/Toronto:20160929T153000
DTSTAMP:20260425T110056
CREATED:20151021T181815Z
LAST-MODIFIED:20151021T181815Z
UID:10016080-1475157600-1475163000@huronshores.ca
SUMMARY:Alzheimer Info & Discussion Group
DESCRIPTION:The Alzheimer Society of Sault Ste. Marie & Algoma District hosts an Information & Discussion Group on the 2nd Wednesday of each month\, at the Calvary Gospel Church\, 55 Queen Street\, Blind River from 2:00 – 3:30 p.m.  For more information please call Tanya\, First Link Coordinator\, at 705-848-8145.
URL:https://huronshores.ca/event/alzheimer-info-discussion-group-2/2016-09-29/
LOCATION:Ontario
CATEGORIES:Community News
ATTACH;FMTTYPE=image/jpeg:https://huronshores.ca/wp-content/uploads/2013/01/Alzheimers-Disease.jpg
END:VEVENT
BEGIN:VEVENT
DTSTART;TZID=America/Toronto:20160930T083000
DTEND;TZID=America/Toronto:20160930T160000
DTSTAMP:20260425T110056
CREATED:20160115T192454Z
LAST-MODIFIED:20160115T192454Z
UID:10019482-1475224200-1475251200@huronshores.ca
SUMMARY:2016 Final Tax Billing - 1st Installment
DESCRIPTION:The first installment of the 2016 Final Tax Billing is due Friday\, September 30/16 at 4:30 p.m.  Payment must be in Canadian funds ($$) and may be remitted by credit card via e-Payments on the Home page of huronshores.ca; in the mail by cheque or money order; or in person at the Municipal Office\, Monday – Friday\, 8:30 a.m. – 4:30 p.m. (cash or cheque only\, no debit).  Installments are due the last business day in September and in November.
URL:https://huronshores.ca/event/2016-final-tax-billing-1st-installment/
LOCATION:Ontario
CATEGORIES:Treasury
ATTACH;FMTTYPE=image/jpeg:https://huronshores.ca/wp-content/uploads/2012/09/Mailings.jpg
END:VEVENT
BEGIN:VEVENT
DTSTART;TZID=America/Toronto:20160930T140000
DTEND;TZID=America/Toronto:20160930T153000
DTSTAMP:20260425T110056
CREATED:20151021T181815Z
LAST-MODIFIED:20151021T181815Z
UID:10016081-1475244000-1475249400@huronshores.ca
SUMMARY:Alzheimer Info & Discussion Group
DESCRIPTION:The Alzheimer Society of Sault Ste. Marie & Algoma District hosts an Information & Discussion Group on the 2nd Wednesday of each month\, at the Calvary Gospel Church\, 55 Queen Street\, Blind River from 2:00 – 3:30 p.m.  For more information please call Tanya\, First Link Coordinator\, at 705-848-8145.
URL:https://huronshores.ca/event/alzheimer-info-discussion-group-2/2016-09-30/
LOCATION:Ontario
CATEGORIES:Community News
ATTACH;FMTTYPE=image/jpeg:https://huronshores.ca/wp-content/uploads/2013/01/Alzheimers-Disease.jpg
END:VEVENT
BEGIN:VEVENT
DTSTART;TZID=America/Toronto:20160930T190000
DTEND;TZID=America/Toronto:20160930T210000
DTSTAMP:20260425T110056
CREATED:20160916T192532Z
LAST-MODIFIED:20160916T192532Z
UID:10019454-1475262000-1475269200@huronshores.ca
SUMMARY:Music & Coffee Night
DESCRIPTION:Friday\, September 30/16 is Music and Coffee Night at the Thessalon Public Library\, Main Street\, Thessalon from 7:00 – 9:00 p.m.  Come enjoy the music of Pete Sageloly & Friends.  Thank you for supporting the Thessalon Public Library.
URL:https://huronshores.ca/event/music-coffee-night/
LOCATION:Ontario
CATEGORIES:Community News
ATTACH;FMTTYPE=image/jpeg:https://huronshores.ca/wp-content/uploads/2012/03/Thessalon_Union_Public_Library.jpg
END:VEVENT
BEGIN:VEVENT
DTSTART;VALUE=DATE:20161001
DTEND;VALUE=DATE:20161002
DTSTAMP:20260425T110056
CREATED:20160115T200157Z
LAST-MODIFIED:20160115T200157Z
UID:10019490-1475280000-1475366399@huronshores.ca
SUMMARY:Waste Site Winter Hours
DESCRIPTION:Effective October 1st to March 31st the Waste Sites shift their Winter Hours of Operation to Saturdays 9:00 a.m. to 5:00 p.m.; Mondays and Wednesday 2:00-6:00 p.m.  Please click on the link below to visit the Waste Disposal & Recycling Program page of this site for waste site locations and further information.
URL:https://huronshores.ca/event/waste-site-winter-hours/
LOCATION:Ontario
CATEGORIES:Waste Disposal
ATTACH;FMTTYPE=image/png:https://huronshores.ca/wp-content/uploads/2012/06/trash-dumpster-white.svg_.thumb_.png
END:VEVENT
BEGIN:VEVENT
DTSTART;VALUE=DATE:20161001
DTEND;VALUE=DATE:20161002
DTSTAMP:20260425T110056
CREATED:20160921T141112Z
LAST-MODIFIED:20160921T141112Z
UID:10019466-1475280000-1475366399@huronshores.ca
SUMMARY:Lions 2nd Annual Fall ATV & Poker Run
DESCRIPTION:The Thessalon Lions Club is hosting its 2nd Annual Fall ATV & Poker Run on Saturday\, October 1/16.  Riders meet at the Thessalon Twp. Community Centre\, 4 Little Rapids Rd.\, at 8:00 a.m. for registration and continental breakfast.  Registration also includes a barbecue lunch at Tunnel Lake Trading Post and Dinner at the Community Centre in the evening.  Cost:  $50 ATV & Rider; $25 Additional Adult Rider; $15 Additional Child Rider.  Call Blair at 705-842-0592 for details.
URL:https://huronshores.ca/event/lions-2nd-annual-fall-atv-poker-run/
LOCATION:Ontario
CATEGORIES:Community News,Recreation
ATTACH;FMTTYPE=image/jpeg:https://huronshores.ca/wp-content/uploads/2016/09/2016-ATV-poster.jpg
END:VEVENT
BEGIN:VEVENT
DTSTART;VALUE=DATE:20161001
DTEND;VALUE=DATE:20161002
DTSTAMP:20260425T110056
CREATED:20160926T142604Z
LAST-MODIFIED:20160926T142604Z
UID:10019473-1475280000-1475366399@huronshores.ca
SUMMARY:"Fall" in love with shopping local!
DESCRIPTION:The Blind River downtown merchants invite you to “Fall” in love with shopping local! Saturday\, October 1st\, 2016. There will be in store specials\, refreshments and customer appreciation draws. \nThe following are participating merchants: \nA Touch of Home\, Barrel of Goodies\, Co-Bo’s Party & Craft\, Cuddle Fish Pets & Supplies\, Hagger’s Footwear & Clothing\, Le Beau Corset\, Memory Lane\, Mitchell Pharmacy\, Norther Country Flowers\, Sad Sunshine Shop\, The Birch Tree\, and The Source/HP Distributing.
URL:https://huronshores.ca/event/fall-in-love-with-shopping-local/
LOCATION:Ontario
CATEGORIES:Community News
END:VEVENT
END:VCALENDAR