BEGIN:VCALENDAR
VERSION:2.0
PRODID:-//Huron Shores - ECPv6.15.11//NONSGML v1.0//EN
CALSCALE:GREGORIAN
METHOD:PUBLISH
X-WR-CALNAME:Huron Shores
X-ORIGINAL-URL:https://huronshores.ca
X-WR-CALDESC:Events for Huron Shores
REFRESH-INTERVAL;VALUE=DURATION:PT1H
X-Robots-Tag:noindex
X-PUBLISHED-TTL:PT1H
BEGIN:VTIMEZONE
TZID:America/Toronto
BEGIN:DAYLIGHT
TZOFFSETFROM:-0500
TZOFFSETTO:-0400
TZNAME:EDT
DTSTART:20170312T070000
END:DAYLIGHT
BEGIN:STANDARD
TZOFFSETFROM:-0400
TZOFFSETTO:-0500
TZNAME:EST
DTSTART:20171105T060000
END:STANDARD
BEGIN:DAYLIGHT
TZOFFSETFROM:-0500
TZOFFSETTO:-0400
TZNAME:EDT
DTSTART:20180311T070000
END:DAYLIGHT
BEGIN:STANDARD
TZOFFSETFROM:-0400
TZOFFSETTO:-0500
TZNAME:EST
DTSTART:20181104T060000
END:STANDARD
BEGIN:DAYLIGHT
TZOFFSETFROM:-0500
TZOFFSETTO:-0400
TZNAME:EDT
DTSTART:20190310T070000
END:DAYLIGHT
BEGIN:STANDARD
TZOFFSETFROM:-0400
TZOFFSETTO:-0500
TZNAME:EST
DTSTART:20191103T060000
END:STANDARD
BEGIN:DAYLIGHT
TZOFFSETFROM:-0500
TZOFFSETTO:-0400
TZNAME:EDT
DTSTART:20200308T070000
END:DAYLIGHT
BEGIN:STANDARD
TZOFFSETFROM:-0400
TZOFFSETTO:-0500
TZNAME:EST
DTSTART:20201101T060000
END:STANDARD
END:VTIMEZONE
BEGIN:VEVENT
DTSTART;TZID=America/Toronto:20181222T140000
DTEND;TZID=America/Toronto:20181222T153000
DTSTAMP:20260423T055143
CREATED:20151021T181815Z
LAST-MODIFIED:20151021T181815Z
UID:10016895-1545487200-1545492600@huronshores.ca
SUMMARY:Alzheimer Info & Discussion Group
DESCRIPTION:The Alzheimer Society of Sault Ste. Marie & Algoma District hosts an Information & Discussion Group on the 2nd Wednesday of each month\, at the Calvary Gospel Church\, 55 Queen Street\, Blind River from 2:00 – 3:30 p.m.  For more information please call Tanya\, First Link Coordinator\, at 705-848-8145.
URL:https://huronshores.ca/event/alzheimer-info-discussion-group-2/2018-12-22/
LOCATION:Ontario
CATEGORIES:Community News
ATTACH;FMTTYPE=image/jpeg:https://huronshores.ca/wp-content/uploads/2013/01/Alzheimers-Disease.jpg
END:VEVENT
BEGIN:VEVENT
DTSTART;TZID=America/Toronto:20181223T140000
DTEND;TZID=America/Toronto:20181223T153000
DTSTAMP:20260423T055143
CREATED:20151021T181815Z
LAST-MODIFIED:20151021T181815Z
UID:10016896-1545573600-1545579000@huronshores.ca
SUMMARY:Alzheimer Info & Discussion Group
DESCRIPTION:The Alzheimer Society of Sault Ste. Marie & Algoma District hosts an Information & Discussion Group on the 2nd Wednesday of each month\, at the Calvary Gospel Church\, 55 Queen Street\, Blind River from 2:00 – 3:30 p.m.  For more information please call Tanya\, First Link Coordinator\, at 705-848-8145.
URL:https://huronshores.ca/event/alzheimer-info-discussion-group-2/2018-12-23/
LOCATION:Ontario
CATEGORIES:Community News
ATTACH;FMTTYPE=image/jpeg:https://huronshores.ca/wp-content/uploads/2013/01/Alzheimers-Disease.jpg
END:VEVENT
BEGIN:VEVENT
DTSTART;TZID=America/Toronto:20181223T150000
DTEND;TZID=America/Toronto:20181223T150000
DTSTAMP:20260423T055143
CREATED:20181214T201112Z
LAST-MODIFIED:20181214T201112Z
UID:10020109-1545577200-1545577200@huronshores.ca
SUMMARY:Community Children's Christmas Pageant
DESCRIPTION:A Community Children’s Christmas Pageant will be held at 3:00 p.m.\, Sunday\, December 23/18\, at St. Ambrose Church\, 290 Water Street\, Thessalon.  All welcome.
URL:https://huronshores.ca/event/community-childrens-christmas-pageant/
LOCATION:Ontario
CATEGORIES:Community News
ATTACH;FMTTYPE=image/png:https://huronshores.ca/wp-content/uploads/2018/12/Childrens-Christmas-Pageant.png
END:VEVENT
BEGIN:VEVENT
DTSTART;TZID=America/Toronto:20181224T140000
DTEND;TZID=America/Toronto:20181224T153000
DTSTAMP:20260423T055143
CREATED:20151021T181815Z
LAST-MODIFIED:20151021T181815Z
UID:10016897-1545660000-1545665400@huronshores.ca
SUMMARY:Alzheimer Info & Discussion Group
DESCRIPTION:The Alzheimer Society of Sault Ste. Marie & Algoma District hosts an Information & Discussion Group on the 2nd Wednesday of each month\, at the Calvary Gospel Church\, 55 Queen Street\, Blind River from 2:00 – 3:30 p.m.  For more information please call Tanya\, First Link Coordinator\, at 705-848-8145.
URL:https://huronshores.ca/event/alzheimer-info-discussion-group-2/2018-12-24/
LOCATION:Ontario
CATEGORIES:Community News
ATTACH;FMTTYPE=image/jpeg:https://huronshores.ca/wp-content/uploads/2013/01/Alzheimers-Disease.jpg
END:VEVENT
BEGIN:VEVENT
DTSTART;VALUE=DATE:20181225
DTEND;VALUE=DATE:20181226
DTSTAMP:20260423T055143
CREATED:20171129T211153Z
LAST-MODIFIED:20171129T211153Z
UID:10020434-1545696000-1545782399@huronshores.ca
SUMMARY:Christmas Day
DESCRIPTION:Wishing everyone a Safe\, Happy\, and Merry Christmas from Council\, Fire Department & Staff  of Huron Shores!
URL:https://huronshores.ca/event/christmas-day-3/2018-12-25/
LOCATION:Ontario
CATEGORIES:Community News
ATTACH;FMTTYPE=image/jpeg:https://huronshores.ca/wp-content/uploads/2015/12/Christmas_Tree_in_Snow_Wallpaper_1280x720_wallpaperhere.jpg
END:VEVENT
BEGIN:VEVENT
DTSTART;TZID=America/Toronto:20181225T140000
DTEND;TZID=America/Toronto:20181225T153000
DTSTAMP:20260423T055143
CREATED:20151021T181815Z
LAST-MODIFIED:20151021T181815Z
UID:10016898-1545746400-1545751800@huronshores.ca
SUMMARY:Alzheimer Info & Discussion Group
DESCRIPTION:The Alzheimer Society of Sault Ste. Marie & Algoma District hosts an Information & Discussion Group on the 2nd Wednesday of each month\, at the Calvary Gospel Church\, 55 Queen Street\, Blind River from 2:00 – 3:30 p.m.  For more information please call Tanya\, First Link Coordinator\, at 705-848-8145.
URL:https://huronshores.ca/event/alzheimer-info-discussion-group-2/2018-12-25/
LOCATION:Ontario
CATEGORIES:Community News
ATTACH;FMTTYPE=image/jpeg:https://huronshores.ca/wp-content/uploads/2013/01/Alzheimers-Disease.jpg
END:VEVENT
BEGIN:VEVENT
DTSTART;VALUE=DATE:20181226
DTEND;VALUE=DATE:20181227
DTSTAMP:20260423T055143
CREATED:20171129T211610Z
LAST-MODIFIED:20171129T211610Z
UID:10020437-1545782400-1545868799@huronshores.ca
SUMMARY:Boxing Day
DESCRIPTION:All Waste Sites will be CLOSED for the statutory Boxing Day holiday.  The Waste Sites will have abbreviated hours of operation on December 24 & 31 (2:00-4:00 p.m.) but will operate\, as per usual on the Saturdays during the holiday week from 9:00 a.m.-5:00 p.m. Happy Holidays!
URL:https://huronshores.ca/event/boxing-day-3/
LOCATION:Ontario
CATEGORIES:Community News,Waste Disposal
ATTACH;FMTTYPE=image/jpeg:https://huronshores.ca/wp-content/uploads/2016/01/Boxing-Day.jpg
END:VEVENT
BEGIN:VEVENT
DTSTART;TZID=America/Toronto:20181226T140000
DTEND;TZID=America/Toronto:20181226T153000
DTSTAMP:20260423T055143
CREATED:20151021T181815Z
LAST-MODIFIED:20151021T181815Z
UID:10016899-1545832800-1545838200@huronshores.ca
SUMMARY:Alzheimer Info & Discussion Group
DESCRIPTION:The Alzheimer Society of Sault Ste. Marie & Algoma District hosts an Information & Discussion Group on the 2nd Wednesday of each month\, at the Calvary Gospel Church\, 55 Queen Street\, Blind River from 2:00 – 3:30 p.m.  For more information please call Tanya\, First Link Coordinator\, at 705-848-8145.
URL:https://huronshores.ca/event/alzheimer-info-discussion-group-2/2018-12-26/
LOCATION:Ontario
CATEGORIES:Community News
ATTACH;FMTTYPE=image/jpeg:https://huronshores.ca/wp-content/uploads/2013/01/Alzheimers-Disease.jpg
END:VEVENT
BEGIN:VEVENT
DTSTART;TZID=America/Toronto:20181226T190000
DTEND;TZID=America/Toronto:20181226T200000
DTSTAMP:20260423T055143
CREATED:20180820T124008Z
LAST-MODIFIED:20180820T124008Z
UID:10020613-1545850800-1545854400@huronshores.ca
SUMMARY:Rollerblade Ball Hockey
DESCRIPTION:Begins on August 1st\, 2018 and runs every Wednesday night at 7:00 pm.  Kids of all ages welcome! Hosted by the Iron Bridge Recreation Committee. \nAdmission: $2/kid; Note: Must have knee and elbow pads and a helmet.
URL:https://huronshores.ca/event/rollerblade-ball-hockey/2018-12-26/
LOCATION:Ontario
CATEGORIES:Recreation
END:VEVENT
BEGIN:VEVENT
DTSTART;TZID=America/Toronto:20181226T193000
DTEND;TZID=America/Toronto:20181226T193000
DTSTAMP:20260423T055143
CREATED:20160721T182330Z
LAST-MODIFIED:20160721T182330Z
UID:10019755-1545852600-1545852600@huronshores.ca
SUMMARY:Jammin' Session at the Thessalon Community Curling Club
DESCRIPTION:Every Wedneday night at 7:30PM\, join us at Thessalon Community Curling Club for our Jammin’ Session. You play an instrument and love to play with other instrumentalists\, or just love to listen to live music\, then come on down…the bar is open! Everyone welcome! Bring a friend!
URL:https://huronshores.ca/event/jammin-session-at-the-thessalon-community-curling-club/2018-12-26/
LOCATION:Ontario
CATEGORIES:Recreation
END:VEVENT
BEGIN:VEVENT
DTSTART;TZID=America/Toronto:20181227T140000
DTEND;TZID=America/Toronto:20181227T153000
DTSTAMP:20260423T055143
CREATED:20151021T181815Z
LAST-MODIFIED:20151021T181815Z
UID:10016900-1545919200-1545924600@huronshores.ca
SUMMARY:Alzheimer Info & Discussion Group
DESCRIPTION:The Alzheimer Society of Sault Ste. Marie & Algoma District hosts an Information & Discussion Group on the 2nd Wednesday of each month\, at the Calvary Gospel Church\, 55 Queen Street\, Blind River from 2:00 – 3:30 p.m.  For more information please call Tanya\, First Link Coordinator\, at 705-848-8145.
URL:https://huronshores.ca/event/alzheimer-info-discussion-group-2/2018-12-27/
LOCATION:Ontario
CATEGORIES:Community News
ATTACH;FMTTYPE=image/jpeg:https://huronshores.ca/wp-content/uploads/2013/01/Alzheimers-Disease.jpg
END:VEVENT
BEGIN:VEVENT
DTSTART;TZID=America/Toronto:20181227T180000
DTEND;TZID=America/Toronto:20181227T190000
DTSTAMP:20260423T055143
CREATED:20180820T124956Z
LAST-MODIFIED:20180820T124956Z
UID:10020981-1545933600-1545937200@huronshores.ca
SUMMARY:Iron Bridge Recreation Family Walking Group
DESCRIPTION:Every Thursday beginning on August 9\, 2018 from 6:00-7:00 pm at the Iron Bridge Recreation Centre.  Hosted by the Iron Bridge Recreation Committee. \nFee by donation. Families are all welcomed to come! There will be toys for children to play with\, or they can join the walking group. There will be fitness tracker sheets available; a prize will be awarded for the most active participant. \nBenefits of walking:\nEvery minute of walking can extend your life by 1.5-2 minutes.\nIncreases physical activity.\nLowers obesity rates.\nLower risk of chronic diseases such as diabetes\, stroke and heart disease.\nReduces stress and depression.
URL:https://huronshores.ca/event/iron-bridge-recreation-family-walking-group/2018-12-27/
LOCATION:Ontario
CATEGORIES:Recreation
END:VEVENT
BEGIN:VEVENT
DTSTART;TZID=America/Toronto:20181228T140000
DTEND;TZID=America/Toronto:20181228T153000
DTSTAMP:20260423T055143
CREATED:20151021T181815Z
LAST-MODIFIED:20151021T181815Z
UID:10016901-1546005600-1546011000@huronshores.ca
SUMMARY:Alzheimer Info & Discussion Group
DESCRIPTION:The Alzheimer Society of Sault Ste. Marie & Algoma District hosts an Information & Discussion Group on the 2nd Wednesday of each month\, at the Calvary Gospel Church\, 55 Queen Street\, Blind River from 2:00 – 3:30 p.m.  For more information please call Tanya\, First Link Coordinator\, at 705-848-8145.
URL:https://huronshores.ca/event/alzheimer-info-discussion-group-2/2018-12-28/
LOCATION:Ontario
CATEGORIES:Community News
ATTACH;FMTTYPE=image/jpeg:https://huronshores.ca/wp-content/uploads/2013/01/Alzheimers-Disease.jpg
END:VEVENT
BEGIN:VEVENT
DTSTART;TZID=America/Toronto:20181229T140000
DTEND;TZID=America/Toronto:20181229T153000
DTSTAMP:20260423T055143
CREATED:20151021T181815Z
LAST-MODIFIED:20151021T181815Z
UID:10016902-1546092000-1546097400@huronshores.ca
SUMMARY:Alzheimer Info & Discussion Group
DESCRIPTION:The Alzheimer Society of Sault Ste. Marie & Algoma District hosts an Information & Discussion Group on the 2nd Wednesday of each month\, at the Calvary Gospel Church\, 55 Queen Street\, Blind River from 2:00 – 3:30 p.m.  For more information please call Tanya\, First Link Coordinator\, at 705-848-8145.
URL:https://huronshores.ca/event/alzheimer-info-discussion-group-2/2018-12-29/
LOCATION:Ontario
CATEGORIES:Community News
ATTACH;FMTTYPE=image/jpeg:https://huronshores.ca/wp-content/uploads/2013/01/Alzheimers-Disease.jpg
END:VEVENT
BEGIN:VEVENT
DTSTART;TZID=America/Toronto:20181230T140000
DTEND;TZID=America/Toronto:20181230T153000
DTSTAMP:20260423T055143
CREATED:20151021T181815Z
LAST-MODIFIED:20151021T181815Z
UID:10016903-1546178400-1546183800@huronshores.ca
SUMMARY:Alzheimer Info & Discussion Group
DESCRIPTION:The Alzheimer Society of Sault Ste. Marie & Algoma District hosts an Information & Discussion Group on the 2nd Wednesday of each month\, at the Calvary Gospel Church\, 55 Queen Street\, Blind River from 2:00 – 3:30 p.m.  For more information please call Tanya\, First Link Coordinator\, at 705-848-8145.
URL:https://huronshores.ca/event/alzheimer-info-discussion-group-2/2018-12-30/
LOCATION:Ontario
CATEGORIES:Community News
ATTACH;FMTTYPE=image/jpeg:https://huronshores.ca/wp-content/uploads/2013/01/Alzheimers-Disease.jpg
END:VEVENT
BEGIN:VEVENT
DTSTART;TZID=America/Toronto:20181231T140000
DTEND;TZID=America/Toronto:20181231T153000
DTSTAMP:20260423T055143
CREATED:20151021T181815Z
LAST-MODIFIED:20151021T181815Z
UID:10016904-1546264800-1546270200@huronshores.ca
SUMMARY:Alzheimer Info & Discussion Group
DESCRIPTION:The Alzheimer Society of Sault Ste. Marie & Algoma District hosts an Information & Discussion Group on the 2nd Wednesday of each month\, at the Calvary Gospel Church\, 55 Queen Street\, Blind River from 2:00 – 3:30 p.m.  For more information please call Tanya\, First Link Coordinator\, at 705-848-8145.
URL:https://huronshores.ca/event/alzheimer-info-discussion-group-2/2018-12-31/
LOCATION:Ontario
CATEGORIES:Community News
ATTACH;FMTTYPE=image/jpeg:https://huronshores.ca/wp-content/uploads/2013/01/Alzheimers-Disease.jpg
END:VEVENT
BEGIN:VEVENT
DTSTART;VALUE=DATE:20190101
DTEND;VALUE=DATE:20190102
DTSTAMP:20260423T055143
CREATED:20171129T211945Z
LAST-MODIFIED:20171129T211945Z
UID:10020438-1546300800-1546387199@huronshores.ca
SUMMARY:New Year's Day
DESCRIPTION:The Municipal Office will be CLOSED for the New Year’s Day holiday.  The Office will re-open on Wednesday\, January 2/19 at 8:30 a.m.  Happy New Year from Council & staff of Huron Shores!
URL:https://huronshores.ca/event/new-years-day-2/
LOCATION:Ontario
CATEGORIES:Community News,Office Closure
ATTACH;FMTTYPE=image/jpeg:https://huronshores.ca/wp-content/uploads/2015/09/Happy-New-Year-Snowman.jpg
END:VEVENT
BEGIN:VEVENT
DTSTART;TZID=America/Toronto:20190101T140000
DTEND;TZID=America/Toronto:20190101T153000
DTSTAMP:20260423T055143
CREATED:20151021T181815Z
LAST-MODIFIED:20151021T181815Z
UID:10016905-1546351200-1546356600@huronshores.ca
SUMMARY:Alzheimer Info & Discussion Group
DESCRIPTION:The Alzheimer Society of Sault Ste. Marie & Algoma District hosts an Information & Discussion Group on the 2nd Wednesday of each month\, at the Calvary Gospel Church\, 55 Queen Street\, Blind River from 2:00 – 3:30 p.m.  For more information please call Tanya\, First Link Coordinator\, at 705-848-8145.
URL:https://huronshores.ca/event/alzheimer-info-discussion-group-2/2019-01-01/
LOCATION:Ontario
CATEGORIES:Community News
ATTACH;FMTTYPE=image/jpeg:https://huronshores.ca/wp-content/uploads/2013/01/Alzheimers-Disease.jpg
END:VEVENT
BEGIN:VEVENT
DTSTART;TZID=America/Toronto:20190102T140000
DTEND;TZID=America/Toronto:20190102T153000
DTSTAMP:20260423T055143
CREATED:20151021T181815Z
LAST-MODIFIED:20151021T181815Z
UID:10016906-1546437600-1546443000@huronshores.ca
SUMMARY:Alzheimer Info & Discussion Group
DESCRIPTION:The Alzheimer Society of Sault Ste. Marie & Algoma District hosts an Information & Discussion Group on the 2nd Wednesday of each month\, at the Calvary Gospel Church\, 55 Queen Street\, Blind River from 2:00 – 3:30 p.m.  For more information please call Tanya\, First Link Coordinator\, at 705-848-8145.
URL:https://huronshores.ca/event/alzheimer-info-discussion-group-2/2019-01-02/
LOCATION:Ontario
CATEGORIES:Community News
ATTACH;FMTTYPE=image/jpeg:https://huronshores.ca/wp-content/uploads/2013/01/Alzheimers-Disease.jpg
END:VEVENT
BEGIN:VEVENT
DTSTART;TZID=America/Toronto:20190102T190000
DTEND;TZID=America/Toronto:20190102T200000
DTSTAMP:20260423T055143
CREATED:20180820T124008Z
LAST-MODIFIED:20180820T124008Z
UID:10020614-1546455600-1546459200@huronshores.ca
SUMMARY:Rollerblade Ball Hockey
DESCRIPTION:Begins on August 1st\, 2018 and runs every Wednesday night at 7:00 pm.  Kids of all ages welcome! Hosted by the Iron Bridge Recreation Committee. \nAdmission: $2/kid; Note: Must have knee and elbow pads and a helmet.
URL:https://huronshores.ca/event/rollerblade-ball-hockey/2019-01-02/
LOCATION:Ontario
CATEGORIES:Recreation
END:VEVENT
BEGIN:VEVENT
DTSTART;TZID=America/Toronto:20190102T193000
DTEND;TZID=America/Toronto:20190102T193000
DTSTAMP:20260423T055143
CREATED:20160721T182330Z
LAST-MODIFIED:20160721T182330Z
UID:10019756-1546457400-1546457400@huronshores.ca
SUMMARY:Jammin' Session at the Thessalon Community Curling Club
DESCRIPTION:Every Wedneday night at 7:30PM\, join us at Thessalon Community Curling Club for our Jammin’ Session. You play an instrument and love to play with other instrumentalists\, or just love to listen to live music\, then come on down…the bar is open! Everyone welcome! Bring a friend!
URL:https://huronshores.ca/event/jammin-session-at-the-thessalon-community-curling-club/2019-01-02/
LOCATION:Ontario
CATEGORIES:Recreation
END:VEVENT
BEGIN:VEVENT
DTSTART;TZID=America/Toronto:20190103T140000
DTEND;TZID=America/Toronto:20190103T153000
DTSTAMP:20260423T055143
CREATED:20151021T181815Z
LAST-MODIFIED:20151021T181815Z
UID:10016907-1546524000-1546529400@huronshores.ca
SUMMARY:Alzheimer Info & Discussion Group
DESCRIPTION:The Alzheimer Society of Sault Ste. Marie & Algoma District hosts an Information & Discussion Group on the 2nd Wednesday of each month\, at the Calvary Gospel Church\, 55 Queen Street\, Blind River from 2:00 – 3:30 p.m.  For more information please call Tanya\, First Link Coordinator\, at 705-848-8145.
URL:https://huronshores.ca/event/alzheimer-info-discussion-group-2/2019-01-03/
LOCATION:Ontario
CATEGORIES:Community News
ATTACH;FMTTYPE=image/jpeg:https://huronshores.ca/wp-content/uploads/2013/01/Alzheimers-Disease.jpg
END:VEVENT
BEGIN:VEVENT
DTSTART;TZID=America/Toronto:20190103T180000
DTEND;TZID=America/Toronto:20190103T190000
DTSTAMP:20260423T055143
CREATED:20180820T124956Z
LAST-MODIFIED:20180820T124956Z
UID:10020982-1546538400-1546542000@huronshores.ca
SUMMARY:Iron Bridge Recreation Family Walking Group
DESCRIPTION:Every Thursday beginning on August 9\, 2018 from 6:00-7:00 pm at the Iron Bridge Recreation Centre.  Hosted by the Iron Bridge Recreation Committee. \nFee by donation. Families are all welcomed to come! There will be toys for children to play with\, or they can join the walking group. There will be fitness tracker sheets available; a prize will be awarded for the most active participant. \nBenefits of walking:\nEvery minute of walking can extend your life by 1.5-2 minutes.\nIncreases physical activity.\nLowers obesity rates.\nLower risk of chronic diseases such as diabetes\, stroke and heart disease.\nReduces stress and depression.
URL:https://huronshores.ca/event/iron-bridge-recreation-family-walking-group/2019-01-03/
LOCATION:Ontario
CATEGORIES:Recreation
END:VEVENT
BEGIN:VEVENT
DTSTART;TZID=America/Toronto:20190104T140000
DTEND;TZID=America/Toronto:20190104T153000
DTSTAMP:20260423T055143
CREATED:20151021T181815Z
LAST-MODIFIED:20151021T181815Z
UID:10016908-1546610400-1546615800@huronshores.ca
SUMMARY:Alzheimer Info & Discussion Group
DESCRIPTION:The Alzheimer Society of Sault Ste. Marie & Algoma District hosts an Information & Discussion Group on the 2nd Wednesday of each month\, at the Calvary Gospel Church\, 55 Queen Street\, Blind River from 2:00 – 3:30 p.m.  For more information please call Tanya\, First Link Coordinator\, at 705-848-8145.
URL:https://huronshores.ca/event/alzheimer-info-discussion-group-2/2019-01-04/
LOCATION:Ontario
CATEGORIES:Community News
ATTACH;FMTTYPE=image/jpeg:https://huronshores.ca/wp-content/uploads/2013/01/Alzheimers-Disease.jpg
END:VEVENT
BEGIN:VEVENT
DTSTART;TZID=America/Toronto:20190105T140000
DTEND;TZID=America/Toronto:20190105T153000
DTSTAMP:20260423T055143
CREATED:20151021T181815Z
LAST-MODIFIED:20151021T181815Z
UID:10016909-1546696800-1546702200@huronshores.ca
SUMMARY:Alzheimer Info & Discussion Group
DESCRIPTION:The Alzheimer Society of Sault Ste. Marie & Algoma District hosts an Information & Discussion Group on the 2nd Wednesday of each month\, at the Calvary Gospel Church\, 55 Queen Street\, Blind River from 2:00 – 3:30 p.m.  For more information please call Tanya\, First Link Coordinator\, at 705-848-8145.
URL:https://huronshores.ca/event/alzheimer-info-discussion-group-2/2019-01-05/
LOCATION:Ontario
CATEGORIES:Community News
ATTACH;FMTTYPE=image/jpeg:https://huronshores.ca/wp-content/uploads/2013/01/Alzheimers-Disease.jpg
END:VEVENT
BEGIN:VEVENT
DTSTART;TZID=America/Toronto:20190106T140000
DTEND;TZID=America/Toronto:20190106T153000
DTSTAMP:20260423T055143
CREATED:20151021T181815Z
LAST-MODIFIED:20151021T181815Z
UID:10016910-1546783200-1546788600@huronshores.ca
SUMMARY:Alzheimer Info & Discussion Group
DESCRIPTION:The Alzheimer Society of Sault Ste. Marie & Algoma District hosts an Information & Discussion Group on the 2nd Wednesday of each month\, at the Calvary Gospel Church\, 55 Queen Street\, Blind River from 2:00 – 3:30 p.m.  For more information please call Tanya\, First Link Coordinator\, at 705-848-8145.
URL:https://huronshores.ca/event/alzheimer-info-discussion-group-2/2019-01-06/
LOCATION:Ontario
CATEGORIES:Community News
ATTACH;FMTTYPE=image/jpeg:https://huronshores.ca/wp-content/uploads/2013/01/Alzheimers-Disease.jpg
END:VEVENT
BEGIN:VEVENT
DTSTART;TZID=America/Toronto:20190107T140000
DTEND;TZID=America/Toronto:20190107T153000
DTSTAMP:20260423T055143
CREATED:20151021T181815Z
LAST-MODIFIED:20151021T181815Z
UID:10016911-1546869600-1546875000@huronshores.ca
SUMMARY:Alzheimer Info & Discussion Group
DESCRIPTION:The Alzheimer Society of Sault Ste. Marie & Algoma District hosts an Information & Discussion Group on the 2nd Wednesday of each month\, at the Calvary Gospel Church\, 55 Queen Street\, Blind River from 2:00 – 3:30 p.m.  For more information please call Tanya\, First Link Coordinator\, at 705-848-8145.
URL:https://huronshores.ca/event/alzheimer-info-discussion-group-2/2019-01-07/
LOCATION:Ontario
CATEGORIES:Community News
ATTACH;FMTTYPE=image/jpeg:https://huronshores.ca/wp-content/uploads/2013/01/Alzheimers-Disease.jpg
END:VEVENT
BEGIN:VEVENT
DTSTART;TZID=America/Toronto:20190107T160000
DTEND;TZID=America/Toronto:20190107T200000
DTSTAMP:20260423T055143
CREATED:20181220T150709Z
LAST-MODIFIED:20181220T150709Z
UID:10021397-1546876800-1546891200@huronshores.ca
SUMMARY:Blind River Blood Donor Clinic
DESCRIPTION:
URL:https://huronshores.ca/event/blind-river-blood-donor-clinic/
LOCATION:Ontario
CATEGORIES:Community News,Health & Safety
ATTACH;FMTTYPE=image/png:https://huronshores.ca/wp-content/uploads/2015/01/blood-home-logo.png
END:VEVENT
BEGIN:VEVENT
DTSTART;TZID=America/Toronto:20190108T130000
DTEND;TZID=America/Toronto:20190108T130000
DTSTAMP:20260423T055143
CREATED:20181220T141326Z
LAST-MODIFIED:20181220T141326Z
UID:10021386-1546952400-1546952400@huronshores.ca
SUMMARY:Library Crafting/Social Club
DESCRIPTION:The Huron Shores Public Library hosts a Crafting/Social Club on Tuesdays\, at 1:00 p.m. in the downstairs meeting room.  There’s no fee to participate.  Refreshments provided.  Everyone welcome!  The Library is open on Tuesdays and Fridays from 1:00 – 7:00 p.m.  Please click on the link below to learn more about our Library services.
URL:https://huronshores.ca/event/library-crafting-social-club/2019-01-08/
LOCATION:Ontario
CATEGORIES:Community News,Recreation
ATTACH;FMTTYPE=image/png:https://huronshores.ca/wp-content/uploads/2012/03/Huron-Shores-Public-Library-Logo-Re-sized.png
END:VEVENT
BEGIN:VEVENT
DTSTART;TZID=America/Toronto:20190108T140000
DTEND;TZID=America/Toronto:20190108T153000
DTSTAMP:20260423T055143
CREATED:20151021T181815Z
LAST-MODIFIED:20151021T181815Z
UID:10016912-1546956000-1546961400@huronshores.ca
SUMMARY:Alzheimer Info & Discussion Group
DESCRIPTION:The Alzheimer Society of Sault Ste. Marie & Algoma District hosts an Information & Discussion Group on the 2nd Wednesday of each month\, at the Calvary Gospel Church\, 55 Queen Street\, Blind River from 2:00 – 3:30 p.m.  For more information please call Tanya\, First Link Coordinator\, at 705-848-8145.
URL:https://huronshores.ca/event/alzheimer-info-discussion-group-2/2019-01-08/
LOCATION:Ontario
CATEGORIES:Community News
ATTACH;FMTTYPE=image/jpeg:https://huronshores.ca/wp-content/uploads/2013/01/Alzheimers-Disease.jpg
END:VEVENT
END:VCALENDAR