BEGIN:VCALENDAR
VERSION:2.0
PRODID:-//Huron Shores - ECPv6.15.11//NONSGML v1.0//EN
CALSCALE:GREGORIAN
METHOD:PUBLISH
X-WR-CALNAME:Huron Shores
X-ORIGINAL-URL:https://huronshores.ca
X-WR-CALDESC:Events for Huron Shores
REFRESH-INTERVAL;VALUE=DURATION:PT1H
X-Robots-Tag:noindex
X-PUBLISHED-TTL:PT1H
BEGIN:VTIMEZONE
TZID:America/Toronto
BEGIN:DAYLIGHT
TZOFFSETFROM:-0500
TZOFFSETTO:-0400
TZNAME:EDT
DTSTART:20180311T070000
END:DAYLIGHT
BEGIN:STANDARD
TZOFFSETFROM:-0400
TZOFFSETTO:-0500
TZNAME:EST
DTSTART:20181104T060000
END:STANDARD
BEGIN:DAYLIGHT
TZOFFSETFROM:-0500
TZOFFSETTO:-0400
TZNAME:EDT
DTSTART:20190310T070000
END:DAYLIGHT
BEGIN:STANDARD
TZOFFSETFROM:-0400
TZOFFSETTO:-0500
TZNAME:EST
DTSTART:20191103T060000
END:STANDARD
BEGIN:DAYLIGHT
TZOFFSETFROM:-0500
TZOFFSETTO:-0400
TZNAME:EDT
DTSTART:20200308T070000
END:DAYLIGHT
BEGIN:STANDARD
TZOFFSETFROM:-0400
TZOFFSETTO:-0500
TZNAME:EST
DTSTART:20201101T060000
END:STANDARD
END:VTIMEZONE
BEGIN:VEVENT
DTSTART;TZID=America/Toronto:20190219T130000
DTEND;TZID=America/Toronto:20190219T130000
DTSTAMP:20260422T195142
CREATED:20181220T141326Z
LAST-MODIFIED:20181220T141326Z
UID:10021392-1550581200-1550581200@huronshores.ca
SUMMARY:Library Crafting/Social Club
DESCRIPTION:The Huron Shores Public Library hosts a Crafting/Social Club on Tuesdays\, at 1:00 p.m. in the downstairs meeting room.  There’s no fee to participate.  Refreshments provided.  Everyone welcome!  The Library is open on Tuesdays and Fridays from 1:00 – 7:00 p.m.  Please click on the link below to learn more about our Library services.
URL:https://huronshores.ca/event/library-crafting-social-club/2019-02-19/
LOCATION:Ontario
CATEGORIES:Community News,Recreation
ATTACH;FMTTYPE=image/png:https://huronshores.ca/wp-content/uploads/2012/03/Huron-Shores-Public-Library-Logo-Re-sized.png
END:VEVENT
BEGIN:VEVENT
DTSTART;TZID=America/Toronto:20190219T140000
DTEND;TZID=America/Toronto:20190219T153000
DTSTAMP:20260422T195142
CREATED:20151021T181815Z
LAST-MODIFIED:20151021T181815Z
UID:10016954-1550584800-1550590200@huronshores.ca
SUMMARY:Alzheimer Info & Discussion Group
DESCRIPTION:The Alzheimer Society of Sault Ste. Marie & Algoma District hosts an Information & Discussion Group on the 2nd Wednesday of each month\, at the Calvary Gospel Church\, 55 Queen Street\, Blind River from 2:00 – 3:30 p.m.  For more information please call Tanya\, First Link Coordinator\, at 705-848-8145.
URL:https://huronshores.ca/event/alzheimer-info-discussion-group-2/2019-02-19/
LOCATION:Ontario
CATEGORIES:Community News
ATTACH;FMTTYPE=image/jpeg:https://huronshores.ca/wp-content/uploads/2013/01/Alzheimers-Disease.jpg
END:VEVENT
BEGIN:VEVENT
DTSTART;TZID=America/Toronto:20190220T140000
DTEND;TZID=America/Toronto:20190220T153000
DTSTAMP:20260422T195142
CREATED:20151021T181815Z
LAST-MODIFIED:20151021T181815Z
UID:10016955-1550671200-1550676600@huronshores.ca
SUMMARY:Alzheimer Info & Discussion Group
DESCRIPTION:The Alzheimer Society of Sault Ste. Marie & Algoma District hosts an Information & Discussion Group on the 2nd Wednesday of each month\, at the Calvary Gospel Church\, 55 Queen Street\, Blind River from 2:00 – 3:30 p.m.  For more information please call Tanya\, First Link Coordinator\, at 705-848-8145.
URL:https://huronshores.ca/event/alzheimer-info-discussion-group-2/2019-02-20/
LOCATION:Ontario
CATEGORIES:Community News
ATTACH;FMTTYPE=image/jpeg:https://huronshores.ca/wp-content/uploads/2013/01/Alzheimers-Disease.jpg
END:VEVENT
BEGIN:VEVENT
DTSTART;TZID=America/Toronto:20190220T190000
DTEND;TZID=America/Toronto:20190220T200000
DTSTAMP:20260422T195142
CREATED:20180820T124008Z
LAST-MODIFIED:20180820T124008Z
UID:10020621-1550689200-1550692800@huronshores.ca
SUMMARY:Rollerblade Ball Hockey
DESCRIPTION:Begins on August 1st\, 2018 and runs every Wednesday night at 7:00 pm.  Kids of all ages welcome! Hosted by the Iron Bridge Recreation Committee. \nAdmission: $2/kid; Note: Must have knee and elbow pads and a helmet.
URL:https://huronshores.ca/event/rollerblade-ball-hockey/2019-02-20/
LOCATION:Ontario
CATEGORIES:Recreation
END:VEVENT
BEGIN:VEVENT
DTSTART;TZID=America/Toronto:20190220T193000
DTEND;TZID=America/Toronto:20190220T193000
DTSTAMP:20260422T195142
CREATED:20160721T182330Z
LAST-MODIFIED:20160721T182330Z
UID:10019763-1550691000-1550691000@huronshores.ca
SUMMARY:Jammin' Session at the Thessalon Community Curling Club
DESCRIPTION:Every Wedneday night at 7:30PM\, join us at Thessalon Community Curling Club for our Jammin’ Session. You play an instrument and love to play with other instrumentalists\, or just love to listen to live music\, then come on down…the bar is open! Everyone welcome! Bring a friend!
URL:https://huronshores.ca/event/jammin-session-at-the-thessalon-community-curling-club/2019-02-20/
LOCATION:Ontario
CATEGORIES:Recreation
END:VEVENT
BEGIN:VEVENT
DTSTART;TZID=America/Toronto:20190221T140000
DTEND;TZID=America/Toronto:20190221T153000
DTSTAMP:20260422T195142
CREATED:20151021T181815Z
LAST-MODIFIED:20151021T181815Z
UID:10016956-1550757600-1550763000@huronshores.ca
SUMMARY:Alzheimer Info & Discussion Group
DESCRIPTION:The Alzheimer Society of Sault Ste. Marie & Algoma District hosts an Information & Discussion Group on the 2nd Wednesday of each month\, at the Calvary Gospel Church\, 55 Queen Street\, Blind River from 2:00 – 3:30 p.m.  For more information please call Tanya\, First Link Coordinator\, at 705-848-8145.
URL:https://huronshores.ca/event/alzheimer-info-discussion-group-2/2019-02-21/
LOCATION:Ontario
CATEGORIES:Community News
ATTACH;FMTTYPE=image/jpeg:https://huronshores.ca/wp-content/uploads/2013/01/Alzheimers-Disease.jpg
END:VEVENT
BEGIN:VEVENT
DTSTART;TZID=America/Toronto:20190221T180000
DTEND;TZID=America/Toronto:20190221T190000
DTSTAMP:20260422T195142
CREATED:20180820T124956Z
LAST-MODIFIED:20180820T124956Z
UID:10020989-1550772000-1550775600@huronshores.ca
SUMMARY:Iron Bridge Recreation Family Walking Group
DESCRIPTION:Every Thursday beginning on August 9\, 2018 from 6:00-7:00 pm at the Iron Bridge Recreation Centre.  Hosted by the Iron Bridge Recreation Committee. \nFee by donation. Families are all welcomed to come! There will be toys for children to play with\, or they can join the walking group. There will be fitness tracker sheets available; a prize will be awarded for the most active participant. \nBenefits of walking:\nEvery minute of walking can extend your life by 1.5-2 minutes.\nIncreases physical activity.\nLowers obesity rates.\nLower risk of chronic diseases such as diabetes\, stroke and heart disease.\nReduces stress and depression.
URL:https://huronshores.ca/event/iron-bridge-recreation-family-walking-group/2019-02-21/
LOCATION:Ontario
CATEGORIES:Recreation
END:VEVENT
BEGIN:VEVENT
DTSTART;TZID=America/Toronto:20190222T140000
DTEND;TZID=America/Toronto:20190222T153000
DTSTAMP:20260422T195142
CREATED:20151021T181815Z
LAST-MODIFIED:20151021T181815Z
UID:10016957-1550844000-1550849400@huronshores.ca
SUMMARY:Alzheimer Info & Discussion Group
DESCRIPTION:The Alzheimer Society of Sault Ste. Marie & Algoma District hosts an Information & Discussion Group on the 2nd Wednesday of each month\, at the Calvary Gospel Church\, 55 Queen Street\, Blind River from 2:00 – 3:30 p.m.  For more information please call Tanya\, First Link Coordinator\, at 705-848-8145.
URL:https://huronshores.ca/event/alzheimer-info-discussion-group-2/2019-02-22/
LOCATION:Ontario
CATEGORIES:Community News
ATTACH;FMTTYPE=image/jpeg:https://huronshores.ca/wp-content/uploads/2013/01/Alzheimers-Disease.jpg
END:VEVENT
BEGIN:VEVENT
DTSTART;TZID=America/Toronto:20190223T140000
DTEND;TZID=America/Toronto:20190223T153000
DTSTAMP:20260422T195142
CREATED:20151021T181815Z
LAST-MODIFIED:20151021T181815Z
UID:10016958-1550930400-1550935800@huronshores.ca
SUMMARY:Alzheimer Info & Discussion Group
DESCRIPTION:The Alzheimer Society of Sault Ste. Marie & Algoma District hosts an Information & Discussion Group on the 2nd Wednesday of each month\, at the Calvary Gospel Church\, 55 Queen Street\, Blind River from 2:00 – 3:30 p.m.  For more information please call Tanya\, First Link Coordinator\, at 705-848-8145.
URL:https://huronshores.ca/event/alzheimer-info-discussion-group-2/2019-02-23/
LOCATION:Ontario
CATEGORIES:Community News
ATTACH;FMTTYPE=image/jpeg:https://huronshores.ca/wp-content/uploads/2013/01/Alzheimers-Disease.jpg
END:VEVENT
BEGIN:VEVENT
DTSTART;TZID=America/Toronto:20190224T140000
DTEND;TZID=America/Toronto:20190224T153000
DTSTAMP:20260422T195143
CREATED:20151021T181815Z
LAST-MODIFIED:20151021T181815Z
UID:10016959-1551016800-1551022200@huronshores.ca
SUMMARY:Alzheimer Info & Discussion Group
DESCRIPTION:The Alzheimer Society of Sault Ste. Marie & Algoma District hosts an Information & Discussion Group on the 2nd Wednesday of each month\, at the Calvary Gospel Church\, 55 Queen Street\, Blind River from 2:00 – 3:30 p.m.  For more information please call Tanya\, First Link Coordinator\, at 705-848-8145.
URL:https://huronshores.ca/event/alzheimer-info-discussion-group-2/2019-02-24/
LOCATION:Ontario
CATEGORIES:Community News
ATTACH;FMTTYPE=image/jpeg:https://huronshores.ca/wp-content/uploads/2013/01/Alzheimers-Disease.jpg
END:VEVENT
BEGIN:VEVENT
DTSTART;TZID=America/Toronto:20190225T140000
DTEND;TZID=America/Toronto:20190225T153000
DTSTAMP:20260422T195143
CREATED:20151021T181815Z
LAST-MODIFIED:20151021T181815Z
UID:10016960-1551103200-1551108600@huronshores.ca
SUMMARY:Alzheimer Info & Discussion Group
DESCRIPTION:The Alzheimer Society of Sault Ste. Marie & Algoma District hosts an Information & Discussion Group on the 2nd Wednesday of each month\, at the Calvary Gospel Church\, 55 Queen Street\, Blind River from 2:00 – 3:30 p.m.  For more information please call Tanya\, First Link Coordinator\, at 705-848-8145.
URL:https://huronshores.ca/event/alzheimer-info-discussion-group-2/2019-02-25/
LOCATION:Ontario
CATEGORIES:Community News
ATTACH;FMTTYPE=image/jpeg:https://huronshores.ca/wp-content/uploads/2013/01/Alzheimers-Disease.jpg
END:VEVENT
BEGIN:VEVENT
DTSTART;TZID=America/Toronto:20190226T130000
DTEND;TZID=America/Toronto:20190226T130000
DTSTAMP:20260422T195143
CREATED:20181220T141326Z
LAST-MODIFIED:20181220T141326Z
UID:10021393-1551186000-1551186000@huronshores.ca
SUMMARY:Library Crafting/Social Club
DESCRIPTION:The Huron Shores Public Library hosts a Crafting/Social Club on Tuesdays\, at 1:00 p.m. in the downstairs meeting room.  There’s no fee to participate.  Refreshments provided.  Everyone welcome!  The Library is open on Tuesdays and Fridays from 1:00 – 7:00 p.m.  Please click on the link below to learn more about our Library services.
URL:https://huronshores.ca/event/library-crafting-social-club/2019-02-26/
LOCATION:Ontario
CATEGORIES:Community News,Recreation
ATTACH;FMTTYPE=image/png:https://huronshores.ca/wp-content/uploads/2012/03/Huron-Shores-Public-Library-Logo-Re-sized.png
END:VEVENT
BEGIN:VEVENT
DTSTART;TZID=America/Toronto:20190226T140000
DTEND;TZID=America/Toronto:20190226T153000
DTSTAMP:20260422T195143
CREATED:20151021T181815Z
LAST-MODIFIED:20151021T181815Z
UID:10016961-1551189600-1551195000@huronshores.ca
SUMMARY:Alzheimer Info & Discussion Group
DESCRIPTION:The Alzheimer Society of Sault Ste. Marie & Algoma District hosts an Information & Discussion Group on the 2nd Wednesday of each month\, at the Calvary Gospel Church\, 55 Queen Street\, Blind River from 2:00 – 3:30 p.m.  For more information please call Tanya\, First Link Coordinator\, at 705-848-8145.
URL:https://huronshores.ca/event/alzheimer-info-discussion-group-2/2019-02-26/
LOCATION:Ontario
CATEGORIES:Community News
ATTACH;FMTTYPE=image/jpeg:https://huronshores.ca/wp-content/uploads/2013/01/Alzheimers-Disease.jpg
END:VEVENT
BEGIN:VEVENT
DTSTART;TZID=America/Toronto:20190227T140000
DTEND;TZID=America/Toronto:20190227T153000
DTSTAMP:20260422T195143
CREATED:20151021T181815Z
LAST-MODIFIED:20151021T181815Z
UID:10016962-1551276000-1551281400@huronshores.ca
SUMMARY:Alzheimer Info & Discussion Group
DESCRIPTION:The Alzheimer Society of Sault Ste. Marie & Algoma District hosts an Information & Discussion Group on the 2nd Wednesday of each month\, at the Calvary Gospel Church\, 55 Queen Street\, Blind River from 2:00 – 3:30 p.m.  For more information please call Tanya\, First Link Coordinator\, at 705-848-8145.
URL:https://huronshores.ca/event/alzheimer-info-discussion-group-2/2019-02-27/
LOCATION:Ontario
CATEGORIES:Community News
ATTACH;FMTTYPE=image/jpeg:https://huronshores.ca/wp-content/uploads/2013/01/Alzheimers-Disease.jpg
END:VEVENT
BEGIN:VEVENT
DTSTART;TZID=America/Toronto:20190227T190000
DTEND;TZID=America/Toronto:20190227T190000
DTSTAMP:20260422T195143
CREATED:20190214T185545Z
LAST-MODIFIED:20190214T185545Z
UID:10021427-1551294000-1551294000@huronshores.ca
SUMMARY:Special Council Meeting
DESCRIPTION:Council\, via Resolution #19-03-23 dated February 13/19\, set a special meeting to be held on Wednesday\, February 27th\, 2019 at 7:00 p.m. in the Council Chambers\, for training purposes with respect to new municipal policies and procedures and any timeline matters.  The Agenda will be posted Monday\, February 25/19.  The next Regular Meeting of Council will be Wednesday\, March 13/19.
URL:https://huronshores.ca/event/special-council-meeting-8/
LOCATION:Ontario
CATEGORIES:Council Meeting
ATTACH;FMTTYPE=:
END:VEVENT
BEGIN:VEVENT
DTSTART;TZID=America/Toronto:20190227T190000
DTEND;TZID=America/Toronto:20190227T200000
DTSTAMP:20260422T195143
CREATED:20180820T124008Z
LAST-MODIFIED:20180820T124008Z
UID:10020622-1551294000-1551297600@huronshores.ca
SUMMARY:Rollerblade Ball Hockey
DESCRIPTION:Begins on August 1st\, 2018 and runs every Wednesday night at 7:00 pm.  Kids of all ages welcome! Hosted by the Iron Bridge Recreation Committee. \nAdmission: $2/kid; Note: Must have knee and elbow pads and a helmet.
URL:https://huronshores.ca/event/rollerblade-ball-hockey/2019-02-27/
LOCATION:Ontario
CATEGORIES:Recreation
END:VEVENT
BEGIN:VEVENT
DTSTART;TZID=America/Toronto:20190227T193000
DTEND;TZID=America/Toronto:20190227T193000
DTSTAMP:20260422T195143
CREATED:20160721T182330Z
LAST-MODIFIED:20160721T182330Z
UID:10019764-1551295800-1551295800@huronshores.ca
SUMMARY:Jammin' Session at the Thessalon Community Curling Club
DESCRIPTION:Every Wedneday night at 7:30PM\, join us at Thessalon Community Curling Club for our Jammin’ Session. You play an instrument and love to play with other instrumentalists\, or just love to listen to live music\, then come on down…the bar is open! Everyone welcome! Bring a friend!
URL:https://huronshores.ca/event/jammin-session-at-the-thessalon-community-curling-club/2019-02-27/
LOCATION:Ontario
CATEGORIES:Recreation
END:VEVENT
BEGIN:VEVENT
DTSTART;TZID=America/Toronto:20190228T140000
DTEND;TZID=America/Toronto:20190228T153000
DTSTAMP:20260422T195143
CREATED:20151021T181815Z
LAST-MODIFIED:20151021T181815Z
UID:10016963-1551362400-1551367800@huronshores.ca
SUMMARY:Alzheimer Info & Discussion Group
DESCRIPTION:The Alzheimer Society of Sault Ste. Marie & Algoma District hosts an Information & Discussion Group on the 2nd Wednesday of each month\, at the Calvary Gospel Church\, 55 Queen Street\, Blind River from 2:00 – 3:30 p.m.  For more information please call Tanya\, First Link Coordinator\, at 705-848-8145.
URL:https://huronshores.ca/event/alzheimer-info-discussion-group-2/2019-02-28/
LOCATION:Ontario
CATEGORIES:Community News
ATTACH;FMTTYPE=image/jpeg:https://huronshores.ca/wp-content/uploads/2013/01/Alzheimers-Disease.jpg
END:VEVENT
BEGIN:VEVENT
DTSTART;TZID=America/Toronto:20190228T180000
DTEND;TZID=America/Toronto:20190228T180000
DTSTAMP:20260422T195143
CREATED:20190220T170343Z
LAST-MODIFIED:20190220T170343Z
UID:10021428-1551376800-1551376800@huronshores.ca
SUMMARY:Social Media Workshop
DESCRIPTION:The East Algoma CFDC is hosting a free Social Media Workshop for businesses/organizations\, Thursday\, February 28/19 at 6:00 p.m. in the CFDC Board Room\, Blind River.  Please click on the link below for details.
URL:https://huronshores.ca/event/social-media-workshop/
LOCATION:Ontario
CATEGORIES:Community News
ATTACH;FMTTYPE=image/png:https://huronshores.ca/wp-content/uploads/2019/02/Social-Media.png
END:VEVENT
BEGIN:VEVENT
DTSTART;TZID=America/Toronto:20190228T180000
DTEND;TZID=America/Toronto:20190228T190000
DTSTAMP:20260422T195143
CREATED:20180820T124956Z
LAST-MODIFIED:20180820T124956Z
UID:10020990-1551376800-1551380400@huronshores.ca
SUMMARY:Iron Bridge Recreation Family Walking Group
DESCRIPTION:Every Thursday beginning on August 9\, 2018 from 6:00-7:00 pm at the Iron Bridge Recreation Centre.  Hosted by the Iron Bridge Recreation Committee. \nFee by donation. Families are all welcomed to come! There will be toys for children to play with\, or they can join the walking group. There will be fitness tracker sheets available; a prize will be awarded for the most active participant. \nBenefits of walking:\nEvery minute of walking can extend your life by 1.5-2 minutes.\nIncreases physical activity.\nLowers obesity rates.\nLower risk of chronic diseases such as diabetes\, stroke and heart disease.\nReduces stress and depression.
URL:https://huronshores.ca/event/iron-bridge-recreation-family-walking-group/2019-02-28/
LOCATION:Ontario
CATEGORIES:Recreation
END:VEVENT
BEGIN:VEVENT
DTSTART;TZID=America/Toronto:20190301T140000
DTEND;TZID=America/Toronto:20190301T153000
DTSTAMP:20260422T195143
CREATED:20151021T181815Z
LAST-MODIFIED:20151021T181815Z
UID:10016964-1551448800-1551454200@huronshores.ca
SUMMARY:Alzheimer Info & Discussion Group
DESCRIPTION:The Alzheimer Society of Sault Ste. Marie & Algoma District hosts an Information & Discussion Group on the 2nd Wednesday of each month\, at the Calvary Gospel Church\, 55 Queen Street\, Blind River from 2:00 – 3:30 p.m.  For more information please call Tanya\, First Link Coordinator\, at 705-848-8145.
URL:https://huronshores.ca/event/alzheimer-info-discussion-group-2/2019-03-01/
LOCATION:Ontario
CATEGORIES:Community News
ATTACH;FMTTYPE=image/jpeg:https://huronshores.ca/wp-content/uploads/2013/01/Alzheimers-Disease.jpg
END:VEVENT
BEGIN:VEVENT
DTSTART;TZID=America/Toronto:20190302T140000
DTEND;TZID=America/Toronto:20190302T153000
DTSTAMP:20260422T195143
CREATED:20151021T181815Z
LAST-MODIFIED:20151021T181815Z
UID:10016965-1551535200-1551540600@huronshores.ca
SUMMARY:Alzheimer Info & Discussion Group
DESCRIPTION:The Alzheimer Society of Sault Ste. Marie & Algoma District hosts an Information & Discussion Group on the 2nd Wednesday of each month\, at the Calvary Gospel Church\, 55 Queen Street\, Blind River from 2:00 – 3:30 p.m.  For more information please call Tanya\, First Link Coordinator\, at 705-848-8145.
URL:https://huronshores.ca/event/alzheimer-info-discussion-group-2/2019-03-02/
LOCATION:Ontario
CATEGORIES:Community News
ATTACH;FMTTYPE=image/jpeg:https://huronshores.ca/wp-content/uploads/2013/01/Alzheimers-Disease.jpg
END:VEVENT
BEGIN:VEVENT
DTSTART;TZID=America/Toronto:20190303T140000
DTEND;TZID=America/Toronto:20190303T153000
DTSTAMP:20260422T195143
CREATED:20151021T181815Z
LAST-MODIFIED:20151021T181815Z
UID:10016966-1551621600-1551627000@huronshores.ca
SUMMARY:Alzheimer Info & Discussion Group
DESCRIPTION:The Alzheimer Society of Sault Ste. Marie & Algoma District hosts an Information & Discussion Group on the 2nd Wednesday of each month\, at the Calvary Gospel Church\, 55 Queen Street\, Blind River from 2:00 – 3:30 p.m.  For more information please call Tanya\, First Link Coordinator\, at 705-848-8145.
URL:https://huronshores.ca/event/alzheimer-info-discussion-group-2/2019-03-03/
LOCATION:Ontario
CATEGORIES:Community News
ATTACH;FMTTYPE=image/jpeg:https://huronshores.ca/wp-content/uploads/2013/01/Alzheimers-Disease.jpg
END:VEVENT
BEGIN:VEVENT
DTSTART;TZID=America/Toronto:20190304T140000
DTEND;TZID=America/Toronto:20190304T153000
DTSTAMP:20260422T195143
CREATED:20151021T181815Z
LAST-MODIFIED:20151021T181815Z
UID:10016967-1551708000-1551713400@huronshores.ca
SUMMARY:Alzheimer Info & Discussion Group
DESCRIPTION:The Alzheimer Society of Sault Ste. Marie & Algoma District hosts an Information & Discussion Group on the 2nd Wednesday of each month\, at the Calvary Gospel Church\, 55 Queen Street\, Blind River from 2:00 – 3:30 p.m.  For more information please call Tanya\, First Link Coordinator\, at 705-848-8145.
URL:https://huronshores.ca/event/alzheimer-info-discussion-group-2/2019-03-04/
LOCATION:Ontario
CATEGORIES:Community News
ATTACH;FMTTYPE=image/jpeg:https://huronshores.ca/wp-content/uploads/2013/01/Alzheimers-Disease.jpg
END:VEVENT
BEGIN:VEVENT
DTSTART;TZID=America/Toronto:20190305T130000
DTEND;TZID=America/Toronto:20190305T130000
DTSTAMP:20260422T195143
CREATED:20181220T141326Z
LAST-MODIFIED:20181220T141326Z
UID:10021394-1551790800-1551790800@huronshores.ca
SUMMARY:Library Crafting/Social Club
DESCRIPTION:The Huron Shores Public Library hosts a Crafting/Social Club on Tuesdays\, at 1:00 p.m. in the downstairs meeting room.  There’s no fee to participate.  Refreshments provided.  Everyone welcome!  The Library is open on Tuesdays and Fridays from 1:00 – 7:00 p.m.  Please click on the link below to learn more about our Library services.
URL:https://huronshores.ca/event/library-crafting-social-club/2019-03-05/
LOCATION:Ontario
CATEGORIES:Community News,Recreation
ATTACH;FMTTYPE=image/png:https://huronshores.ca/wp-content/uploads/2012/03/Huron-Shores-Public-Library-Logo-Re-sized.png
END:VEVENT
BEGIN:VEVENT
DTSTART;TZID=America/Toronto:20190305T140000
DTEND;TZID=America/Toronto:20190305T153000
DTSTAMP:20260422T195143
CREATED:20151021T181815Z
LAST-MODIFIED:20151021T181815Z
UID:10016968-1551794400-1551799800@huronshores.ca
SUMMARY:Alzheimer Info & Discussion Group
DESCRIPTION:The Alzheimer Society of Sault Ste. Marie & Algoma District hosts an Information & Discussion Group on the 2nd Wednesday of each month\, at the Calvary Gospel Church\, 55 Queen Street\, Blind River from 2:00 – 3:30 p.m.  For more information please call Tanya\, First Link Coordinator\, at 705-848-8145.
URL:https://huronshores.ca/event/alzheimer-info-discussion-group-2/2019-03-05/
LOCATION:Ontario
CATEGORIES:Community News
ATTACH;FMTTYPE=image/jpeg:https://huronshores.ca/wp-content/uploads/2013/01/Alzheimers-Disease.jpg
END:VEVENT
BEGIN:VEVENT
DTSTART;TZID=America/Toronto:20190306T140000
DTEND;TZID=America/Toronto:20190306T153000
DTSTAMP:20260422T195143
CREATED:20151021T181815Z
LAST-MODIFIED:20151021T181815Z
UID:10016969-1551880800-1551886200@huronshores.ca
SUMMARY:Alzheimer Info & Discussion Group
DESCRIPTION:The Alzheimer Society of Sault Ste. Marie & Algoma District hosts an Information & Discussion Group on the 2nd Wednesday of each month\, at the Calvary Gospel Church\, 55 Queen Street\, Blind River from 2:00 – 3:30 p.m.  For more information please call Tanya\, First Link Coordinator\, at 705-848-8145.
URL:https://huronshores.ca/event/alzheimer-info-discussion-group-2/2019-03-06/
LOCATION:Ontario
CATEGORIES:Community News
ATTACH;FMTTYPE=image/jpeg:https://huronshores.ca/wp-content/uploads/2013/01/Alzheimers-Disease.jpg
END:VEVENT
BEGIN:VEVENT
DTSTART;TZID=America/Toronto:20190306T190000
DTEND;TZID=America/Toronto:20190306T200000
DTSTAMP:20260422T195143
CREATED:20180820T124008Z
LAST-MODIFIED:20180820T124008Z
UID:10020623-1551898800-1551902400@huronshores.ca
SUMMARY:Rollerblade Ball Hockey
DESCRIPTION:Begins on August 1st\, 2018 and runs every Wednesday night at 7:00 pm.  Kids of all ages welcome! Hosted by the Iron Bridge Recreation Committee. \nAdmission: $2/kid; Note: Must have knee and elbow pads and a helmet.
URL:https://huronshores.ca/event/rollerblade-ball-hockey/2019-03-06/
LOCATION:Ontario
CATEGORIES:Recreation
END:VEVENT
BEGIN:VEVENT
DTSTART;TZID=America/Toronto:20190306T193000
DTEND;TZID=America/Toronto:20190306T193000
DTSTAMP:20260422T195143
CREATED:20160721T182330Z
LAST-MODIFIED:20160721T182330Z
UID:10019765-1551900600-1551900600@huronshores.ca
SUMMARY:Jammin' Session at the Thessalon Community Curling Club
DESCRIPTION:Every Wedneday night at 7:30PM\, join us at Thessalon Community Curling Club for our Jammin’ Session. You play an instrument and love to play with other instrumentalists\, or just love to listen to live music\, then come on down…the bar is open! Everyone welcome! Bring a friend!
URL:https://huronshores.ca/event/jammin-session-at-the-thessalon-community-curling-club/2019-03-06/
LOCATION:Ontario
CATEGORIES:Recreation
END:VEVENT
BEGIN:VEVENT
DTSTART;TZID=America/Toronto:20190307T110000
DTEND;TZID=America/Toronto:20190307T120000
DTSTAMP:20260422T195143
CREATED:20190129T165202Z
LAST-MODIFIED:20190129T165202Z
UID:10021413-1551956400-1551960000@huronshores.ca
SUMMARY:MP Carol Hughes
DESCRIPTION:Algoma-Manitoulin-Kapuskasing MP Carol Hughes will hold a Constituency Clinic in the Council Chambers from 11:00 a.m. – Noon.  For further information please contact the Elliot Lake  Constituency Office as listed below.
URL:https://huronshores.ca/event/mp-carol-hughes/
LOCATION:Ontario
CATEGORIES:Community News
ATTACH;FMTTYPE=image/jpeg:https://huronshores.ca/wp-content/uploads/2016/11/HughesCarol_NDP1.jpg
END:VEVENT
END:VCALENDAR