BEGIN:VCALENDAR
VERSION:2.0
PRODID:-//Huron Shores - ECPv6.15.11//NONSGML v1.0//EN
CALSCALE:GREGORIAN
METHOD:PUBLISH
X-ORIGINAL-URL:https://huronshores.ca
X-WR-CALDESC:Events for Huron Shores
REFRESH-INTERVAL;VALUE=DURATION:PT1H
X-Robots-Tag:noindex
X-PUBLISHED-TTL:PT1H
BEGIN:VTIMEZONE
TZID:America/Toronto
BEGIN:DAYLIGHT
TZOFFSETFROM:-0500
TZOFFSETTO:-0400
TZNAME:EDT
DTSTART:20150308T070000
END:DAYLIGHT
BEGIN:STANDARD
TZOFFSETFROM:-0400
TZOFFSETTO:-0500
TZNAME:EST
DTSTART:20151101T060000
END:STANDARD
BEGIN:DAYLIGHT
TZOFFSETFROM:-0500
TZOFFSETTO:-0400
TZNAME:EDT
DTSTART:20160313T070000
END:DAYLIGHT
BEGIN:STANDARD
TZOFFSETFROM:-0400
TZOFFSETTO:-0500
TZNAME:EST
DTSTART:20161106T060000
END:STANDARD
BEGIN:DAYLIGHT
TZOFFSETFROM:-0500
TZOFFSETTO:-0400
TZNAME:EDT
DTSTART:20170312T070000
END:DAYLIGHT
BEGIN:STANDARD
TZOFFSETFROM:-0400
TZOFFSETTO:-0500
TZNAME:EST
DTSTART:20171105T060000
END:STANDARD
END:VTIMEZONE
BEGIN:VEVENT
DTSTART;VALUE=DATE:20161128
DTEND;VALUE=DATE:20161210
DTSTAMP:20260424T093842
CREATED:20161125T212806Z
LAST-MODIFIED:20161125T212806Z
UID:10019986-1480291200-1481327999@huronshores.ca
SUMMARY:"Push for Change"
DESCRIPTION:This is a food/clothing/toy drive in partnership with the  North Channel Poverty Awareness Network and the OPP from November 28-December 9.  The Municipal Office is a donation drop-off site.  Please click on the link below for suggested donation items and other details.
URL:https://huronshores.ca/event/push-for-change/
CATEGORIES:Community News
ATTACH;FMTTYPE=image/png:https://huronshores.ca/wp-content/uploads/2016/11/Push-for-Change.png
END:VEVENT
BEGIN:VEVENT
DTSTART;TZID=America/Toronto:20161201T133000
DTEND;TZID=America/Toronto:20161201T163000
DTSTAMP:20260424T093842
CREATED:20161124T200555Z
LAST-MODIFIED:20161124T200555Z
UID:10019964-1480599000-1480609800@huronshores.ca
SUMMARY:Sowerby Art Group
DESCRIPTION:The Sowerby Art Group meets at Sowerby Hall\, 1410 Basswood Lake Rd.\, on Thursdays at 1:30 p.m.  All enthusiastic artists are welcome!
URL:https://huronshores.ca/event/sowerby-art-group/2016-12-01/
CATEGORIES:Community News,Recreation
ATTACH;FMTTYPE=image/jpeg:https://huronshores.ca/wp-content/uploads/2014/06/Call-for-Artists.jpg
END:VEVENT
BEGIN:VEVENT
DTSTART;TZID=America/Toronto:20161201T140000
DTEND;TZID=America/Toronto:20161201T153000
DTSTAMP:20260424T093842
CREATED:20151021T181815Z
LAST-MODIFIED:20151021T181815Z
UID:10016143-1480600800-1480606200@huronshores.ca
SUMMARY:Alzheimer Info & Discussion Group
DESCRIPTION:The Alzheimer Society of Sault Ste. Marie & Algoma District hosts an Information & Discussion Group on the 2nd Wednesday of each month\, at the Calvary Gospel Church\, 55 Queen Street\, Blind River from 2:00 – 3:30 p.m.  For more information please call Tanya\, First Link Coordinator\, at 705-848-8145.
URL:https://huronshores.ca/event/alzheimer-info-discussion-group-2/2016-12-01/
CATEGORIES:Community News
ATTACH;FMTTYPE=image/jpeg:https://huronshores.ca/wp-content/uploads/2013/01/Alzheimers-Disease.jpg
END:VEVENT
BEGIN:VEVENT
DTSTART;TZID=America/Toronto:20161202T140000
DTEND;TZID=America/Toronto:20161202T153000
DTSTAMP:20260424T093842
CREATED:20151021T181815Z
LAST-MODIFIED:20151021T181815Z
UID:10016144-1480687200-1480692600@huronshores.ca
SUMMARY:Alzheimer Info & Discussion Group
DESCRIPTION:The Alzheimer Society of Sault Ste. Marie & Algoma District hosts an Information & Discussion Group on the 2nd Wednesday of each month\, at the Calvary Gospel Church\, 55 Queen Street\, Blind River from 2:00 – 3:30 p.m.  For more information please call Tanya\, First Link Coordinator\, at 705-848-8145.
URL:https://huronshores.ca/event/alzheimer-info-discussion-group-2/2016-12-02/
CATEGORIES:Community News
ATTACH;FMTTYPE=image/jpeg:https://huronshores.ca/wp-content/uploads/2013/01/Alzheimers-Disease.jpg
END:VEVENT
BEGIN:VEVENT
DTSTART;TZID=America/Toronto:20161202T170000
DTEND;TZID=America/Toronto:20161202T230000
DTSTAMP:20260424T093842
CREATED:20161124T203217Z
LAST-MODIFIED:20161124T203217Z
UID:10019978-1480698000-1480719600@huronshores.ca
SUMMARY:Moonlight Madness
DESCRIPTION:Thessalon Moonlight Madness on Friday\, December 2/16\, from 5:00 to 11:00p.m.  Various merchants participating\, specials\, savings\, discounts and in-store draws!
URL:https://huronshores.ca/event/moonlight-madness/
CATEGORIES:Community News
END:VEVENT
BEGIN:VEVENT
DTSTART;TZID=America/Toronto:20161202T180000
DTEND;TZID=America/Toronto:20161202T230000
DTSTAMP:20260424T093842
CREATED:20161124T201312Z
LAST-MODIFIED:20161124T201312Z
UID:10019973-1480701600-1480719600@huronshores.ca
SUMMARY:Wing Nite
DESCRIPTION:Wing Nite at the Thessalon Curling Club.  First Friday of the month.  Doors open at 6:00 p.m. All you can eat wings!  Bar is open.  Everyone welcome!
URL:https://huronshores.ca/event/wing-nite-3/2016-12-02/
CATEGORIES:Community News
ATTACH;FMTTYPE=image/jpeg:https://huronshores.ca/wp-content/uploads/2014/02/Wing-Night.jpg
END:VEVENT
BEGIN:VEVENT
DTSTART;TZID=America/Toronto:20161203T113000
DTEND;TZID=America/Toronto:20161203T133000
DTSTAMP:20260424T093842
CREATED:20161124T203832Z
LAST-MODIFIED:20161124T203832Z
UID:10019979-1480764600-1480771800@huronshores.ca
SUMMARY:Christmas Luncheon & Bake Sale
DESCRIPTION:The Little Rapids Church ladies host their Christmas Luncheon & Bake Sale on Saturday\, December 3/16 from 11:30 a.m. to 1:30 p.m. at Zion United Church.  Soup\, sandwiches\, relish tray\, dessert\, dessert\, coffee\, tea or juice.  Touch and take table and silent auction\, door prize.
URL:https://huronshores.ca/event/christmas-luncheon-bake-sale/
CATEGORIES:Community News
END:VEVENT
BEGIN:VEVENT
DTSTART;TZID=America/Toronto:20161203T140000
DTEND;TZID=America/Toronto:20161203T153000
DTSTAMP:20260424T093842
CREATED:20151021T181815Z
LAST-MODIFIED:20151021T181815Z
UID:10016145-1480773600-1480779000@huronshores.ca
SUMMARY:Alzheimer Info & Discussion Group
DESCRIPTION:The Alzheimer Society of Sault Ste. Marie & Algoma District hosts an Information & Discussion Group on the 2nd Wednesday of each month\, at the Calvary Gospel Church\, 55 Queen Street\, Blind River from 2:00 – 3:30 p.m.  For more information please call Tanya\, First Link Coordinator\, at 705-848-8145.
URL:https://huronshores.ca/event/alzheimer-info-discussion-group-2/2016-12-03/
CATEGORIES:Community News
ATTACH;FMTTYPE=image/jpeg:https://huronshores.ca/wp-content/uploads/2013/01/Alzheimers-Disease.jpg
END:VEVENT
BEGIN:VEVENT
DTSTART;TZID=America/Toronto:20161204T140000
DTEND;TZID=America/Toronto:20161204T153000
DTSTAMP:20260424T093842
CREATED:20151021T181815Z
LAST-MODIFIED:20151021T181815Z
UID:10016146-1480860000-1480865400@huronshores.ca
SUMMARY:Alzheimer Info & Discussion Group
DESCRIPTION:The Alzheimer Society of Sault Ste. Marie & Algoma District hosts an Information & Discussion Group on the 2nd Wednesday of each month\, at the Calvary Gospel Church\, 55 Queen Street\, Blind River from 2:00 – 3:30 p.m.  For more information please call Tanya\, First Link Coordinator\, at 705-848-8145.
URL:https://huronshores.ca/event/alzheimer-info-discussion-group-2/2016-12-04/
CATEGORIES:Community News
ATTACH;FMTTYPE=image/jpeg:https://huronshores.ca/wp-content/uploads/2013/01/Alzheimers-Disease.jpg
END:VEVENT
BEGIN:VEVENT
DTSTART;TZID=America/Toronto:20161204T190000
DTEND;TZID=America/Toronto:20161204T190000
DTSTAMP:20260424T093842
CREATED:20161124T204650Z
LAST-MODIFIED:20161124T204650Z
UID:10019980-1480878000-1480878000@huronshores.ca
SUMMARY:North Channel Community Singers Christmas Concert
DESCRIPTION:The North Channel Community Singers present their Christmas Concert\, Sunday\, December 4/16\, at 7:00 p.m.\, Zion United Church\, Thessalon.  A dramatic reading of Charles Dickens’ “A Christmas Carol”. Tickets at the door.  Refreshments served after the show by the UCW.
URL:https://huronshores.ca/event/north-channel-community-singers-christmas-concert/
CATEGORIES:Community News
ATTACH;FMTTYPE=image/jpeg:https://huronshores.ca/wp-content/uploads/2016/11/christmas-carol-auditions-clipart-panda-free-clipart-images-AFYsOX-clipart.jpg
END:VEVENT
BEGIN:VEVENT
DTSTART;TZID=America/Toronto:20161205T140000
DTEND;TZID=America/Toronto:20161205T153000
DTSTAMP:20260424T093842
CREATED:20151021T181815Z
LAST-MODIFIED:20151021T181815Z
UID:10016147-1480946400-1480951800@huronshores.ca
SUMMARY:Alzheimer Info & Discussion Group
DESCRIPTION:The Alzheimer Society of Sault Ste. Marie & Algoma District hosts an Information & Discussion Group on the 2nd Wednesday of each month\, at the Calvary Gospel Church\, 55 Queen Street\, Blind River from 2:00 – 3:30 p.m.  For more information please call Tanya\, First Link Coordinator\, at 705-848-8145.
URL:https://huronshores.ca/event/alzheimer-info-discussion-group-2/2016-12-05/
CATEGORIES:Community News
ATTACH;FMTTYPE=image/jpeg:https://huronshores.ca/wp-content/uploads/2013/01/Alzheimers-Disease.jpg
END:VEVENT
BEGIN:VEVENT
DTSTART;TZID=America/Toronto:20161206T140000
DTEND;TZID=America/Toronto:20161206T153000
DTSTAMP:20260424T093842
CREATED:20151021T181815Z
LAST-MODIFIED:20151021T181815Z
UID:10016148-1481032800-1481038200@huronshores.ca
SUMMARY:Alzheimer Info & Discussion Group
DESCRIPTION:The Alzheimer Society of Sault Ste. Marie & Algoma District hosts an Information & Discussion Group on the 2nd Wednesday of each month\, at the Calvary Gospel Church\, 55 Queen Street\, Blind River from 2:00 – 3:30 p.m.  For more information please call Tanya\, First Link Coordinator\, at 705-848-8145.
URL:https://huronshores.ca/event/alzheimer-info-discussion-group-2/2016-12-06/
CATEGORIES:Community News
ATTACH;FMTTYPE=image/jpeg:https://huronshores.ca/wp-content/uploads/2013/01/Alzheimers-Disease.jpg
END:VEVENT
BEGIN:VEVENT
DTSTART;TZID=America/Toronto:20161207T140000
DTEND;TZID=America/Toronto:20161207T153000
DTSTAMP:20260424T093842
CREATED:20151021T181815Z
LAST-MODIFIED:20151021T181815Z
UID:10016149-1481119200-1481124600@huronshores.ca
SUMMARY:Alzheimer Info & Discussion Group
DESCRIPTION:The Alzheimer Society of Sault Ste. Marie & Algoma District hosts an Information & Discussion Group on the 2nd Wednesday of each month\, at the Calvary Gospel Church\, 55 Queen Street\, Blind River from 2:00 – 3:30 p.m.  For more information please call Tanya\, First Link Coordinator\, at 705-848-8145.
URL:https://huronshores.ca/event/alzheimer-info-discussion-group-2/2016-12-07/
CATEGORIES:Community News
ATTACH;FMTTYPE=image/jpeg:https://huronshores.ca/wp-content/uploads/2013/01/Alzheimers-Disease.jpg
END:VEVENT
BEGIN:VEVENT
DTSTART;TZID=America/Toronto:20161207T193000
DTEND;TZID=America/Toronto:20161207T193000
DTSTAMP:20260424T093842
CREATED:20160721T182330Z
LAST-MODIFIED:20160721T182330Z
UID:10019648-1481139000-1481139000@huronshores.ca
SUMMARY:Jammin' Session at the Thessalon Community Curling Club
DESCRIPTION:Every Wedneday night at 7:30PM\, join us at Thessalon Community Curling Club for our Jammin’ Session. You play an instrument and love to play with other instrumentalists\, or just love to listen to live music\, then come on down…the bar is open! Everyone welcome! Bring a friend!
URL:https://huronshores.ca/event/jammin-session-at-the-thessalon-community-curling-club/2016-12-07/
CATEGORIES:Recreation
END:VEVENT
BEGIN:VEVENT
DTSTART;TZID=America/Toronto:20161208T133000
DTEND;TZID=America/Toronto:20161208T163000
DTSTAMP:20260424T093842
CREATED:20161124T200555Z
LAST-MODIFIED:20161124T200555Z
UID:10019965-1481203800-1481214600@huronshores.ca
SUMMARY:Sowerby Art Group
DESCRIPTION:The Sowerby Art Group meets at Sowerby Hall\, 1410 Basswood Lake Rd.\, on Thursdays at 1:30 p.m.  All enthusiastic artists are welcome!
URL:https://huronshores.ca/event/sowerby-art-group/2016-12-08/
CATEGORIES:Community News,Recreation
ATTACH;FMTTYPE=image/jpeg:https://huronshores.ca/wp-content/uploads/2014/06/Call-for-Artists.jpg
END:VEVENT
BEGIN:VEVENT
DTSTART;TZID=America/Toronto:20161208T140000
DTEND;TZID=America/Toronto:20161208T153000
DTSTAMP:20260424T093842
CREATED:20151021T181815Z
LAST-MODIFIED:20151021T181815Z
UID:10016150-1481205600-1481211000@huronshores.ca
SUMMARY:Alzheimer Info & Discussion Group
DESCRIPTION:The Alzheimer Society of Sault Ste. Marie & Algoma District hosts an Information & Discussion Group on the 2nd Wednesday of each month\, at the Calvary Gospel Church\, 55 Queen Street\, Blind River from 2:00 – 3:30 p.m.  For more information please call Tanya\, First Link Coordinator\, at 705-848-8145.
URL:https://huronshores.ca/event/alzheimer-info-discussion-group-2/2016-12-08/
CATEGORIES:Community News
ATTACH;FMTTYPE=image/jpeg:https://huronshores.ca/wp-content/uploads/2013/01/Alzheimers-Disease.jpg
END:VEVENT
BEGIN:VEVENT
DTSTART;TZID=America/Toronto:20161209T140000
DTEND;TZID=America/Toronto:20161209T153000
DTSTAMP:20260424T093842
CREATED:20151021T181815Z
LAST-MODIFIED:20151021T181815Z
UID:10016151-1481292000-1481297400@huronshores.ca
SUMMARY:Alzheimer Info & Discussion Group
DESCRIPTION:The Alzheimer Society of Sault Ste. Marie & Algoma District hosts an Information & Discussion Group on the 2nd Wednesday of each month\, at the Calvary Gospel Church\, 55 Queen Street\, Blind River from 2:00 – 3:30 p.m.  For more information please call Tanya\, First Link Coordinator\, at 705-848-8145.
URL:https://huronshores.ca/event/alzheimer-info-discussion-group-2/2016-12-09/
CATEGORIES:Community News
ATTACH;FMTTYPE=image/jpeg:https://huronshores.ca/wp-content/uploads/2013/01/Alzheimers-Disease.jpg
END:VEVENT
BEGIN:VEVENT
DTSTART;TZID=America/Toronto:20161210T140000
DTEND;TZID=America/Toronto:20161210T153000
DTSTAMP:20260424T093842
CREATED:20151021T181815Z
LAST-MODIFIED:20151021T181815Z
UID:10016152-1481378400-1481383800@huronshores.ca
SUMMARY:Alzheimer Info & Discussion Group
DESCRIPTION:The Alzheimer Society of Sault Ste. Marie & Algoma District hosts an Information & Discussion Group on the 2nd Wednesday of each month\, at the Calvary Gospel Church\, 55 Queen Street\, Blind River from 2:00 – 3:30 p.m.  For more information please call Tanya\, First Link Coordinator\, at 705-848-8145.
URL:https://huronshores.ca/event/alzheimer-info-discussion-group-2/2016-12-10/
CATEGORIES:Community News
ATTACH;FMTTYPE=image/jpeg:https://huronshores.ca/wp-content/uploads/2013/01/Alzheimers-Disease.jpg
END:VEVENT
BEGIN:VEVENT
DTSTART;TZID=America/Toronto:20161211T140000
DTEND;TZID=America/Toronto:20161211T153000
DTSTAMP:20260424T093842
CREATED:20151021T181815Z
LAST-MODIFIED:20151021T181815Z
UID:10016153-1481464800-1481470200@huronshores.ca
SUMMARY:Alzheimer Info & Discussion Group
DESCRIPTION:The Alzheimer Society of Sault Ste. Marie & Algoma District hosts an Information & Discussion Group on the 2nd Wednesday of each month\, at the Calvary Gospel Church\, 55 Queen Street\, Blind River from 2:00 – 3:30 p.m.  For more information please call Tanya\, First Link Coordinator\, at 705-848-8145.
URL:https://huronshores.ca/event/alzheimer-info-discussion-group-2/2016-12-11/
CATEGORIES:Community News
ATTACH;FMTTYPE=image/jpeg:https://huronshores.ca/wp-content/uploads/2013/01/Alzheimers-Disease.jpg
END:VEVENT
BEGIN:VEVENT
DTSTART;TZID=America/Toronto:20161211T190000
DTEND;TZID=America/Toronto:20161211T190000
DTSTAMP:20260424T093842
CREATED:20161124T205320Z
LAST-MODIFIED:20161124T205320Z
UID:10019981-1481482800-1481482800@huronshores.ca
SUMMARY:Thessalon Lions Christmas Concert
DESCRIPTION:The Thessalon Lions Club hosts its annual Christmas Concert on Sunday\, December 11/16 at 7:00 p.m. at the Thessalon Senior School Gym\, Stanley Street. Admission is by free will donation.  Proceeds to the Christmas Hamper program.  If your family  requires a Christmas Hamper\, call Blair at 705-842-0592 up until December 12th.
URL:https://huronshores.ca/event/thessalon-lions-christmas-concert/
CATEGORIES:Community News
ATTACH;FMTTYPE=image/jpeg:https://huronshores.ca/wp-content/uploads/2015/11/Christmas-Concert.jpg
END:VEVENT
BEGIN:VEVENT
DTSTART;TZID=America/Toronto:20161212T140000
DTEND;TZID=America/Toronto:20161212T153000
DTSTAMP:20260424T093842
CREATED:20151021T181815Z
LAST-MODIFIED:20151021T181815Z
UID:10016154-1481551200-1481556600@huronshores.ca
SUMMARY:Alzheimer Info & Discussion Group
DESCRIPTION:The Alzheimer Society of Sault Ste. Marie & Algoma District hosts an Information & Discussion Group on the 2nd Wednesday of each month\, at the Calvary Gospel Church\, 55 Queen Street\, Blind River from 2:00 – 3:30 p.m.  For more information please call Tanya\, First Link Coordinator\, at 705-848-8145.
URL:https://huronshores.ca/event/alzheimer-info-discussion-group-2/2016-12-12/
CATEGORIES:Community News
ATTACH;FMTTYPE=image/jpeg:https://huronshores.ca/wp-content/uploads/2013/01/Alzheimers-Disease.jpg
END:VEVENT
BEGIN:VEVENT
DTSTART;TZID=America/Toronto:20161213T140000
DTEND;TZID=America/Toronto:20161213T153000
DTSTAMP:20260424T093842
CREATED:20151021T181815Z
LAST-MODIFIED:20151021T181815Z
UID:10016155-1481637600-1481643000@huronshores.ca
SUMMARY:Alzheimer Info & Discussion Group
DESCRIPTION:The Alzheimer Society of Sault Ste. Marie & Algoma District hosts an Information & Discussion Group on the 2nd Wednesday of each month\, at the Calvary Gospel Church\, 55 Queen Street\, Blind River from 2:00 – 3:30 p.m.  For more information please call Tanya\, First Link Coordinator\, at 705-848-8145.
URL:https://huronshores.ca/event/alzheimer-info-discussion-group-2/2016-12-13/
CATEGORIES:Community News
ATTACH;FMTTYPE=image/jpeg:https://huronshores.ca/wp-content/uploads/2013/01/Alzheimers-Disease.jpg
END:VEVENT
BEGIN:VEVENT
DTSTART;TZID=America/Toronto:20161214T110000
DTEND;TZID=America/Toronto:20161214T120000
DTSTAMP:20260424T093842
CREATED:20161128T195553Z
LAST-MODIFIED:20161128T195553Z
UID:10019987-1481713200-1481716800@huronshores.ca
SUMMARY:MPP Constituency Clinic
DESCRIPTION:A Representative from the office of MPP Michael Mantha will hold Constituency Clinics on Wednesday\, December 14/16 at the following locations & times: \n\nBlind River Municipal Office\, 9:00 – 10:00 a.m.\nIron Bridge\, Municipality of Huron Shores Municipal Office\, 11:00 a.m. – Noon\nThessalon Municipal Office\, 1:00 – 2:00 p.m.\nBruce Mines Municipal Office\, 2:30 – 3:30 p.m.\n\nFor further information please contact the Constituency Office:  mmantha-co@ndp.on.ca; Telephone 705-461-9710 or Toll Free 1-800-831-1899; Fax 705-461-9720. \n 
URL:https://huronshores.ca/event/mpp-constituency-clinic/
CATEGORIES:Community News
ATTACH;FMTTYPE=image/jpeg:https://huronshores.ca/wp-content/uploads/2015/12/Michael_Mantha.jpg
END:VEVENT
BEGIN:VEVENT
DTSTART;TZID=America/Toronto:20161214T113000
DTEND;TZID=America/Toronto:20161214T133000
DTSTAMP:20260424T093842
CREATED:20161124T205832Z
LAST-MODIFIED:20161124T205832Z
UID:10019982-1481715000-1481722200@huronshores.ca
SUMMARY:Christmas Luncheon & Sale
DESCRIPTION:St. Ambrose Catholic Women’s League host a Christmas Luncheon & Sale on Wednesday\, December 14/16 from 11:30 a.m. to 1:30 p.m.  Turkey luncheon with all the trimmings.  Tickets:  $10/person.  Take-out available:  call 705-842-2024.  For more info call Mary 705-842-0799 or Sylvie 705-842-2575.
URL:https://huronshores.ca/event/christmas-luncheon-sale/
CATEGORIES:Community News
ATTACH;FMTTYPE=image/png:https://huronshores.ca/wp-content/uploads/2015/10/turkey-dinner.png
END:VEVENT
BEGIN:VEVENT
DTSTART;TZID=America/Toronto:20161214T140000
DTEND;TZID=America/Toronto:20161214T153000
DTSTAMP:20260424T093842
CREATED:20151021T181815Z
LAST-MODIFIED:20151021T181815Z
UID:10016156-1481724000-1481729400@huronshores.ca
SUMMARY:Alzheimer Info & Discussion Group
DESCRIPTION:The Alzheimer Society of Sault Ste. Marie & Algoma District hosts an Information & Discussion Group on the 2nd Wednesday of each month\, at the Calvary Gospel Church\, 55 Queen Street\, Blind River from 2:00 – 3:30 p.m.  For more information please call Tanya\, First Link Coordinator\, at 705-848-8145.
URL:https://huronshores.ca/event/alzheimer-info-discussion-group-2/2016-12-14/
CATEGORIES:Community News
ATTACH;FMTTYPE=image/jpeg:https://huronshores.ca/wp-content/uploads/2013/01/Alzheimers-Disease.jpg
END:VEVENT
BEGIN:VEVENT
DTSTART;TZID=America/Toronto:20161214T190000
DTEND;TZID=America/Toronto:20161214T190000
DTSTAMP:20260424T093842
CREATED:20160114T204223Z
LAST-MODIFIED:20160114T204223Z
UID:10019441-1481742000-1481742000@huronshores.ca
SUMMARY:Regular Council Meeting
DESCRIPTION:The Regular Meeting of Council for the month of December will be held Wednesday\, December 14/16 at 7:00 p.m. in the Council Chamber\, 7 Bridge Street\, Iron Bridge.  Council meets only once in December.  The Agenda was posted on Monday\, December 12/16.  Please click on the link below to view the Agenda post.  The next Meeting of Council will be Wednesday\, January 11/17.
URL:https://huronshores.ca/event/regular-council-meeting-13/
CATEGORIES:Council Meeting
ATTACH;FMTTYPE=:
END:VEVENT
BEGIN:VEVENT
DTSTART;TZID=America/Toronto:20161214T193000
DTEND;TZID=America/Toronto:20161214T193000
DTSTAMP:20260424T093842
CREATED:20160721T182330Z
LAST-MODIFIED:20160721T182330Z
UID:10019649-1481743800-1481743800@huronshores.ca
SUMMARY:Jammin' Session at the Thessalon Community Curling Club
DESCRIPTION:Every Wedneday night at 7:30PM\, join us at Thessalon Community Curling Club for our Jammin’ Session. You play an instrument and love to play with other instrumentalists\, or just love to listen to live music\, then come on down…the bar is open! Everyone welcome! Bring a friend!
URL:https://huronshores.ca/event/jammin-session-at-the-thessalon-community-curling-club/2016-12-14/
CATEGORIES:Recreation
END:VEVENT
BEGIN:VEVENT
DTSTART;TZID=America/Toronto:20161215T133000
DTEND;TZID=America/Toronto:20161215T163000
DTSTAMP:20260424T093842
CREATED:20161124T200555Z
LAST-MODIFIED:20161124T200555Z
UID:10019966-1481808600-1481819400@huronshores.ca
SUMMARY:Sowerby Art Group
DESCRIPTION:The Sowerby Art Group meets at Sowerby Hall\, 1410 Basswood Lake Rd.\, on Thursdays at 1:30 p.m.  All enthusiastic artists are welcome!
URL:https://huronshores.ca/event/sowerby-art-group/2016-12-15/
CATEGORIES:Community News,Recreation
ATTACH;FMTTYPE=image/jpeg:https://huronshores.ca/wp-content/uploads/2014/06/Call-for-Artists.jpg
END:VEVENT
BEGIN:VEVENT
DTSTART;TZID=America/Toronto:20161215T140000
DTEND;TZID=America/Toronto:20161215T153000
DTSTAMP:20260424T093842
CREATED:20151021T181815Z
LAST-MODIFIED:20151021T181815Z
UID:10016157-1481810400-1481815800@huronshores.ca
SUMMARY:Alzheimer Info & Discussion Group
DESCRIPTION:The Alzheimer Society of Sault Ste. Marie & Algoma District hosts an Information & Discussion Group on the 2nd Wednesday of each month\, at the Calvary Gospel Church\, 55 Queen Street\, Blind River from 2:00 – 3:30 p.m.  For more information please call Tanya\, First Link Coordinator\, at 705-848-8145.
URL:https://huronshores.ca/event/alzheimer-info-discussion-group-2/2016-12-15/
CATEGORIES:Community News
ATTACH;FMTTYPE=image/jpeg:https://huronshores.ca/wp-content/uploads/2013/01/Alzheimers-Disease.jpg
END:VEVENT
BEGIN:VEVENT
DTSTART;TZID=America/Toronto:20161216T140000
DTEND;TZID=America/Toronto:20161216T153000
DTSTAMP:20260424T093842
CREATED:20151021T181815Z
LAST-MODIFIED:20151021T181815Z
UID:10016158-1481896800-1481902200@huronshores.ca
SUMMARY:Alzheimer Info & Discussion Group
DESCRIPTION:The Alzheimer Society of Sault Ste. Marie & Algoma District hosts an Information & Discussion Group on the 2nd Wednesday of each month\, at the Calvary Gospel Church\, 55 Queen Street\, Blind River from 2:00 – 3:30 p.m.  For more information please call Tanya\, First Link Coordinator\, at 705-848-8145.
URL:https://huronshores.ca/event/alzheimer-info-discussion-group-2/2016-12-16/
CATEGORIES:Community News
ATTACH;FMTTYPE=image/jpeg:https://huronshores.ca/wp-content/uploads/2013/01/Alzheimers-Disease.jpg
END:VEVENT
END:VCALENDAR