BEGIN:VCALENDAR
VERSION:2.0
PRODID:-//Huron Shores - ECPv6.15.11//NONSGML v1.0//EN
CALSCALE:GREGORIAN
METHOD:PUBLISH
X-WR-CALNAME:Huron Shores
X-ORIGINAL-URL:https://huronshores.ca
X-WR-CALDESC:Events for Huron Shores
REFRESH-INTERVAL;VALUE=DURATION:PT1H
X-Robots-Tag:noindex
X-PUBLISHED-TTL:PT1H
BEGIN:VTIMEZONE
TZID:America/Toronto
BEGIN:DAYLIGHT
TZOFFSETFROM:-0500
TZOFFSETTO:-0400
TZNAME:EDT
DTSTART:20160313T070000
END:DAYLIGHT
BEGIN:STANDARD
TZOFFSETFROM:-0400
TZOFFSETTO:-0500
TZNAME:EST
DTSTART:20161106T060000
END:STANDARD
BEGIN:DAYLIGHT
TZOFFSETFROM:-0500
TZOFFSETTO:-0400
TZNAME:EDT
DTSTART:20170312T070000
END:DAYLIGHT
BEGIN:STANDARD
TZOFFSETFROM:-0400
TZOFFSETTO:-0500
TZNAME:EST
DTSTART:20171105T060000
END:STANDARD
BEGIN:DAYLIGHT
TZOFFSETFROM:-0500
TZOFFSETTO:-0400
TZNAME:EDT
DTSTART:20180311T070000
END:DAYLIGHT
BEGIN:STANDARD
TZOFFSETFROM:-0400
TZOFFSETTO:-0500
TZNAME:EST
DTSTART:20181104T060000
END:STANDARD
END:VTIMEZONE
BEGIN:VEVENT
DTSTART;TZID=America/Toronto:20170801T140000
DTEND;TZID=America/Toronto:20170801T153000
DTSTAMP:20260423T184529
CREATED:20151021T181815Z
LAST-MODIFIED:20151021T181815Z
UID:10016386-1501596000-1501601400@huronshores.ca
SUMMARY:Alzheimer Info & Discussion Group
DESCRIPTION:The Alzheimer Society of Sault Ste. Marie & Algoma District hosts an Information & Discussion Group on the 2nd Wednesday of each month\, at the Calvary Gospel Church\, 55 Queen Street\, Blind River from 2:00 – 3:30 p.m.  For more information please call Tanya\, First Link Coordinator\, at 705-848-8145.
URL:https://huronshores.ca/event/alzheimer-info-discussion-group-2/2017-08-01/
CATEGORIES:Community News
ATTACH;FMTTYPE=image/jpeg:https://huronshores.ca/wp-content/uploads/2013/01/Alzheimers-Disease.jpg
END:VEVENT
BEGIN:VEVENT
DTSTART;TZID=America/Toronto:20170801T183000
DTEND;TZID=America/Toronto:20170801T200000
DTSTAMP:20260423T184529
CREATED:20170502T195428Z
LAST-MODIFIED:20170502T195428Z
UID:10020115-1501612200-1501617600@huronshores.ca
SUMMARY:Family Fun Time!
DESCRIPTION:The Iron Bridge Rec Committee hosts Family Fun Time on Tuesday evenings from 6:30 – 8:00 p.m. at the Rec Centre\, 1 Chiblow Lake Rd.  Activities for all ages.  Everyone welcome!
URL:https://huronshores.ca/event/family-fun-time/2017-08-01/
CATEGORIES:Community News,Recreation
ATTACH;FMTTYPE=image/jpeg:https://huronshores.ca/wp-content/uploads/2015/09/Family-Activities.jpeg
END:VEVENT
BEGIN:VEVENT
DTSTART;TZID=America/Toronto:20170802T140000
DTEND;TZID=America/Toronto:20170802T153000
DTSTAMP:20260423T184529
CREATED:20151021T181815Z
LAST-MODIFIED:20151021T181815Z
UID:10016387-1501682400-1501687800@huronshores.ca
SUMMARY:Alzheimer Info & Discussion Group
DESCRIPTION:The Alzheimer Society of Sault Ste. Marie & Algoma District hosts an Information & Discussion Group on the 2nd Wednesday of each month\, at the Calvary Gospel Church\, 55 Queen Street\, Blind River from 2:00 – 3:30 p.m.  For more information please call Tanya\, First Link Coordinator\, at 705-848-8145.
URL:https://huronshores.ca/event/alzheimer-info-discussion-group-2/2017-08-02/
CATEGORIES:Community News
ATTACH;FMTTYPE=image/jpeg:https://huronshores.ca/wp-content/uploads/2013/01/Alzheimers-Disease.jpg
END:VEVENT
BEGIN:VEVENT
DTSTART;TZID=America/Toronto:20170802T193000
DTEND;TZID=America/Toronto:20170802T193000
DTSTAMP:20260423T184529
CREATED:20160721T182330Z
LAST-MODIFIED:20160721T182330Z
UID:10019682-1501702200-1501702200@huronshores.ca
SUMMARY:Jammin' Session at the Thessalon Community Curling Club
DESCRIPTION:Every Wedneday night at 7:30PM\, join us at Thessalon Community Curling Club for our Jammin’ Session. You play an instrument and love to play with other instrumentalists\, or just love to listen to live music\, then come on down…the bar is open! Everyone welcome! Bring a friend!
URL:https://huronshores.ca/event/jammin-session-at-the-thessalon-community-curling-club/2017-08-02/
CATEGORIES:Recreation
END:VEVENT
BEGIN:VEVENT
DTSTART;TZID=America/Toronto:20170803T140000
DTEND;TZID=America/Toronto:20170803T153000
DTSTAMP:20260423T184529
CREATED:20151021T181815Z
LAST-MODIFIED:20151021T181815Z
UID:10016388-1501768800-1501774200@huronshores.ca
SUMMARY:Alzheimer Info & Discussion Group
DESCRIPTION:The Alzheimer Society of Sault Ste. Marie & Algoma District hosts an Information & Discussion Group on the 2nd Wednesday of each month\, at the Calvary Gospel Church\, 55 Queen Street\, Blind River from 2:00 – 3:30 p.m.  For more information please call Tanya\, First Link Coordinator\, at 705-848-8145.
URL:https://huronshores.ca/event/alzheimer-info-discussion-group-2/2017-08-03/
CATEGORIES:Community News
ATTACH;FMTTYPE=image/jpeg:https://huronshores.ca/wp-content/uploads/2013/01/Alzheimers-Disease.jpg
END:VEVENT
BEGIN:VEVENT
DTSTART;TZID=America/Toronto:20170804T140000
DTEND;TZID=America/Toronto:20170804T153000
DTSTAMP:20260423T184529
CREATED:20151021T181815Z
LAST-MODIFIED:20151021T181815Z
UID:10016389-1501855200-1501860600@huronshores.ca
SUMMARY:Alzheimer Info & Discussion Group
DESCRIPTION:The Alzheimer Society of Sault Ste. Marie & Algoma District hosts an Information & Discussion Group on the 2nd Wednesday of each month\, at the Calvary Gospel Church\, 55 Queen Street\, Blind River from 2:00 – 3:30 p.m.  For more information please call Tanya\, First Link Coordinator\, at 705-848-8145.
URL:https://huronshores.ca/event/alzheimer-info-discussion-group-2/2017-08-04/
CATEGORIES:Community News
ATTACH;FMTTYPE=image/jpeg:https://huronshores.ca/wp-content/uploads/2013/01/Alzheimers-Disease.jpg
END:VEVENT
BEGIN:VEVENT
DTSTART;TZID=America/Toronto:20170805T090000
DTEND;TZID=America/Toronto:20170805T140000
DTSTAMP:20260423T184529
CREATED:20170602T132003Z
LAST-MODIFIED:20170602T132003Z
UID:10020145-1501923600-1501941600@huronshores.ca
SUMMARY:Sowerby Farmers' Market
DESCRIPTION:Sowerby Farmers’ Market\, every Saturday\, 9:00 a.m. – 2:00 p.m.\, from June 10 to October 7/17.  Local food producers and artisans offer seasonal fresh veggies\, home-baked goods\, jams\, jellies\, pickles\, handicrafts\, and more.  Vendor tables are $5.00/table/day.  Call Will at 705-843-5567 to book a table.
URL:https://huronshores.ca/event/sowerby-farmers-market-3/2017-08-05/
CATEGORIES:Farmers' Markets,Local Food
ATTACH;FMTTYPE=image/jpeg:https://huronshores.ca/wp-content/uploads/2011/08/Historic-Cordukes-Weber-12-Sided-Barn-Sign1.jpg
END:VEVENT
BEGIN:VEVENT
DTSTART;TZID=America/Toronto:20170805T090000
DTEND;TZID=America/Toronto:20170805T140000
DTSTAMP:20260423T184529
CREATED:20170608T201421Z
LAST-MODIFIED:20170608T201421Z
UID:10020162-1501923600-1501941600@huronshores.ca
SUMMARY:Iron Bridge Farmers' Market
DESCRIPTION:The Iron Bridge Farmers’ Market is on Saturdays\, from 9:00 a.m. to 2:00 p.m. in the covered gazebo at the Iron Bridge Historical Museum\, 1 James Street.  Markets will be held weekly until the end of September.  Items available will include farm produce\, book and yard sale items\, as well\, consignment items may also be included (depending on storage availability). Table rentals are $5/table/day. Contact Carl at 705-843-2486 for details. The Museum is open daily from mid-June to September.
URL:https://huronshores.ca/event/iron-bridge-farmers-market-2/2017-08-05/
CATEGORIES:Community News,Farmers' Markets,Local Food
ATTACH;FMTTYPE=image/jpeg:https://huronshores.ca/wp-content/uploads/2012/03/Ward-3-Museum-Welcome-sign-Web-large.jpg
END:VEVENT
BEGIN:VEVENT
DTSTART;TZID=America/Toronto:20170805T140000
DTEND;TZID=America/Toronto:20170805T153000
DTSTAMP:20260423T184529
CREATED:20151021T181815Z
LAST-MODIFIED:20151021T181815Z
UID:10016390-1501941600-1501947000@huronshores.ca
SUMMARY:Alzheimer Info & Discussion Group
DESCRIPTION:The Alzheimer Society of Sault Ste. Marie & Algoma District hosts an Information & Discussion Group on the 2nd Wednesday of each month\, at the Calvary Gospel Church\, 55 Queen Street\, Blind River from 2:00 – 3:30 p.m.  For more information please call Tanya\, First Link Coordinator\, at 705-848-8145.
URL:https://huronshores.ca/event/alzheimer-info-discussion-group-2/2017-08-05/
CATEGORIES:Community News
ATTACH;FMTTYPE=image/jpeg:https://huronshores.ca/wp-content/uploads/2013/01/Alzheimers-Disease.jpg
END:VEVENT
BEGIN:VEVENT
DTSTART;TZID=America/Toronto:20170806T140000
DTEND;TZID=America/Toronto:20170806T153000
DTSTAMP:20260423T184529
CREATED:20151021T181815Z
LAST-MODIFIED:20151021T181815Z
UID:10016391-1502028000-1502033400@huronshores.ca
SUMMARY:Alzheimer Info & Discussion Group
DESCRIPTION:The Alzheimer Society of Sault Ste. Marie & Algoma District hosts an Information & Discussion Group on the 2nd Wednesday of each month\, at the Calvary Gospel Church\, 55 Queen Street\, Blind River from 2:00 – 3:30 p.m.  For more information please call Tanya\, First Link Coordinator\, at 705-848-8145.
URL:https://huronshores.ca/event/alzheimer-info-discussion-group-2/2017-08-06/
CATEGORIES:Community News
ATTACH;FMTTYPE=image/jpeg:https://huronshores.ca/wp-content/uploads/2013/01/Alzheimers-Disease.jpg
END:VEVENT
BEGIN:VEVENT
DTSTART;VALUE=DATE:20170807
DTEND;VALUE=DATE:20170808
DTSTAMP:20260423T184529
CREATED:20161219T150837Z
LAST-MODIFIED:20161219T150837Z
UID:10020026-1502064000-1502150399@huronshores.ca
SUMMARY:Civic Holiday
DESCRIPTION:The Municipal Office & all Waste Disposal & Recycling Sites are closed for the Civic Holiday.  The Office will re-open at 8:30 a.m.\, Tuesday\, August 8/17; the Waste Sites on Wednesday\, August 9/17\, from 4:00 – 8:00 p.m.  If you get a chance\, check out the Thessalon Twp. Heritage Assn.’s Country Fair & Silent Auction in Little Rapids.  Enjoy your August long weekend!
URL:https://huronshores.ca/event/civic-holiday-3/
CATEGORIES:Community News,Office Closure
ATTACH;FMTTYPE=image/jpeg:https://huronshores.ca/wp-content/uploads/2015/07/August-Civic-Holiday.jpg
END:VEVENT
BEGIN:VEVENT
DTSTART;TZID=America/Toronto:20170807T110000
DTEND;TZID=America/Toronto:20170807T150000
DTSTAMP:20260423T184529
CREATED:20161219T151147Z
LAST-MODIFIED:20161219T151147Z
UID:10019492-1502103600-1502118000@huronshores.ca
SUMMARY:Country Fair & Silent Auction
DESCRIPTION:Annual Country Fair & Silent Auction: Monday\, August 7/17; From 11:00 a.m.-3:00 p.m. at the Heritage Park Museum & Thessalon Twp. Community Centre\, Little Rapids. Children’s activities\, live local music\, quilt & handiwork display\, tractor show\, historical displays\, bake table\, vendors\, & more. Lunch served all day. Sponsored by the Thessalon Twp. Heritage Assn.
URL:https://huronshores.ca/event/country-fair-silent-auction-2/
CATEGORIES:Community News
ATTACH;FMTTYPE=image/jpeg:https://huronshores.ca/wp-content/uploads/2015/07/Country-Fair.jpg
END:VEVENT
BEGIN:VEVENT
DTSTART;TZID=America/Toronto:20170807T140000
DTEND;TZID=America/Toronto:20170807T153000
DTSTAMP:20260423T184529
CREATED:20151021T181815Z
LAST-MODIFIED:20151021T181815Z
UID:10016392-1502114400-1502119800@huronshores.ca
SUMMARY:Alzheimer Info & Discussion Group
DESCRIPTION:The Alzheimer Society of Sault Ste. Marie & Algoma District hosts an Information & Discussion Group on the 2nd Wednesday of each month\, at the Calvary Gospel Church\, 55 Queen Street\, Blind River from 2:00 – 3:30 p.m.  For more information please call Tanya\, First Link Coordinator\, at 705-848-8145.
URL:https://huronshores.ca/event/alzheimer-info-discussion-group-2/2017-08-07/
CATEGORIES:Community News
ATTACH;FMTTYPE=image/jpeg:https://huronshores.ca/wp-content/uploads/2013/01/Alzheimers-Disease.jpg
END:VEVENT
BEGIN:VEVENT
DTSTART;TZID=America/Toronto:20170808T140000
DTEND;TZID=America/Toronto:20170808T153000
DTSTAMP:20260423T184529
CREATED:20151021T181815Z
LAST-MODIFIED:20151021T181815Z
UID:10016393-1502200800-1502206200@huronshores.ca
SUMMARY:Alzheimer Info & Discussion Group
DESCRIPTION:The Alzheimer Society of Sault Ste. Marie & Algoma District hosts an Information & Discussion Group on the 2nd Wednesday of each month\, at the Calvary Gospel Church\, 55 Queen Street\, Blind River from 2:00 – 3:30 p.m.  For more information please call Tanya\, First Link Coordinator\, at 705-848-8145.
URL:https://huronshores.ca/event/alzheimer-info-discussion-group-2/2017-08-08/
CATEGORIES:Community News
ATTACH;FMTTYPE=image/jpeg:https://huronshores.ca/wp-content/uploads/2013/01/Alzheimers-Disease.jpg
END:VEVENT
BEGIN:VEVENT
DTSTART;TZID=America/Toronto:20170808T183000
DTEND;TZID=America/Toronto:20170808T200000
DTSTAMP:20260423T184529
CREATED:20170502T195428Z
LAST-MODIFIED:20170502T195428Z
UID:10020116-1502217000-1502222400@huronshores.ca
SUMMARY:Family Fun Time!
DESCRIPTION:The Iron Bridge Rec Committee hosts Family Fun Time on Tuesday evenings from 6:30 – 8:00 p.m. at the Rec Centre\, 1 Chiblow Lake Rd.  Activities for all ages.  Everyone welcome!
URL:https://huronshores.ca/event/family-fun-time/2017-08-08/
CATEGORIES:Community News,Recreation
ATTACH;FMTTYPE=image/jpeg:https://huronshores.ca/wp-content/uploads/2015/09/Family-Activities.jpeg
END:VEVENT
BEGIN:VEVENT
DTSTART;TZID=America/Toronto:20170809T140000
DTEND;TZID=America/Toronto:20170809T153000
DTSTAMP:20260423T184529
CREATED:20151021T181815Z
LAST-MODIFIED:20151021T181815Z
UID:10016394-1502287200-1502292600@huronshores.ca
SUMMARY:Alzheimer Info & Discussion Group
DESCRIPTION:The Alzheimer Society of Sault Ste. Marie & Algoma District hosts an Information & Discussion Group on the 2nd Wednesday of each month\, at the Calvary Gospel Church\, 55 Queen Street\, Blind River from 2:00 – 3:30 p.m.  For more information please call Tanya\, First Link Coordinator\, at 705-848-8145.
URL:https://huronshores.ca/event/alzheimer-info-discussion-group-2/2017-08-09/
CATEGORIES:Community News
ATTACH;FMTTYPE=image/jpeg:https://huronshores.ca/wp-content/uploads/2013/01/Alzheimers-Disease.jpg
END:VEVENT
BEGIN:VEVENT
DTSTART;TZID=America/Toronto:20170809T193000
DTEND;TZID=America/Toronto:20170809T193000
DTSTAMP:20260423T184529
CREATED:20160721T182330Z
LAST-MODIFIED:20160721T182330Z
UID:10019683-1502307000-1502307000@huronshores.ca
SUMMARY:Jammin' Session at the Thessalon Community Curling Club
DESCRIPTION:Every Wedneday night at 7:30PM\, join us at Thessalon Community Curling Club for our Jammin’ Session. You play an instrument and love to play with other instrumentalists\, or just love to listen to live music\, then come on down…the bar is open! Everyone welcome! Bring a friend!
URL:https://huronshores.ca/event/jammin-session-at-the-thessalon-community-curling-club/2017-08-09/
CATEGORIES:Recreation
END:VEVENT
BEGIN:VEVENT
DTSTART;TZID=America/Toronto:20170810T140000
DTEND;TZID=America/Toronto:20170810T153000
DTSTAMP:20260423T184529
CREATED:20151021T181815Z
LAST-MODIFIED:20151021T181815Z
UID:10016395-1502373600-1502379000@huronshores.ca
SUMMARY:Alzheimer Info & Discussion Group
DESCRIPTION:The Alzheimer Society of Sault Ste. Marie & Algoma District hosts an Information & Discussion Group on the 2nd Wednesday of each month\, at the Calvary Gospel Church\, 55 Queen Street\, Blind River from 2:00 – 3:30 p.m.  For more information please call Tanya\, First Link Coordinator\, at 705-848-8145.
URL:https://huronshores.ca/event/alzheimer-info-discussion-group-2/2017-08-10/
CATEGORIES:Community News
ATTACH;FMTTYPE=image/jpeg:https://huronshores.ca/wp-content/uploads/2013/01/Alzheimers-Disease.jpg
END:VEVENT
BEGIN:VEVENT
DTSTART;VALUE=DATE:20170811
DTEND;VALUE=DATE:20170814
DTSTAMP:20260423T184529
CREATED:20170811T155751Z
LAST-MODIFIED:20170811T155751Z
UID:10020183-1502409600-1502668799@huronshores.ca
SUMMARY:Iron Bridge Family Ball Tournament
DESCRIPTION:The Iron Bridge Lions Club hosts its annual Family Baseball Tournament  from August 11-13/17 at the Lions Club Ball Park.  Canteen is open for refreshments.  Face painting for children of all ages. Saturday morning is the Lions Club Canada 150 Pancake Breakfast at the Lions Hall\, 10 Clarissa Street\, from 7:00-10:30 a.m.  The Hall also hosts a dance that evening.  Baseball continues on Sunday.  Come out and cheer on the teams!
URL:https://huronshores.ca/event/iron-bridge-family-ball-tournament/
CATEGORIES:Community News
ATTACH;FMTTYPE=image/jpeg:https://huronshores.ca/wp-content/uploads/2014/08/Baseball.jpg
END:VEVENT
BEGIN:VEVENT
DTSTART;TZID=America/Toronto:20170811T140000
DTEND;TZID=America/Toronto:20170811T153000
DTSTAMP:20260423T184529
CREATED:20151021T181815Z
LAST-MODIFIED:20151021T181815Z
UID:10016396-1502460000-1502465400@huronshores.ca
SUMMARY:Alzheimer Info & Discussion Group
DESCRIPTION:The Alzheimer Society of Sault Ste. Marie & Algoma District hosts an Information & Discussion Group on the 2nd Wednesday of each month\, at the Calvary Gospel Church\, 55 Queen Street\, Blind River from 2:00 – 3:30 p.m.  For more information please call Tanya\, First Link Coordinator\, at 705-848-8145.
URL:https://huronshores.ca/event/alzheimer-info-discussion-group-2/2017-08-11/
CATEGORIES:Community News
ATTACH;FMTTYPE=image/jpeg:https://huronshores.ca/wp-content/uploads/2013/01/Alzheimers-Disease.jpg
END:VEVENT
BEGIN:VEVENT
DTSTART;TZID=America/Toronto:20170812T070000
DTEND;TZID=America/Toronto:20170812T103000
DTSTAMP:20260423T184529
CREATED:20170811T182946Z
LAST-MODIFIED:20170811T182946Z
UID:10020184-1502521200-1502533800@huronshores.ca
SUMMARY:Canada 150 Pancake Breakfast
DESCRIPTION:The Iron Bridge Lions Club hosts a Canada 150 Pancake Breakfast at the Lions Hall\, 10 Clarissa St.\, from 7:00 -10:30 a.m.
URL:https://huronshores.ca/event/canada-150-pancake-breakfast/
CATEGORIES:Community News
ATTACH;FMTTYPE=image/jpeg:https://huronshores.ca/wp-content/uploads/2017/08/canada-day-pancakes1.jpg
END:VEVENT
BEGIN:VEVENT
DTSTART;TZID=America/Toronto:20170812T090000
DTEND;TZID=America/Toronto:20170812T140000
DTSTAMP:20260423T184529
CREATED:20170602T132003Z
LAST-MODIFIED:20170602T132003Z
UID:10020146-1502528400-1502546400@huronshores.ca
SUMMARY:Sowerby Farmers' Market
DESCRIPTION:Sowerby Farmers’ Market\, every Saturday\, 9:00 a.m. – 2:00 p.m.\, from June 10 to October 7/17.  Local food producers and artisans offer seasonal fresh veggies\, home-baked goods\, jams\, jellies\, pickles\, handicrafts\, and more.  Vendor tables are $5.00/table/day.  Call Will at 705-843-5567 to book a table.
URL:https://huronshores.ca/event/sowerby-farmers-market-3/2017-08-12/
CATEGORIES:Farmers' Markets,Local Food
ATTACH;FMTTYPE=image/jpeg:https://huronshores.ca/wp-content/uploads/2011/08/Historic-Cordukes-Weber-12-Sided-Barn-Sign1.jpg
END:VEVENT
BEGIN:VEVENT
DTSTART;TZID=America/Toronto:20170812T090000
DTEND;TZID=America/Toronto:20170812T140000
DTSTAMP:20260423T184529
CREATED:20170608T201421Z
LAST-MODIFIED:20170608T201421Z
UID:10020163-1502528400-1502546400@huronshores.ca
SUMMARY:Iron Bridge Farmers' Market
DESCRIPTION:The Iron Bridge Farmers’ Market is on Saturdays\, from 9:00 a.m. to 2:00 p.m. in the covered gazebo at the Iron Bridge Historical Museum\, 1 James Street.  Markets will be held weekly until the end of September.  Items available will include farm produce\, book and yard sale items\, as well\, consignment items may also be included (depending on storage availability). Table rentals are $5/table/day. Contact Carl at 705-843-2486 for details. The Museum is open daily from mid-June to September.
URL:https://huronshores.ca/event/iron-bridge-farmers-market-2/2017-08-12/
CATEGORIES:Community News,Farmers' Markets,Local Food
ATTACH;FMTTYPE=image/jpeg:https://huronshores.ca/wp-content/uploads/2012/03/Ward-3-Museum-Welcome-sign-Web-large.jpg
END:VEVENT
BEGIN:VEVENT
DTSTART;TZID=America/Toronto:20170812T140000
DTEND;TZID=America/Toronto:20170812T153000
DTSTAMP:20260423T184529
CREATED:20151021T181815Z
LAST-MODIFIED:20151021T181815Z
UID:10016397-1502546400-1502551800@huronshores.ca
SUMMARY:Alzheimer Info & Discussion Group
DESCRIPTION:The Alzheimer Society of Sault Ste. Marie & Algoma District hosts an Information & Discussion Group on the 2nd Wednesday of each month\, at the Calvary Gospel Church\, 55 Queen Street\, Blind River from 2:00 – 3:30 p.m.  For more information please call Tanya\, First Link Coordinator\, at 705-848-8145.
URL:https://huronshores.ca/event/alzheimer-info-discussion-group-2/2017-08-12/
CATEGORIES:Community News
ATTACH;FMTTYPE=image/jpeg:https://huronshores.ca/wp-content/uploads/2013/01/Alzheimers-Disease.jpg
END:VEVENT
BEGIN:VEVENT
DTSTART;TZID=America/Toronto:20170812T210000
DTEND;TZID=America/Toronto:20170813T000000
DTSTAMP:20260423T184529
CREATED:20170811T183318Z
LAST-MODIFIED:20170811T183318Z
UID:10020185-1502571600-1502582400@huronshores.ca
SUMMARY:Iron Bridge Lions Club Dance
DESCRIPTION:The Iron Bridge Lions Club is hosting a Dance at the Lions Hall\, 10 Clarissa St. from 9:00 p.m. to Midnight as part of its Family Baseball Tournament this weekend.  So kick off your cleats and get your dance shoes on!
URL:https://huronshores.ca/event/iron-bridge-lions-club-dance/
CATEGORIES:Community News
ATTACH;FMTTYPE=image/jpeg:https://huronshores.ca/wp-content/uploads/2016/09/Dance.jpg
END:VEVENT
BEGIN:VEVENT
DTSTART;TZID=America/Toronto:20170813T140000
DTEND;TZID=America/Toronto:20170813T153000
DTSTAMP:20260423T184529
CREATED:20151021T181815Z
LAST-MODIFIED:20151021T181815Z
UID:10016398-1502632800-1502638200@huronshores.ca
SUMMARY:Alzheimer Info & Discussion Group
DESCRIPTION:The Alzheimer Society of Sault Ste. Marie & Algoma District hosts an Information & Discussion Group on the 2nd Wednesday of each month\, at the Calvary Gospel Church\, 55 Queen Street\, Blind River from 2:00 – 3:30 p.m.  For more information please call Tanya\, First Link Coordinator\, at 705-848-8145.
URL:https://huronshores.ca/event/alzheimer-info-discussion-group-2/2017-08-13/
CATEGORIES:Community News
ATTACH;FMTTYPE=image/jpeg:https://huronshores.ca/wp-content/uploads/2013/01/Alzheimers-Disease.jpg
END:VEVENT
BEGIN:VEVENT
DTSTART;TZID=America/Toronto:20170814T140000
DTEND;TZID=America/Toronto:20170814T153000
DTSTAMP:20260423T184529
CREATED:20151021T181815Z
LAST-MODIFIED:20151021T181815Z
UID:10016399-1502719200-1502724600@huronshores.ca
SUMMARY:Alzheimer Info & Discussion Group
DESCRIPTION:The Alzheimer Society of Sault Ste. Marie & Algoma District hosts an Information & Discussion Group on the 2nd Wednesday of each month\, at the Calvary Gospel Church\, 55 Queen Street\, Blind River from 2:00 – 3:30 p.m.  For more information please call Tanya\, First Link Coordinator\, at 705-848-8145.
URL:https://huronshores.ca/event/alzheimer-info-discussion-group-2/2017-08-14/
CATEGORIES:Community News
ATTACH;FMTTYPE=image/jpeg:https://huronshores.ca/wp-content/uploads/2013/01/Alzheimers-Disease.jpg
END:VEVENT
BEGIN:VEVENT
DTSTART;TZID=America/Toronto:20170815T140000
DTEND;TZID=America/Toronto:20170815T153000
DTSTAMP:20260423T184529
CREATED:20151021T181815Z
LAST-MODIFIED:20151021T181815Z
UID:10016400-1502805600-1502811000@huronshores.ca
SUMMARY:Alzheimer Info & Discussion Group
DESCRIPTION:The Alzheimer Society of Sault Ste. Marie & Algoma District hosts an Information & Discussion Group on the 2nd Wednesday of each month\, at the Calvary Gospel Church\, 55 Queen Street\, Blind River from 2:00 – 3:30 p.m.  For more information please call Tanya\, First Link Coordinator\, at 705-848-8145.
URL:https://huronshores.ca/event/alzheimer-info-discussion-group-2/2017-08-15/
CATEGORIES:Community News
ATTACH;FMTTYPE=image/jpeg:https://huronshores.ca/wp-content/uploads/2013/01/Alzheimers-Disease.jpg
END:VEVENT
BEGIN:VEVENT
DTSTART;TZID=America/Toronto:20170815T160000
DTEND;TZID=America/Toronto:20170815T160000
DTSTAMP:20260423T184529
CREATED:20170727T124650Z
LAST-MODIFIED:20170727T124650Z
UID:10020176-1502812800-1502812800@huronshores.ca
SUMMARY:Tender Submission Deadline
DESCRIPTION:The Deadline to submit a sealed tender for the Huron Shores Ward 4 Recreation Centre Renovation Project is 4:00 p.m. today at the Municipal Office\, 7 Bridge Street\, Iron Bridge.  The Public Tender Opening will be at 4:10 p.m. in the Council Chambers.  For more information please click on the link below.
URL:https://huronshores.ca/event/tender-submission-deadline/
CATEGORIES:Recreation,Tenders
ATTACH;FMTTYPE=image/jpeg:https://huronshores.ca/wp-content/uploads/2013/07/Ward-4-Gym-7-300x224-1.jpg
END:VEVENT
BEGIN:VEVENT
DTSTART;TZID=America/Toronto:20170815T183000
DTEND;TZID=America/Toronto:20170815T200000
DTSTAMP:20260423T184529
CREATED:20170502T195428Z
LAST-MODIFIED:20170502T195428Z
UID:10020117-1502821800-1502827200@huronshores.ca
SUMMARY:Family Fun Time!
DESCRIPTION:The Iron Bridge Rec Committee hosts Family Fun Time on Tuesday evenings from 6:30 – 8:00 p.m. at the Rec Centre\, 1 Chiblow Lake Rd.  Activities for all ages.  Everyone welcome!
URL:https://huronshores.ca/event/family-fun-time/2017-08-15/
CATEGORIES:Community News,Recreation
ATTACH;FMTTYPE=image/jpeg:https://huronshores.ca/wp-content/uploads/2015/09/Family-Activities.jpeg
END:VEVENT
END:VCALENDAR