BEGIN:VCALENDAR
VERSION:2.0
PRODID:-//Huron Shores - ECPv6.15.11//NONSGML v1.0//EN
CALSCALE:GREGORIAN
METHOD:PUBLISH
X-ORIGINAL-URL:https://huronshores.ca
X-WR-CALDESC:Events for Huron Shores
REFRESH-INTERVAL;VALUE=DURATION:PT1H
X-Robots-Tag:noindex
X-PUBLISHED-TTL:PT1H
BEGIN:VTIMEZONE
TZID:America/Toronto
BEGIN:DAYLIGHT
TZOFFSETFROM:-0500
TZOFFSETTO:-0400
TZNAME:EDT
DTSTART:20160313T070000
END:DAYLIGHT
BEGIN:STANDARD
TZOFFSETFROM:-0400
TZOFFSETTO:-0500
TZNAME:EST
DTSTART:20161106T060000
END:STANDARD
BEGIN:DAYLIGHT
TZOFFSETFROM:-0500
TZOFFSETTO:-0400
TZNAME:EDT
DTSTART:20170312T070000
END:DAYLIGHT
BEGIN:STANDARD
TZOFFSETFROM:-0400
TZOFFSETTO:-0500
TZNAME:EST
DTSTART:20171105T060000
END:STANDARD
BEGIN:DAYLIGHT
TZOFFSETFROM:-0500
TZOFFSETTO:-0400
TZNAME:EDT
DTSTART:20180311T070000
END:DAYLIGHT
BEGIN:STANDARD
TZOFFSETFROM:-0400
TZOFFSETTO:-0500
TZNAME:EST
DTSTART:20181104T060000
END:STANDARD
END:VTIMEZONE
BEGIN:VEVENT
DTSTART;TZID=America/Toronto:20171201T140000
DTEND;TZID=America/Toronto:20171201T153000
DTSTAMP:20260423T112057
CREATED:20151021T181815Z
LAST-MODIFIED:20151021T181815Z
UID:10016509-1512136800-1512142200@huronshores.ca
SUMMARY:Alzheimer Info & Discussion Group
DESCRIPTION:The Alzheimer Society of Sault Ste. Marie & Algoma District hosts an Information & Discussion Group on the 2nd Wednesday of each month\, at the Calvary Gospel Church\, 55 Queen Street\, Blind River from 2:00 – 3:30 p.m.  For more information please call Tanya\, First Link Coordinator\, at 705-848-8145.
URL:https://huronshores.ca/event/alzheimer-info-discussion-group-2/2017-12-01/
CATEGORIES:Community News
ATTACH;FMTTYPE=image/jpeg:https://huronshores.ca/wp-content/uploads/2013/01/Alzheimers-Disease.jpg
END:VEVENT
BEGIN:VEVENT
DTSTART;TZID=America/Toronto:20171201T180000
DTEND;TZID=America/Toronto:20171201T180000
DTSTAMP:20260423T112057
CREATED:20171116T144145Z
LAST-MODIFIED:20171116T144145Z
UID:10019923-1512151200-1512151200@huronshores.ca
SUMMARY:Copper Country Christmas
DESCRIPTION:The Twp. of Plummer Additional is hosting a Copper Country Christmas\, December 1-2/17 in Bruce Station.  Click on this link to view the event flyer:  https://huronshores.ca/wp-content/uploads/2017/11/Copper-Country-Christmas-Flyer-2.pdf
URL:https://huronshores.ca/event/copper-country-christmas/
CATEGORIES:Community News
ATTACH;FMTTYPE=image/jpeg:https://huronshores.ca/wp-content/uploads/2017/11/Copper-Country-Wreath.jpg
END:VEVENT
BEGIN:VEVENT
DTSTART;TZID=America/Toronto:20171201T180000
DTEND;TZID=America/Toronto:20171201T180000
DTSTAMP:20260423T112057
CREATED:20171116T201739Z
LAST-MODIFIED:20171116T201739Z
UID:10020389-1512151200-1512151200@huronshores.ca
SUMMARY:Wing Night
DESCRIPTION:The Thessalon Curling Club hosts its monthly Wing Night on Friday\, December 1/17. Doors open at 6:00 p.m.  Bar is open.  “Catch the Ace” tickets will be on sale!  Everyone welcome!
URL:https://huronshores.ca/event/wing-night/
CATEGORIES:Community News
ATTACH;FMTTYPE=image/jpeg:https://huronshores.ca/wp-content/uploads/2014/02/Wing-Night.jpg
END:VEVENT
BEGIN:VEVENT
DTSTART;TZID=America/Toronto:20171202T100000
DTEND;TZID=America/Toronto:20171202T100000
DTSTAMP:20260423T112057
CREATED:20171116T144534Z
LAST-MODIFIED:20171116T144534Z
UID:10019926-1512208800-1512208800@huronshores.ca
SUMMARY:Copper Country Christmas
DESCRIPTION:The Twp. of Plummer Additional is hosting a Copper Country Christmas\, December 1-2/17 in Bruce Station.  Click on this link to view the event flyer:  https://huronshores.ca/wp-content/uploads/2017/11/Copper-Country-Christmas-Flyer-2.pdf
URL:https://huronshores.ca/event/copper-country-christmas-2/
CATEGORIES:Community News
ATTACH;FMTTYPE=image/jpeg:https://huronshores.ca/wp-content/uploads/2017/11/Copper-Country-Wreath.jpg
END:VEVENT
BEGIN:VEVENT
DTSTART;TZID=America/Toronto:20171202T113000
DTEND;TZID=America/Toronto:20171202T133000
DTSTAMP:20260423T112057
CREATED:20171116T200240Z
LAST-MODIFIED:20171116T200240Z
UID:10020386-1512214200-1512221400@huronshores.ca
SUMMARY:Christmas Luncheon & Bake Sale
DESCRIPTION:The Little Rapids Church Ladies will host a Christmas Luncheon & Bake Sale on Saturday\, December 2/17 from 11:30 a.m. to 1:30 p.m. at Zion United Church\, Main Street\, Thessalon.  Menu includes soup\, sandwiches\, relish tray\, dessert\, coffee\, tea\, juice.  Touch & take table & silent auction.  Door prize.  Everyone welcome.
URL:https://huronshores.ca/event/christmas-luncheon-bake-sale-2/
CATEGORIES:Community News
ATTACH;FMTTYPE=image/jpeg:https://huronshores.ca/wp-content/uploads/2015/11/Soup-Sandwich-1.jpg
END:VEVENT
BEGIN:VEVENT
DTSTART;TZID=America/Toronto:20171202T140000
DTEND;TZID=America/Toronto:20171202T153000
DTSTAMP:20260423T112057
CREATED:20151021T181815Z
LAST-MODIFIED:20151021T181815Z
UID:10016510-1512223200-1512228600@huronshores.ca
SUMMARY:Alzheimer Info & Discussion Group
DESCRIPTION:The Alzheimer Society of Sault Ste. Marie & Algoma District hosts an Information & Discussion Group on the 2nd Wednesday of each month\, at the Calvary Gospel Church\, 55 Queen Street\, Blind River from 2:00 – 3:30 p.m.  For more information please call Tanya\, First Link Coordinator\, at 705-848-8145.
URL:https://huronshores.ca/event/alzheimer-info-discussion-group-2/2017-12-02/
CATEGORIES:Community News
ATTACH;FMTTYPE=image/jpeg:https://huronshores.ca/wp-content/uploads/2013/01/Alzheimers-Disease.jpg
END:VEVENT
BEGIN:VEVENT
DTSTART;TZID=America/Toronto:20171203T140000
DTEND;TZID=America/Toronto:20171203T153000
DTSTAMP:20260423T112057
CREATED:20151021T181815Z
LAST-MODIFIED:20151021T181815Z
UID:10016511-1512309600-1512315000@huronshores.ca
SUMMARY:Alzheimer Info & Discussion Group
DESCRIPTION:The Alzheimer Society of Sault Ste. Marie & Algoma District hosts an Information & Discussion Group on the 2nd Wednesday of each month\, at the Calvary Gospel Church\, 55 Queen Street\, Blind River from 2:00 – 3:30 p.m.  For more information please call Tanya\, First Link Coordinator\, at 705-848-8145.
URL:https://huronshores.ca/event/alzheimer-info-discussion-group-2/2017-12-03/
CATEGORIES:Community News
ATTACH;FMTTYPE=image/jpeg:https://huronshores.ca/wp-content/uploads/2013/01/Alzheimers-Disease.jpg
END:VEVENT
BEGIN:VEVENT
DTSTART;TZID=America/Toronto:20171204T140000
DTEND;TZID=America/Toronto:20171204T153000
DTSTAMP:20260423T112057
CREATED:20151021T181815Z
LAST-MODIFIED:20151021T181815Z
UID:10016512-1512396000-1512401400@huronshores.ca
SUMMARY:Alzheimer Info & Discussion Group
DESCRIPTION:The Alzheimer Society of Sault Ste. Marie & Algoma District hosts an Information & Discussion Group on the 2nd Wednesday of each month\, at the Calvary Gospel Church\, 55 Queen Street\, Blind River from 2:00 – 3:30 p.m.  For more information please call Tanya\, First Link Coordinator\, at 705-848-8145.
URL:https://huronshores.ca/event/alzheimer-info-discussion-group-2/2017-12-04/
CATEGORIES:Community News
ATTACH;FMTTYPE=image/jpeg:https://huronshores.ca/wp-content/uploads/2013/01/Alzheimers-Disease.jpg
END:VEVENT
BEGIN:VEVENT
DTSTART;TZID=America/Toronto:20171205T100000
DTEND;TZID=America/Toronto:20171205T153000
DTSTAMP:20260423T112057
CREATED:20171120T195207Z
LAST-MODIFIED:20171120T195207Z
UID:10020395-1512468000-1512487800@huronshores.ca
SUMMARY:HNCEA Tourism Summit
DESCRIPTION:The Huron North Community Economic Alliance (HNCEA) is holding 4 summits each with a focus on a different economic sector.  On December 5/17\, will be the Tourism Summit\, at the Iron Bridge Lions Club Hall\, 10 Clarrissa Street\, from 10:00 a.m. to 3:00 p.m.  A light lunch will be provided\, please RSVP. Contact Suzanne Faubert-Astles 705-356-3004; HNCEA Chair Edith Orr 705-541-1886; or Betty Ann Dunbar 705-356-5715.
URL:https://huronshores.ca/event/hncea-tourism-summit/
CATEGORIES:Community News
ATTACH;FMTTYPE=image/jpeg:https://huronshores.ca/wp-content/uploads/2017/11/HNCEA-summits-poster.jpg
END:VEVENT
BEGIN:VEVENT
DTSTART;TZID=America/Toronto:20171205T140000
DTEND;TZID=America/Toronto:20171205T153000
DTSTAMP:20260423T112057
CREATED:20151021T181815Z
LAST-MODIFIED:20151021T181815Z
UID:10016513-1512482400-1512487800@huronshores.ca
SUMMARY:Alzheimer Info & Discussion Group
DESCRIPTION:The Alzheimer Society of Sault Ste. Marie & Algoma District hosts an Information & Discussion Group on the 2nd Wednesday of each month\, at the Calvary Gospel Church\, 55 Queen Street\, Blind River from 2:00 – 3:30 p.m.  For more information please call Tanya\, First Link Coordinator\, at 705-848-8145.
URL:https://huronshores.ca/event/alzheimer-info-discussion-group-2/2017-12-05/
CATEGORIES:Community News
ATTACH;FMTTYPE=image/jpeg:https://huronshores.ca/wp-content/uploads/2013/01/Alzheimers-Disease.jpg
END:VEVENT
BEGIN:VEVENT
DTSTART;TZID=America/Toronto:20171206T113000
DTEND;TZID=America/Toronto:20171206T140000
DTSTAMP:20260423T112057
CREATED:20171116T200714Z
LAST-MODIFIED:20171116T200714Z
UID:10020387-1512559800-1512568800@huronshores.ca
SUMMARY:CWL "Let It Snow!" Christmas Luncheon
DESCRIPTION:The Catholic Women’s League will host a Christmas Luncheon on Wednesday\, December 6/17 from 11:30 a.m. – 2:00 p.m. at St. Ambrose Church\, 226 Water Street\, Thessalon.  Featuring Turkey & all the trimmings.  Cost $12/person.
URL:https://huronshores.ca/event/cwl-let-it-snow-christmas-luncheon/
CATEGORIES:Community News
ATTACH;FMTTYPE=image/jpeg:https://huronshores.ca/wp-content/uploads/2017/11/christmas-dinner.jpg
END:VEVENT
BEGIN:VEVENT
DTSTART;TZID=America/Toronto:20171206T140000
DTEND;TZID=America/Toronto:20171206T153000
DTSTAMP:20260423T112057
CREATED:20151021T181815Z
LAST-MODIFIED:20151021T181815Z
UID:10016514-1512568800-1512574200@huronshores.ca
SUMMARY:Alzheimer Info & Discussion Group
DESCRIPTION:The Alzheimer Society of Sault Ste. Marie & Algoma District hosts an Information & Discussion Group on the 2nd Wednesday of each month\, at the Calvary Gospel Church\, 55 Queen Street\, Blind River from 2:00 – 3:30 p.m.  For more information please call Tanya\, First Link Coordinator\, at 705-848-8145.
URL:https://huronshores.ca/event/alzheimer-info-discussion-group-2/2017-12-06/
CATEGORIES:Community News
ATTACH;FMTTYPE=image/jpeg:https://huronshores.ca/wp-content/uploads/2013/01/Alzheimers-Disease.jpg
END:VEVENT
BEGIN:VEVENT
DTSTART;TZID=America/Toronto:20171206T193000
DTEND;TZID=America/Toronto:20171206T193000
DTSTAMP:20260423T112057
CREATED:20160721T182330Z
LAST-MODIFIED:20160721T182330Z
UID:10019700-1512588600-1512588600@huronshores.ca
SUMMARY:Jammin' Session at the Thessalon Community Curling Club
DESCRIPTION:Every Wedneday night at 7:30PM\, join us at Thessalon Community Curling Club for our Jammin’ Session. You play an instrument and love to play with other instrumentalists\, or just love to listen to live music\, then come on down…the bar is open! Everyone welcome! Bring a friend!
URL:https://huronshores.ca/event/jammin-session-at-the-thessalon-community-curling-club/2017-12-06/
CATEGORIES:Recreation
END:VEVENT
BEGIN:VEVENT
DTSTART;TZID=America/Toronto:20171207T140000
DTEND;TZID=America/Toronto:20171207T153000
DTSTAMP:20260423T112057
CREATED:20151021T181815Z
LAST-MODIFIED:20151021T181815Z
UID:10016515-1512655200-1512660600@huronshores.ca
SUMMARY:Alzheimer Info & Discussion Group
DESCRIPTION:The Alzheimer Society of Sault Ste. Marie & Algoma District hosts an Information & Discussion Group on the 2nd Wednesday of each month\, at the Calvary Gospel Church\, 55 Queen Street\, Blind River from 2:00 – 3:30 p.m.  For more information please call Tanya\, First Link Coordinator\, at 705-848-8145.
URL:https://huronshores.ca/event/alzheimer-info-discussion-group-2/2017-12-07/
CATEGORIES:Community News
ATTACH;FMTTYPE=image/jpeg:https://huronshores.ca/wp-content/uploads/2013/01/Alzheimers-Disease.jpg
END:VEVENT
BEGIN:VEVENT
DTSTART;TZID=America/Toronto:20171208T140000
DTEND;TZID=America/Toronto:20171208T153000
DTSTAMP:20260423T112057
CREATED:20151021T181815Z
LAST-MODIFIED:20151021T181815Z
UID:10016516-1512741600-1512747000@huronshores.ca
SUMMARY:Alzheimer Info & Discussion Group
DESCRIPTION:The Alzheimer Society of Sault Ste. Marie & Algoma District hosts an Information & Discussion Group on the 2nd Wednesday of each month\, at the Calvary Gospel Church\, 55 Queen Street\, Blind River from 2:00 – 3:30 p.m.  For more information please call Tanya\, First Link Coordinator\, at 705-848-8145.
URL:https://huronshores.ca/event/alzheimer-info-discussion-group-2/2017-12-08/
CATEGORIES:Community News
ATTACH;FMTTYPE=image/jpeg:https://huronshores.ca/wp-content/uploads/2013/01/Alzheimers-Disease.jpg
END:VEVENT
BEGIN:VEVENT
DTSTART;TZID=America/Toronto:20171209T090000
DTEND;TZID=America/Toronto:20171209T160000
DTSTAMP:20260423T112057
CREATED:20171116T202638Z
LAST-MODIFIED:20171116T202638Z
UID:10020390-1512810000-1512835200@huronshores.ca
SUMMARY:OFSC Snow Vehicle Driver Training
DESCRIPTION:The Ontario Federation of Snowmobile Clubs (OFSC) will host a Snow Vehicle Driver Training Course on Saturday\, December 9/17 from 9:00 a.m.-4:00 p.m. at the Sno-Glyders Clubhouse\, 19 Railway Crescent\, Bruce Mines.  Call 705-257-7639 to register.  Students must be 12 or older.  Bring your own lunch.
URL:https://huronshores.ca/event/ofsc-snow-vehicle-driver-training/
CATEGORIES:Community News,Recreation
ATTACH;FMTTYPE=image/jpeg:https://huronshores.ca/wp-content/uploads/2017/11/Bruce-Mines-Sno-Glyders.jpg
END:VEVENT
BEGIN:VEVENT
DTSTART;TZID=America/Toronto:20171209T140000
DTEND;TZID=America/Toronto:20171209T153000
DTSTAMP:20260423T112057
CREATED:20151021T181815Z
LAST-MODIFIED:20151021T181815Z
UID:10016517-1512828000-1512833400@huronshores.ca
SUMMARY:Alzheimer Info & Discussion Group
DESCRIPTION:The Alzheimer Society of Sault Ste. Marie & Algoma District hosts an Information & Discussion Group on the 2nd Wednesday of each month\, at the Calvary Gospel Church\, 55 Queen Street\, Blind River from 2:00 – 3:30 p.m.  For more information please call Tanya\, First Link Coordinator\, at 705-848-8145.
URL:https://huronshores.ca/event/alzheimer-info-discussion-group-2/2017-12-09/
CATEGORIES:Community News
ATTACH;FMTTYPE=image/jpeg:https://huronshores.ca/wp-content/uploads/2013/01/Alzheimers-Disease.jpg
END:VEVENT
BEGIN:VEVENT
DTSTART;TZID=America/Toronto:20171210T140000
DTEND;TZID=America/Toronto:20171210T153000
DTSTAMP:20260423T112057
CREATED:20151021T181815Z
LAST-MODIFIED:20151021T181815Z
UID:10016518-1512914400-1512919800@huronshores.ca
SUMMARY:Alzheimer Info & Discussion Group
DESCRIPTION:The Alzheimer Society of Sault Ste. Marie & Algoma District hosts an Information & Discussion Group on the 2nd Wednesday of each month\, at the Calvary Gospel Church\, 55 Queen Street\, Blind River from 2:00 – 3:30 p.m.  For more information please call Tanya\, First Link Coordinator\, at 705-848-8145.
URL:https://huronshores.ca/event/alzheimer-info-discussion-group-2/2017-12-10/
CATEGORIES:Community News
ATTACH;FMTTYPE=image/jpeg:https://huronshores.ca/wp-content/uploads/2013/01/Alzheimers-Disease.jpg
END:VEVENT
BEGIN:VEVENT
DTSTART;TZID=America/Toronto:20171210T190000
DTEND;TZID=America/Toronto:20171210T190000
DTSTAMP:20260423T112057
CREATED:20171116T204143Z
LAST-MODIFIED:20171116T204143Z
UID:10020392-1512932400-1512932400@huronshores.ca
SUMMARY:Thessalon Lions' Christmas Concert
DESCRIPTION:The Annual Thessalon Lions’ Club Christmas Concert will be held Sunday\, December 10/17 at 7:00 p.m. at the Thessalon Public School Gym.  Admission by free will donation to the Lions Christmas Hamper Campaign.  To submit your name for a Hamper\, please call Blair at 705-842-0592\, up to Monday\, December 11/17.
URL:https://huronshores.ca/event/thessalon-lions-christmas-concert-2/
CATEGORIES:Community News,Fundraiser
ATTACH;FMTTYPE=image/jpeg:https://huronshores.ca/wp-content/uploads/2015/11/Christmas-Concert.jpg
END:VEVENT
BEGIN:VEVENT
DTSTART;TZID=America/Toronto:20171211T130000
DTEND;TZID=America/Toronto:20171211T130000
DTSTAMP:20260423T112057
CREATED:20171116T152426Z
LAST-MODIFIED:20171116T152426Z
UID:10019931-1512997200-1512997200@huronshores.ca
SUMMARY:Thessalon Senior Holiday Bus Tour
DESCRIPTION:Thessalon Senior Holiday Bus Tour to Sault Ste. Marie will be held on Monday\, December 11/17.  The bus will depart the  Thessalon Municipal Office  at 1:00 p.m.  The Bus is FREE!  Participants are responsible for their meals and shopping.  Please sign up at the Thessalon Municipal Office\, 187 Main St.\, 705-842-2217 by December 7/17.
URL:https://huronshores.ca/event/thessalon-senior-holiday-bus-tour/
CATEGORIES:Community News
ATTACH;FMTTYPE=image/png:https://huronshores.ca/wp-content/uploads/2017/11/Senior-Christmas-Bus-Tour.png
END:VEVENT
BEGIN:VEVENT
DTSTART;TZID=America/Toronto:20171211T140000
DTEND;TZID=America/Toronto:20171211T153000
DTSTAMP:20260423T112057
CREATED:20151021T181815Z
LAST-MODIFIED:20151021T181815Z
UID:10016519-1513000800-1513006200@huronshores.ca
SUMMARY:Alzheimer Info & Discussion Group
DESCRIPTION:The Alzheimer Society of Sault Ste. Marie & Algoma District hosts an Information & Discussion Group on the 2nd Wednesday of each month\, at the Calvary Gospel Church\, 55 Queen Street\, Blind River from 2:00 – 3:30 p.m.  For more information please call Tanya\, First Link Coordinator\, at 705-848-8145.
URL:https://huronshores.ca/event/alzheimer-info-discussion-group-2/2017-12-11/
CATEGORIES:Community News
ATTACH;FMTTYPE=image/jpeg:https://huronshores.ca/wp-content/uploads/2013/01/Alzheimers-Disease.jpg
END:VEVENT
BEGIN:VEVENT
DTSTART;TZID=America/Toronto:20171212T140000
DTEND;TZID=America/Toronto:20171212T153000
DTSTAMP:20260423T112057
CREATED:20151021T181815Z
LAST-MODIFIED:20151021T181815Z
UID:10016520-1513087200-1513092600@huronshores.ca
SUMMARY:Alzheimer Info & Discussion Group
DESCRIPTION:The Alzheimer Society of Sault Ste. Marie & Algoma District hosts an Information & Discussion Group on the 2nd Wednesday of each month\, at the Calvary Gospel Church\, 55 Queen Street\, Blind River from 2:00 – 3:30 p.m.  For more information please call Tanya\, First Link Coordinator\, at 705-848-8145.
URL:https://huronshores.ca/event/alzheimer-info-discussion-group-2/2017-12-12/
CATEGORIES:Community News
ATTACH;FMTTYPE=image/jpeg:https://huronshores.ca/wp-content/uploads/2013/01/Alzheimers-Disease.jpg
END:VEVENT
BEGIN:VEVENT
DTSTART;TZID=America/Toronto:20171213T140000
DTEND;TZID=America/Toronto:20171213T153000
DTSTAMP:20260423T112057
CREATED:20151021T181815Z
LAST-MODIFIED:20151021T181815Z
UID:10016521-1513173600-1513179000@huronshores.ca
SUMMARY:Alzheimer Info & Discussion Group
DESCRIPTION:The Alzheimer Society of Sault Ste. Marie & Algoma District hosts an Information & Discussion Group on the 2nd Wednesday of each month\, at the Calvary Gospel Church\, 55 Queen Street\, Blind River from 2:00 – 3:30 p.m.  For more information please call Tanya\, First Link Coordinator\, at 705-848-8145.
URL:https://huronshores.ca/event/alzheimer-info-discussion-group-2/2017-12-13/
CATEGORIES:Community News
ATTACH;FMTTYPE=image/jpeg:https://huronshores.ca/wp-content/uploads/2013/01/Alzheimers-Disease.jpg
END:VEVENT
BEGIN:VEVENT
DTSTART;TZID=America/Toronto:20171213T190000
DTEND;TZID=America/Toronto:20171213T190000
DTSTAMP:20260423T112057
CREATED:20161219T144203Z
LAST-MODIFIED:20161219T144203Z
UID:10020021-1513191600-1513191600@huronshores.ca
SUMMARY:Regular Council Meeting
DESCRIPTION:The Regular Meeting of Council will convene at 7:00 p.m. in the Council Chambers\, 7 Bridge Street\, Iron Bridge.  The Agenda is posted on huronshores.ca and at the Municipal Office the Monday prior unless that day is a holiday.  It would then be posted on the Tuesday.  Council Meetings are held as follows:  January – June & September – November\, 2nd & 4th Wednesdays; July & August\, 2nd Wednesday only; December\, 3rd Wednesday unless otherwise scheduled.  Periodically Special Meetings are called in order to deliberate a specific matter.  As per the Municipal Act\, all Council Meetings are conducted in public.  Members of the public are able to observe the proceedings from the gallery.  If you wish to address Council directly with respect to a specific matter or concern\, please contact the Municipal Office by the Friday prior in order to be included as a Delegation on the Meeting Agenda.  Please click on the link below to learn more about Delegations and Deputations.
URL:https://huronshores.ca/event/regular-council-meeting-36/
CATEGORIES:Council Meeting
ATTACH;FMTTYPE=:
END:VEVENT
BEGIN:VEVENT
DTSTART;TZID=America/Toronto:20171213T193000
DTEND;TZID=America/Toronto:20171213T193000
DTSTAMP:20260423T112057
CREATED:20160721T182330Z
LAST-MODIFIED:20160721T182330Z
UID:10019701-1513193400-1513193400@huronshores.ca
SUMMARY:Jammin' Session at the Thessalon Community Curling Club
DESCRIPTION:Every Wedneday night at 7:30PM\, join us at Thessalon Community Curling Club for our Jammin’ Session. You play an instrument and love to play with other instrumentalists\, or just love to listen to live music\, then come on down…the bar is open! Everyone welcome! Bring a friend!
URL:https://huronshores.ca/event/jammin-session-at-the-thessalon-community-curling-club/2017-12-13/
CATEGORIES:Recreation
END:VEVENT
BEGIN:VEVENT
DTSTART;TZID=America/Toronto:20171214T113000
DTEND;TZID=America/Toronto:20171214T113000
DTSTAMP:20260423T112057
CREATED:20171116T151155Z
LAST-MODIFIED:20171116T151155Z
UID:10019930-1513251000-1513251000@huronshores.ca
SUMMARY:Thessalon Seniors' Christmas Luncheon
DESCRIPTION:The Annual Thessalon Seniors’ Christmas Luncheon will be held Thursday\, December 14/17 at the IOOF Hall\, 146 Main St..  Doors open at 11:30 a.m.; Lunch served at 12:30 p.m.  Please sign up by December 8/17 at the Thessalon Municipal Office\, 187 Main St.\, 705-842-2217.  Christmas Carols by the Thessalon Public School Children’s Choir.  Sponsored by the Thessalon Community Events & Activities Committee.
URL:https://huronshores.ca/event/thessalon-seniors-christmas-luncheon/
CATEGORIES:Community News
ATTACH;FMTTYPE=image/jpeg:https://huronshores.ca/wp-content/uploads/2017/11/christmas-dinner.jpg
END:VEVENT
BEGIN:VEVENT
DTSTART;TZID=America/Toronto:20171214T140000
DTEND;TZID=America/Toronto:20171214T153000
DTSTAMP:20260423T112057
CREATED:20151021T181815Z
LAST-MODIFIED:20151021T181815Z
UID:10016522-1513260000-1513265400@huronshores.ca
SUMMARY:Alzheimer Info & Discussion Group
DESCRIPTION:The Alzheimer Society of Sault Ste. Marie & Algoma District hosts an Information & Discussion Group on the 2nd Wednesday of each month\, at the Calvary Gospel Church\, 55 Queen Street\, Blind River from 2:00 – 3:30 p.m.  For more information please call Tanya\, First Link Coordinator\, at 705-848-8145.
URL:https://huronshores.ca/event/alzheimer-info-discussion-group-2/2017-12-14/
CATEGORIES:Community News
ATTACH;FMTTYPE=image/jpeg:https://huronshores.ca/wp-content/uploads/2013/01/Alzheimers-Disease.jpg
END:VEVENT
BEGIN:VEVENT
DTSTART;TZID=America/Toronto:20171215T140000
DTEND;TZID=America/Toronto:20171215T153000
DTSTAMP:20260423T112057
CREATED:20151021T181815Z
LAST-MODIFIED:20151021T181815Z
UID:10016523-1513346400-1513351800@huronshores.ca
SUMMARY:Alzheimer Info & Discussion Group
DESCRIPTION:The Alzheimer Society of Sault Ste. Marie & Algoma District hosts an Information & Discussion Group on the 2nd Wednesday of each month\, at the Calvary Gospel Church\, 55 Queen Street\, Blind River from 2:00 – 3:30 p.m.  For more information please call Tanya\, First Link Coordinator\, at 705-848-8145.
URL:https://huronshores.ca/event/alzheimer-info-discussion-group-2/2017-12-15/
CATEGORIES:Community News
ATTACH;FMTTYPE=image/jpeg:https://huronshores.ca/wp-content/uploads/2013/01/Alzheimers-Disease.jpg
END:VEVENT
BEGIN:VEVENT
DTSTART;TZID=America/Toronto:20171216T140000
DTEND;TZID=America/Toronto:20171216T153000
DTSTAMP:20260423T112057
CREATED:20151021T181815Z
LAST-MODIFIED:20151021T181815Z
UID:10016524-1513432800-1513438200@huronshores.ca
SUMMARY:Alzheimer Info & Discussion Group
DESCRIPTION:The Alzheimer Society of Sault Ste. Marie & Algoma District hosts an Information & Discussion Group on the 2nd Wednesday of each month\, at the Calvary Gospel Church\, 55 Queen Street\, Blind River from 2:00 – 3:30 p.m.  For more information please call Tanya\, First Link Coordinator\, at 705-848-8145.
URL:https://huronshores.ca/event/alzheimer-info-discussion-group-2/2017-12-16/
CATEGORIES:Community News
ATTACH;FMTTYPE=image/jpeg:https://huronshores.ca/wp-content/uploads/2013/01/Alzheimers-Disease.jpg
END:VEVENT
BEGIN:VEVENT
DTSTART;TZID=America/Toronto:20171217T140000
DTEND;TZID=America/Toronto:20171217T153000
DTSTAMP:20260423T112057
CREATED:20151021T181815Z
LAST-MODIFIED:20151021T181815Z
UID:10016525-1513519200-1513524600@huronshores.ca
SUMMARY:Alzheimer Info & Discussion Group
DESCRIPTION:The Alzheimer Society of Sault Ste. Marie & Algoma District hosts an Information & Discussion Group on the 2nd Wednesday of each month\, at the Calvary Gospel Church\, 55 Queen Street\, Blind River from 2:00 – 3:30 p.m.  For more information please call Tanya\, First Link Coordinator\, at 705-848-8145.
URL:https://huronshores.ca/event/alzheimer-info-discussion-group-2/2017-12-17/
CATEGORIES:Community News
ATTACH;FMTTYPE=image/jpeg:https://huronshores.ca/wp-content/uploads/2013/01/Alzheimers-Disease.jpg
END:VEVENT
END:VCALENDAR