BEGIN:VCALENDAR
VERSION:2.0
PRODID:-//Huron Shores - ECPv6.15.11//NONSGML v1.0//EN
CALSCALE:GREGORIAN
METHOD:PUBLISH
X-WR-CALNAME:Huron Shores
X-ORIGINAL-URL:https://huronshores.ca
X-WR-CALDESC:Events for Huron Shores
REFRESH-INTERVAL;VALUE=DURATION:PT1H
X-Robots-Tag:noindex
X-PUBLISHED-TTL:PT1H
BEGIN:VTIMEZONE
TZID:America/Toronto
BEGIN:DAYLIGHT
TZOFFSETFROM:-0500
TZOFFSETTO:-0400
TZNAME:EDT
DTSTART:20270314T070000
END:DAYLIGHT
BEGIN:STANDARD
TZOFFSETFROM:-0400
TZOFFSETTO:-0500
TZNAME:EST
DTSTART:20271107T060000
END:STANDARD
BEGIN:DAYLIGHT
TZOFFSETFROM:-0500
TZOFFSETTO:-0400
TZNAME:EDT
DTSTART:20280312T070000
END:DAYLIGHT
BEGIN:STANDARD
TZOFFSETFROM:-0400
TZOFFSETTO:-0500
TZNAME:EST
DTSTART:20281105T060000
END:STANDARD
BEGIN:DAYLIGHT
TZOFFSETFROM:-0500
TZOFFSETTO:-0400
TZNAME:EDT
DTSTART:20290311T070000
END:DAYLIGHT
BEGIN:STANDARD
TZOFFSETFROM:-0400
TZOFFSETTO:-0500
TZNAME:EST
DTSTART:20291104T060000
END:STANDARD
END:VTIMEZONE
BEGIN:VEVENT
DTSTART;TZID=America/Toronto:20280502T090000
DTEND;TZID=America/Toronto:20280502T120000
DTSTAMP:20260419T195556
CREATED:20250828T134751Z
LAST-MODIFIED:20250828T134751Z
UID:10022969-1840870800-1840881600@huronshores.ca
SUMMARY:🌟 EarlyON Child and Family Centre 🌟
DESCRIPTION:Looking for fun\, engaging\, and educational activities for your little ones? The EarlyON Child and Family Centre offers programs for children (birth to 6 years) and their families right here in our community! \n👶 Enjoy play-based learning🤝 Connect with other families📚 Access parenting support and resources \nTo view the full schedule of programs and events\, visit the EarlyON calendar: www.keyon.ca/calendar \nStay connected\, discover upcoming sessions\, and join the fun! 💙
URL:https://huronshores.ca/event/%f0%9f%8c%9f-earlyon-child-and-family-centre-%f0%9f%8c%9f/2028-05-02/
CATEGORIES:Community News
END:VEVENT
BEGIN:VEVENT
DTSTART;TZID=America/Toronto:20280503T093000
DTEND;TZID=America/Toronto:20280503T113000
DTSTAMP:20260419T195556
CREATED:20250828T152523Z
LAST-MODIFIED:20250828T152949Z
UID:10023446-1840959000-1840966200@huronshores.ca
SUMMARY:Coffee Hour
DESCRIPTION:Come out for a warm and welcoming coffee hour at Church of the Redeemer in partnership with Zion United Church! \n📅 Date: 1st and 3rd Wednesday of each Month \n🕤 Time: 9:30 a.m. to 11:30 a.m. \n📍 Location: Church of Redeemer \nCome and enjoy a delightful morning with friends\, neighbors\, and fellow community members. Whether you’re a regular attendee or a first-time visitor\, everyone is welcome to share in good conversation\, delicious coffee\, and tasty treats.
URL:https://huronshores.ca/event/coffee-hour-20/2028-05-03/
LOCATION:Church of Redeemer\, 257 Main Street\, Thessalon\, ON\, P0R 1L0\, Canada
CATEGORIES:Community News,Recreation
END:VEVENT
BEGIN:VEVENT
DTSTART;TZID=America/Toronto:20280504T130000
DTEND;TZID=America/Toronto:20280504T180000
DTSTAMP:20260419T195556
CREATED:20250828T135546Z
LAST-MODIFIED:20250828T135630Z
UID:10023231-1841058000-1841076000@huronshores.ca
SUMMARY:🌟 EarlyON Child and Family Centre 🌟
DESCRIPTION:Looking for fun\, engaging\, and educational activities for your little ones? The EarlyON Child and Family Centre offers programs for children (birth to 6 years) and their families right here in our community! \n👶 Enjoy play-based learning🤝 Connect with other families📚 Access parenting support and resources \nTo view the full schedule of programs and events\, visit the EarlyON calendar: www.keyon.ca/calendar \nStay connected\, discover upcoming sessions\, and join the fun! 💙
URL:https://huronshores.ca/event/%f0%9f%8c%9f-earlyon-child-and-family-centre-%f0%9f%8c%9f-2/2028-05-04/
LOCATION:Iron Bridge Village Inn\, 22337 Highway 17\, Iron Bridge\, Ontario\, P0R 1H0\, Canada
CATEGORIES:Community News
END:VEVENT
BEGIN:VEVENT
DTSTART;TZID=America/Toronto:20280509T090000
DTEND;TZID=America/Toronto:20280509T120000
DTSTAMP:20260419T195556
CREATED:20250828T134751Z
LAST-MODIFIED:20250828T134751Z
UID:10022970-1841475600-1841486400@huronshores.ca
SUMMARY:🌟 EarlyON Child and Family Centre 🌟
DESCRIPTION:Looking for fun\, engaging\, and educational activities for your little ones? The EarlyON Child and Family Centre offers programs for children (birth to 6 years) and their families right here in our community! \n👶 Enjoy play-based learning🤝 Connect with other families📚 Access parenting support and resources \nTo view the full schedule of programs and events\, visit the EarlyON calendar: www.keyon.ca/calendar \nStay connected\, discover upcoming sessions\, and join the fun! 💙
URL:https://huronshores.ca/event/%f0%9f%8c%9f-earlyon-child-and-family-centre-%f0%9f%8c%9f/2028-05-09/
CATEGORIES:Community News
END:VEVENT
BEGIN:VEVENT
DTSTART;TZID=America/Toronto:20280511T130000
DTEND;TZID=America/Toronto:20280511T180000
DTSTAMP:20260419T195556
CREATED:20250828T135546Z
LAST-MODIFIED:20250828T135630Z
UID:10023232-1841662800-1841680800@huronshores.ca
SUMMARY:🌟 EarlyON Child and Family Centre 🌟
DESCRIPTION:Looking for fun\, engaging\, and educational activities for your little ones? The EarlyON Child and Family Centre offers programs for children (birth to 6 years) and their families right here in our community! \n👶 Enjoy play-based learning🤝 Connect with other families📚 Access parenting support and resources \nTo view the full schedule of programs and events\, visit the EarlyON calendar: www.keyon.ca/calendar \nStay connected\, discover upcoming sessions\, and join the fun! 💙
URL:https://huronshores.ca/event/%f0%9f%8c%9f-earlyon-child-and-family-centre-%f0%9f%8c%9f-2/2028-05-11/
LOCATION:Iron Bridge Village Inn\, 22337 Highway 17\, Iron Bridge\, Ontario\, P0R 1H0\, Canada
CATEGORIES:Community News
END:VEVENT
BEGIN:VEVENT
DTSTART;TZID=America/Toronto:20280516T090000
DTEND;TZID=America/Toronto:20280516T120000
DTSTAMP:20260419T195556
CREATED:20250828T134751Z
LAST-MODIFIED:20250828T134751Z
UID:10022971-1842080400-1842091200@huronshores.ca
SUMMARY:🌟 EarlyON Child and Family Centre 🌟
DESCRIPTION:Looking for fun\, engaging\, and educational activities for your little ones? The EarlyON Child and Family Centre offers programs for children (birth to 6 years) and their families right here in our community! \n👶 Enjoy play-based learning🤝 Connect with other families📚 Access parenting support and resources \nTo view the full schedule of programs and events\, visit the EarlyON calendar: www.keyon.ca/calendar \nStay connected\, discover upcoming sessions\, and join the fun! 💙
URL:https://huronshores.ca/event/%f0%9f%8c%9f-earlyon-child-and-family-centre-%f0%9f%8c%9f/2028-05-16/
CATEGORIES:Community News
END:VEVENT
BEGIN:VEVENT
DTSTART;TZID=America/Toronto:20280517T093000
DTEND;TZID=America/Toronto:20280517T113000
DTSTAMP:20260419T195556
CREATED:20250828T152744Z
LAST-MODIFIED:20250828T152744Z
UID:10023506-1842168600-1842175800@huronshores.ca
SUMMARY:Coffee Hour
DESCRIPTION:Come out for a warm and welcoming coffee hour at Church of the Redeemer in partnership with Zion United Church! \n📅 Date: 1st and 3rd Wednesday of each Month \n🕤 Time: 9:30 a.m. to 11:30 a.m. \n📍 Location: Church of Redeemer \nCome and enjoy a delightful morning with friends\, neighbors\, and fellow community members. Whether you’re a regular attendee or a first-time visitor\, everyone is welcome to share in good conversation\, delicious coffee\, and tasty treats.
URL:https://huronshores.ca/event/coffee-hour-21/2028-05-17/
LOCATION:Church of Redeemer\, 257 Main Street\, Thessalon\, ON\, P0R 1L0\, Canada
CATEGORIES:Community News
END:VEVENT
BEGIN:VEVENT
DTSTART;TZID=America/Toronto:20280518T130000
DTEND;TZID=America/Toronto:20280518T180000
DTSTAMP:20260419T195556
CREATED:20250828T135546Z
LAST-MODIFIED:20250828T135630Z
UID:10023233-1842267600-1842285600@huronshores.ca
SUMMARY:🌟 EarlyON Child and Family Centre 🌟
DESCRIPTION:Looking for fun\, engaging\, and educational activities for your little ones? The EarlyON Child and Family Centre offers programs for children (birth to 6 years) and their families right here in our community! \n👶 Enjoy play-based learning🤝 Connect with other families📚 Access parenting support and resources \nTo view the full schedule of programs and events\, visit the EarlyON calendar: www.keyon.ca/calendar \nStay connected\, discover upcoming sessions\, and join the fun! 💙
URL:https://huronshores.ca/event/%f0%9f%8c%9f-earlyon-child-and-family-centre-%f0%9f%8c%9f-2/2028-05-18/
LOCATION:Iron Bridge Village Inn\, 22337 Highway 17\, Iron Bridge\, Ontario\, P0R 1H0\, Canada
CATEGORIES:Community News
END:VEVENT
BEGIN:VEVENT
DTSTART;TZID=America/Toronto:20280523T090000
DTEND;TZID=America/Toronto:20280523T120000
DTSTAMP:20260419T195556
CREATED:20250828T134751Z
LAST-MODIFIED:20250828T134751Z
UID:10022972-1842685200-1842696000@huronshores.ca
SUMMARY:🌟 EarlyON Child and Family Centre 🌟
DESCRIPTION:Looking for fun\, engaging\, and educational activities for your little ones? The EarlyON Child and Family Centre offers programs for children (birth to 6 years) and their families right here in our community! \n👶 Enjoy play-based learning🤝 Connect with other families📚 Access parenting support and resources \nTo view the full schedule of programs and events\, visit the EarlyON calendar: www.keyon.ca/calendar \nStay connected\, discover upcoming sessions\, and join the fun! 💙
URL:https://huronshores.ca/event/%f0%9f%8c%9f-earlyon-child-and-family-centre-%f0%9f%8c%9f/2028-05-23/
CATEGORIES:Community News
END:VEVENT
BEGIN:VEVENT
DTSTART;TZID=America/Toronto:20280525T130000
DTEND;TZID=America/Toronto:20280525T180000
DTSTAMP:20260419T195556
CREATED:20250828T135546Z
LAST-MODIFIED:20250828T135630Z
UID:10023234-1842872400-1842890400@huronshores.ca
SUMMARY:🌟 EarlyON Child and Family Centre 🌟
DESCRIPTION:Looking for fun\, engaging\, and educational activities for your little ones? The EarlyON Child and Family Centre offers programs for children (birth to 6 years) and their families right here in our community! \n👶 Enjoy play-based learning🤝 Connect with other families📚 Access parenting support and resources \nTo view the full schedule of programs and events\, visit the EarlyON calendar: www.keyon.ca/calendar \nStay connected\, discover upcoming sessions\, and join the fun! 💙
URL:https://huronshores.ca/event/%f0%9f%8c%9f-earlyon-child-and-family-centre-%f0%9f%8c%9f-2/2028-05-25/
LOCATION:Iron Bridge Village Inn\, 22337 Highway 17\, Iron Bridge\, Ontario\, P0R 1H0\, Canada
CATEGORIES:Community News
END:VEVENT
BEGIN:VEVENT
DTSTART;TZID=America/Toronto:20280530T090000
DTEND;TZID=America/Toronto:20280530T120000
DTSTAMP:20260419T195556
CREATED:20250828T134751Z
LAST-MODIFIED:20250828T134751Z
UID:10022973-1843290000-1843300800@huronshores.ca
SUMMARY:🌟 EarlyON Child and Family Centre 🌟
DESCRIPTION:Looking for fun\, engaging\, and educational activities for your little ones? The EarlyON Child and Family Centre offers programs for children (birth to 6 years) and their families right here in our community! \n👶 Enjoy play-based learning🤝 Connect with other families📚 Access parenting support and resources \nTo view the full schedule of programs and events\, visit the EarlyON calendar: www.keyon.ca/calendar \nStay connected\, discover upcoming sessions\, and join the fun! 💙
URL:https://huronshores.ca/event/%f0%9f%8c%9f-earlyon-child-and-family-centre-%f0%9f%8c%9f/2028-05-30/
CATEGORIES:Community News
END:VEVENT
END:VCALENDAR