BEGIN:VCALENDAR
VERSION:2.0
PRODID:-//Huron Shores - ECPv6.15.11//NONSGML v1.0//EN
CALSCALE:GREGORIAN
METHOD:PUBLISH
X-ORIGINAL-URL:https://huronshores.ca
X-WR-CALDESC:Events for Huron Shores
REFRESH-INTERVAL;VALUE=DURATION:PT1H
X-Robots-Tag:noindex
X-PUBLISHED-TTL:PT1H
BEGIN:VTIMEZONE
TZID:America/Toronto
BEGIN:DAYLIGHT
TZOFFSETFROM:-0500
TZOFFSETTO:-0400
TZNAME:EDT
DTSTART:20140309T070000
END:DAYLIGHT
BEGIN:STANDARD
TZOFFSETFROM:-0400
TZOFFSETTO:-0500
TZNAME:EST
DTSTART:20141102T060000
END:STANDARD
BEGIN:DAYLIGHT
TZOFFSETFROM:-0500
TZOFFSETTO:-0400
TZNAME:EDT
DTSTART:20150308T070000
END:DAYLIGHT
BEGIN:STANDARD
TZOFFSETFROM:-0400
TZOFFSETTO:-0500
TZNAME:EST
DTSTART:20151101T060000
END:STANDARD
BEGIN:DAYLIGHT
TZOFFSETFROM:-0500
TZOFFSETTO:-0400
TZNAME:EDT
DTSTART:20160313T070000
END:DAYLIGHT
BEGIN:STANDARD
TZOFFSETFROM:-0400
TZOFFSETTO:-0500
TZNAME:EST
DTSTART:20161106T060000
END:STANDARD
END:VTIMEZONE
BEGIN:VEVENT
DTSTART;TZID=America/Toronto:20150807T173000
DTEND;TZID=America/Toronto:20150807T173000
DTSTAMP:20260425T085852
CREATED:20150723T154808Z
LAST-MODIFIED:20150723T154808Z
UID:10015752-1438968600-1438968600@huronshores.ca
SUMMARY:Iron Bridge Community Days & Family Ball Tournament
DESCRIPTION:The Iron Bridge Lions Club Community Days & Family Baseball Tournament\, August 7-9/15.  Friday Ball Games begin 5:30 p.m.; Snack Bar & Bar Open\, Easy In – Easy Out Horseshoes at the Hall\, 6:30 p.m.\, admittance $2.00; Saturday:  Ball games at the park\, 8:00 a.m.; 7:30 – 10:00 a.m. Pancake Breakfast  Adults $9\, Children 10 & under $7;  Horseshoe Tournament (Men 9:30 a.m.\, Ladies 1:00 p.m.); Sunday:  Ball Tournament continues\, 8:00 a.m.\, Mixed Doubles Horseshoes at the Hall\, 12 Noon.  For details\, contact the following:  Baseball – Brad 705-849-7744; Horseshoes – Jack 705-843-5453; Lions Hall – 705-843-2667.
URL:https://huronshores.ca/event/iron-bridge-community-days-family-ball-tournament/
CATEGORIES:Community News
ATTACH;FMTTYPE=image/jpeg:https://huronshores.ca/wp-content/uploads/2014/08/Baseball.jpg
END:VEVENT
BEGIN:VEVENT
DTSTART;VALUE=DATE:20150808
DTEND;VALUE=DATE:20150810
DTSTAMP:20260425T085852
CREATED:20150723T155913Z
LAST-MODIFIED:20150723T155913Z
UID:10015753-1438992000-1439164799@huronshores.ca
SUMMARY:Iron Bridge Community Days & Ball Tournament
DESCRIPTION:The Iron Bridge Lions Club Community Days & Family Baseball Tournament\, August 7-9/15.  Friday Ball Games begin 5:30 p.m.; Snack Bar & Bar Open\, Easy In – Easy Out Horseshoes at the Hall\, 6:30 p.m.\, admittance $2.00; Saturday:  Ball games at the park\, 8:00 a.m.; 7:30 – 10:00 a.m. Pancake Breakfast  Adults $9\, Children 10 & under $7;  Horseshoe Tournament (Men 9:30 a.m.\, Ladies 1:00 p.m.); Sunday:  Ball Tournament continues\, 8:00 a.m.\, Mixed Doubles Horseshoes at the Hall\, 12 Noon.  For details\, contact the following:  Baseball – Brad 705-849-7744; Horseshoes – Jack 705-843-5453; Lions Hall – 705-843-2667.
URL:https://huronshores.ca/event/iron-bridge-community-days-ball-tournament/
CATEGORIES:Community News
ATTACH;FMTTYPE=image/jpeg:https://huronshores.ca/wp-content/uploads/2014/08/Baseball.jpg
END:VEVENT
END:VCALENDAR