BEGIN:VCALENDAR
VERSION:2.0
PRODID:-//Huron Shores - ECPv6.15.11//NONSGML v1.0//EN
CALSCALE:GREGORIAN
METHOD:PUBLISH
X-ORIGINAL-URL:https://huronshores.ca
X-WR-CALDESC:Events for Huron Shores
REFRESH-INTERVAL;VALUE=DURATION:PT1H
X-Robots-Tag:noindex
X-PUBLISHED-TTL:PT1H
BEGIN:VTIMEZONE
TZID:America/Toronto
BEGIN:DAYLIGHT
TZOFFSETFROM:-0500
TZOFFSETTO:-0400
TZNAME:EDT
DTSTART:20180311T070000
END:DAYLIGHT
BEGIN:STANDARD
TZOFFSETFROM:-0400
TZOFFSETTO:-0500
TZNAME:EST
DTSTART:20181104T060000
END:STANDARD
BEGIN:DAYLIGHT
TZOFFSETFROM:-0500
TZOFFSETTO:-0400
TZNAME:EDT
DTSTART:20190310T070000
END:DAYLIGHT
BEGIN:STANDARD
TZOFFSETFROM:-0400
TZOFFSETTO:-0500
TZNAME:EST
DTSTART:20191103T060000
END:STANDARD
BEGIN:DAYLIGHT
TZOFFSETFROM:-0500
TZOFFSETTO:-0400
TZNAME:EDT
DTSTART:20200308T070000
END:DAYLIGHT
BEGIN:STANDARD
TZOFFSETFROM:-0400
TZOFFSETTO:-0500
TZNAME:EST
DTSTART:20201101T060000
END:STANDARD
END:VTIMEZONE
BEGIN:VEVENT
DTSTART;VALUE=DATE:20190809
DTEND;VALUE=DATE:20190812
DTSTAMP:20260421T061449
CREATED:20190128T172938Z
LAST-MODIFIED:20190128T172938Z
UID:10021412-1565308800-1565567999@huronshores.ca
SUMMARY:Iron Bridge Family Days & Baseball Tournament
DESCRIPTION:The Iron Bridge Lions Club hosts its annual Family Days & Baseball Tournament  from August 9-11/19 at the Lions Club Ball Park (2 Northern Ave.).  Canteen is open for refreshments.   Saturday morning is the Lions Club Pancake Breakfast at the Lions Hall (10 Clarissa St.)\, from 7:00-10:30 a.m.  The Hall also hosts a dance that evening.  Baseball continues on Sunday.  Come out and cheer on the teams!
URL:https://huronshores.ca/event/iron-bridge-family-days-baseball-tournament/
CATEGORIES:Community News
ATTACH;FMTTYPE=image/jpeg:https://huronshores.ca/wp-content/uploads/2014/08/Baseball.jpg
END:VEVENT
END:VCALENDAR