BEGIN:VCALENDAR
VERSION:2.0
PRODID:-//Huron Shores - ECPv6.15.11//NONSGML v1.0//EN
CALSCALE:GREGORIAN
METHOD:PUBLISH
X-ORIGINAL-URL:https://huronshores.ca
X-WR-CALDESC:Events for Huron Shores
REFRESH-INTERVAL;VALUE=DURATION:PT1H
X-Robots-Tag:noindex
X-PUBLISHED-TTL:PT1H
BEGIN:VTIMEZONE
TZID:America/Toronto
BEGIN:DAYLIGHT
TZOFFSETFROM:-0500
TZOFFSETTO:-0400
TZNAME:EDT
DTSTART:20150308T070000
END:DAYLIGHT
BEGIN:STANDARD
TZOFFSETFROM:-0400
TZOFFSETTO:-0500
TZNAME:EST
DTSTART:20151101T060000
END:STANDARD
BEGIN:DAYLIGHT
TZOFFSETFROM:-0500
TZOFFSETTO:-0400
TZNAME:EDT
DTSTART:20160313T070000
END:DAYLIGHT
BEGIN:STANDARD
TZOFFSETFROM:-0400
TZOFFSETTO:-0500
TZNAME:EST
DTSTART:20161106T060000
END:STANDARD
BEGIN:DAYLIGHT
TZOFFSETFROM:-0500
TZOFFSETTO:-0400
TZNAME:EDT
DTSTART:20170312T070000
END:DAYLIGHT
BEGIN:STANDARD
TZOFFSETFROM:-0400
TZOFFSETTO:-0500
TZNAME:EST
DTSTART:20171105T060000
END:STANDARD
END:VTIMEZONE
BEGIN:VEVENT
DTSTART;TZID=America/Toronto:20160824T190000
DTEND;TZID=America/Toronto:20160824T190000
DTSTAMP:20260425T181641
CREATED:20160816T152842Z
LAST-MODIFIED:20160816T152842Z
UID:10019936-1472065200-1472065200@huronshores.ca
SUMMARY:Sweet Sowerby Social & BBLA Meeting
DESCRIPTION:All community members in Huron Shores are invited to bring themselves and a sweet dessert to share at Sowerby Hall\, 1410 Basswood Lake Road\, on Wednesday August 24th at 7:00 p.m.  A special talk will be given by Dr. Paul Hazlett\, a cottage owner on Big Basswood Lake\, on findings from the Turkey Lake Project which investigated many factors that affect lake quality and how climate change may affect Northern Ontario Lakes. He will also entertain questions on his presentation so please bring your questions to the meeting. We encourage all of our Big Basswood Lake Association members to take advantage of this excellent opportunity to interact and benefit from this expert’s findings.  Please click on the link below for further details.
URL:https://huronshores.ca/event/sweet-sowerby-social-bbla-meeting/
CATEGORIES:Big Basswood Assn. AGM,Community News
ATTACH;FMTTYPE=image/jpeg:https://huronshores.ca/wp-content/uploads/2015/07/Big-Basswood-Lake-Assn-Logo.jpg
END:VEVENT
END:VCALENDAR