BEGIN:VCALENDAR
VERSION:2.0
PRODID:-//Huron Shores - ECPv6.15.11//NONSGML v1.0//EN
CALSCALE:GREGORIAN
METHOD:PUBLISH
X-WR-CALNAME:Huron Shores
X-ORIGINAL-URL:https://huronshores.ca
X-WR-CALDESC:Events for Huron Shores
REFRESH-INTERVAL;VALUE=DURATION:PT1H
X-Robots-Tag:noindex
X-PUBLISHED-TTL:PT1H
BEGIN:VTIMEZONE
TZID:America/Toronto
BEGIN:DAYLIGHT
TZOFFSETFROM:-0500
TZOFFSETTO:-0400
TZNAME:EDT
DTSTART:20150308T070000
END:DAYLIGHT
BEGIN:STANDARD
TZOFFSETFROM:-0400
TZOFFSETTO:-0500
TZNAME:EST
DTSTART:20151101T060000
END:STANDARD
BEGIN:DAYLIGHT
TZOFFSETFROM:-0500
TZOFFSETTO:-0400
TZNAME:EDT
DTSTART:20160313T070000
END:DAYLIGHT
BEGIN:STANDARD
TZOFFSETFROM:-0400
TZOFFSETTO:-0500
TZNAME:EST
DTSTART:20161106T060000
END:STANDARD
BEGIN:DAYLIGHT
TZOFFSETFROM:-0500
TZOFFSETTO:-0400
TZNAME:EDT
DTSTART:20170312T070000
END:DAYLIGHT
BEGIN:STANDARD
TZOFFSETFROM:-0400
TZOFFSETTO:-0500
TZNAME:EST
DTSTART:20171105T060000
END:STANDARD
END:VTIMEZONE
BEGIN:VEVENT
DTSTART;TZID=America/Toronto:20160205T190000
DTEND;TZID=America/Toronto:20160205T210000
DTSTAMP:20260422T094653
CREATED:20160129T201359Z
LAST-MODIFIED:20160129T201359Z
UID:10019511-1454698800-1454706000@huronshores.ca
SUMMARY:RAIN's Agriculture and Food Symposium
DESCRIPTION:The Rural Agri-Innovation Network (RAIN) will host its third annual Agriculture and Food Symposium on Friday February 5th and Saturday February 6th at Bruce Station Hall with the theme ‘Tools for Resilience.’\nFriday February 5th\, 7 to 9 p.m. $10 at door (includes refreshments) \n\nFarm Succession\, Estate and Business Planning for Farms and Advisers (Len Davies\, Davies Legacy Planning Group Inc.)\n\nSaturday February 6th\, 9 a.m. to 3 p.m. $15 at door (includes light breakfast\, lunch\, and refreshments) \n\nFarm Budgeting & Financial Ratios (Len Davies)\nWhat you need to know: Farm tax changes for 2016 (Nathan Dool\, BDO)\nUpper Michigan Research Extension Trials on Malted Barley & Feasibility (Ashley McFarland\, Upper Peninsula Research and Extension Centre)\nSeason Extension Techniques and Technologies – four season vegetable production\, high tunnels (hoop houses) and storage (Collin Thompson\, The North Farm at the Upper Peninsula Research and Extension Center)\nUpdate on 2016 research opportunities and programs (RAIN)\n\nTickets for both days are $20. Tickets will be available at the door\, cash only. Please RSVP by February 1st for food numbers to David Thompson\, dthompson@ssmic.com (705) 942-7927 x3027. For more information visit: http://rainalgoma.ca/blog/symposium2016
URL:https://huronshores.ca/event/rains-agriculture-and-food-symposium/
CATEGORIES:Community News,Local Food
ATTACH;FMTTYPE=image/jpeg:https://huronshores.ca/wp-content/uploads/2013/02/RAIN-Logo-re-sized.jpg
END:VEVENT
BEGIN:VEVENT
DTSTART;TZID=America/Toronto:20160206T090000
DTEND;TZID=America/Toronto:20160206T150000
DTSTAMP:20260422T094653
CREATED:20160129T201723Z
LAST-MODIFIED:20160129T201723Z
UID:10019512-1454749200-1454770800@huronshores.ca
SUMMARY:RAIN'S Agriculture & Food Symposium
DESCRIPTION:The Rural Agri-Innovation Network (RAIN) will host its third annual Agriculture and Food Symposium on Friday February 5th and Saturday February 6th at Bruce Station Hall with the theme ‘Tools for Resilience.’\nFriday February 5th\, 7 to 9 p.m. $10 at door (includes refreshments) \n\nFarm Succession\, Estate and Business Planning for Farms and Advisers (Len Davies\, Davies Legacy Planning Group Inc.)\n\nSaturday February 6th\, 9 a.m. to 3 p.m. $15 at door (includes light breakfast\, lunch\, and refreshments) \n\nFarm Budgeting & Financial Ratios (Len Davies)\nWhat you need to know: Farm tax changes for 2016 (Nathan Dool\, BDO)\nUpper Michigan Research Extension Trials on Malted Barley & Feasibility (Ashley McFarland\, Upper Peninsula Research and Extension Centre)\nSeason Extension Techniques and Technologies – four season vegetable production\, high tunnels (hoop houses) and storage (Collin Thompson\, The North Farm at the Upper Peninsula Research and Extension Center)\nUpdate on 2016 research opportunities and programs (RAIN)\n\nTickets for both days are $20. Tickets will be available at the door\, cash only. Please RSVP by February 1st for food numbers to David Thompson\, dthompson@ssmic.com (705) 942-7927 x3027. For more information visit: http://rainalgoma.ca/blog/symposium2016
URL:https://huronshores.ca/event/rains-agriculture-food-symposium/
CATEGORIES:Community News,Local Food
ATTACH;FMTTYPE=image/jpeg:https://huronshores.ca/wp-content/uploads/2013/02/RAIN-Logo-re-sized.jpg
END:VEVENT
BEGIN:VEVENT
DTSTART;TZID=America/Toronto:20160209T160000
DTEND;TZID=America/Toronto:20160209T190000
DTSTAMP:20260422T094653
CREATED:20160129T204924Z
LAST-MODIFIED:20160129T204924Z
UID:10019515-1455033600-1455044400@huronshores.ca
SUMMARY:Pancake & Sausage Dinner
DESCRIPTION:Pancake & Sausage Dinner at St. Ambrose Parish Hall\, 286 Water Street\, Thessalon\, 4:00-7:00 p.m.  Hosted jointly by St. Ambrose Catholic Church & the Anglican Church of the Redeemer with proceeds to benefit the Thessalon & Area Food Bank.  For information call 705-842-2024 or 705-842-2889.
URL:https://huronshores.ca/event/pancake-sausage-dinner/
CATEGORIES:Community News,Local Food
ATTACH;FMTTYPE=image/png:https://huronshores.ca/wp-content/uploads/2014/03/Pancakes.png
END:VEVENT
BEGIN:VEVENT
DTSTART;TZID=America/Toronto:20160214T173000
DTEND;TZID=America/Toronto:20160214T173000
DTSTAMP:20260422T094653
CREATED:20160129T203730Z
LAST-MODIFIED:20160129T203730Z
UID:10019514-1455471000-1455471000@huronshores.ca
SUMMARY:Beef Supper
DESCRIPTION:Beef Supper at the Wharncliffe Community Hall\, Sunday\, February 14/16\, 5:30 p.m.  Bring your sweetheart for a delicious meal and sweet treats.  For reservations\, call Diane at 705-254-8119.
URL:https://huronshores.ca/event/beef-supper/
CATEGORIES:Community News,Local Food
ATTACH;FMTTYPE=image/jpeg:https://huronshores.ca/wp-content/uploads/2014/02/Roast-Beef-1.jpg
END:VEVENT
END:VCALENDAR