BEGIN:VCALENDAR
VERSION:2.0
PRODID:-//Huron Shores - ECPv6.15.11//NONSGML v1.0//EN
CALSCALE:GREGORIAN
METHOD:PUBLISH
X-ORIGINAL-URL:https://huronshores.ca
X-WR-CALDESC:Events for Huron Shores
REFRESH-INTERVAL;VALUE=DURATION:PT1H
X-Robots-Tag:noindex
X-PUBLISHED-TTL:PT1H
BEGIN:VTIMEZONE
TZID:America/Toronto
BEGIN:DAYLIGHT
TZOFFSETFROM:-0500
TZOFFSETTO:-0400
TZNAME:EDT
DTSTART:20170312T070000
END:DAYLIGHT
BEGIN:STANDARD
TZOFFSETFROM:-0400
TZOFFSETTO:-0500
TZNAME:EST
DTSTART:20171105T060000
END:STANDARD
BEGIN:DAYLIGHT
TZOFFSETFROM:-0500
TZOFFSETTO:-0400
TZNAME:EDT
DTSTART:20180311T070000
END:DAYLIGHT
BEGIN:STANDARD
TZOFFSETFROM:-0400
TZOFFSETTO:-0500
TZNAME:EST
DTSTART:20181104T060000
END:STANDARD
BEGIN:DAYLIGHT
TZOFFSETFROM:-0500
TZOFFSETTO:-0400
TZNAME:EDT
DTSTART:20190310T070000
END:DAYLIGHT
BEGIN:STANDARD
TZOFFSETFROM:-0400
TZOFFSETTO:-0500
TZNAME:EST
DTSTART:20191103T060000
END:STANDARD
END:VTIMEZONE
BEGIN:VEVENT
DTSTART;TZID=America/Toronto:20181121T180000
DTEND;TZID=America/Toronto:20181121T180000
DTSTAMP:20260424T053329
CREATED:20181031T191357Z
LAST-MODIFIED:20181031T191357Z
UID:10021346-1542823200-1542823200@huronshores.ca
SUMMARY:CAP-C 25 Year Celebration
DESCRIPTION:The Community Action Program for Children (CAP-C) is celebrating its 25th Anniversary on Wednesday\, November 21/18\, at 6:00 p.m. at the Iron Bridge Recreation Centre (1 Chiblow Lk. Rd.)  Snacks & fun activities will be provided.  Everyone welcome!  Please use the side door to the kitchen.  For more info\, please call 705-356-4677.  Sponsored by EarlyON Child & Family Centre and All Star Children Services\, Inc. \nThe CAP-C Program operates weekly in the kitchen of the Iron Bridge Recreation Centre on Wednesdays\, from 9:00 a.m. to 11:30 a.m.
URL:https://huronshores.ca/event/cap-c-25-year-celebration/
CATEGORIES:Community News
END:VEVENT
END:VCALENDAR