BEGIN:VCALENDAR
VERSION:2.0
PRODID:-//Huron Shores - ECPv6.15.11//NONSGML v1.0//EN
CALSCALE:GREGORIAN
METHOD:PUBLISH
X-ORIGINAL-URL:https://huronshores.ca
X-WR-CALDESC:Events for Huron Shores
REFRESH-INTERVAL;VALUE=DURATION:PT1H
X-Robots-Tag:noindex
X-PUBLISHED-TTL:PT1H
BEGIN:VTIMEZONE
TZID:America/Toronto
BEGIN:DAYLIGHT
TZOFFSETFROM:-0500
TZOFFSETTO:-0400
TZNAME:EDT
DTSTART:20240310T070000
END:DAYLIGHT
BEGIN:STANDARD
TZOFFSETFROM:-0400
TZOFFSETTO:-0500
TZNAME:EST
DTSTART:20241103T060000
END:STANDARD
BEGIN:DAYLIGHT
TZOFFSETFROM:-0500
TZOFFSETTO:-0400
TZNAME:EDT
DTSTART:20250309T070000
END:DAYLIGHT
BEGIN:STANDARD
TZOFFSETFROM:-0400
TZOFFSETTO:-0500
TZNAME:EST
DTSTART:20251102T060000
END:STANDARD
BEGIN:DAYLIGHT
TZOFFSETFROM:-0500
TZOFFSETTO:-0400
TZNAME:EDT
DTSTART:20260308T070000
END:DAYLIGHT
BEGIN:STANDARD
TZOFFSETFROM:-0400
TZOFFSETTO:-0500
TZNAME:EST
DTSTART:20261101T060000
END:STANDARD
END:VTIMEZONE
BEGIN:VEVENT
DTSTART;VALUE=DATE:20250731
DTEND;VALUE=DATE:20250805
DTSTAMP:20260422T142530
CREATED:20250226T170616Z
LAST-MODIFIED:20250226T170616Z
UID:10022774-1753920000-1754351999@huronshores.ca
SUMMARY:Thessalon Community Day 2025 – Retro Revival!
DESCRIPTION:🕺 Get ready to groove back in time! Join us for a nostalgic weekend of fun\, music\, and community spirit! \n📅 Dates: July 31 – August 4\, 2025📍 Location: Thessalon \n🌟 Weekend Highlights:🎶 Live Music – Feel the retro vibes!🎇 Fireworks – A dazzling night sky display!🎭 Parade – Celebrate with community floats & fun!🏖️ Sand Castle Building – Show off your creative skills!⚾ Family Baseball Tournament – Play ball with friends & family!🎉 And much more! \n📩 Want to get involved? Volunteers needed! \n📞 For more info or to volunteer\, contact:📱 705-842-2217✉️ susan@thessalon.ca \n🌈 Join us for an unforgettable throwback celebration! 🌟🎷
URL:https://huronshores.ca/event/thessalon-community-day-2025-retro-revival/
LOCATION:Town of  Thessalon
CATEGORIES:Community News
END:VEVENT
END:VCALENDAR