BEGIN:VCALENDAR
VERSION:2.0
PRODID:-//Huron Shores - ECPv6.15.11//NONSGML v1.0//EN
CALSCALE:GREGORIAN
METHOD:PUBLISH
X-ORIGINAL-URL:https://huronshores.ca
X-WR-CALDESC:Events for Huron Shores
REFRESH-INTERVAL;VALUE=DURATION:PT1H
X-Robots-Tag:noindex
X-PUBLISHED-TTL:PT1H
BEGIN:VTIMEZONE
TZID:America/Toronto
BEGIN:DAYLIGHT
TZOFFSETFROM:-0500
TZOFFSETTO:-0400
TZNAME:EDT
DTSTART:20220313T070000
END:DAYLIGHT
BEGIN:STANDARD
TZOFFSETFROM:-0400
TZOFFSETTO:-0500
TZNAME:EST
DTSTART:20221106T060000
END:STANDARD
BEGIN:DAYLIGHT
TZOFFSETFROM:-0500
TZOFFSETTO:-0400
TZNAME:EDT
DTSTART:20230312T070000
END:DAYLIGHT
BEGIN:STANDARD
TZOFFSETFROM:-0400
TZOFFSETTO:-0500
TZNAME:EST
DTSTART:20231105T060000
END:STANDARD
BEGIN:DAYLIGHT
TZOFFSETFROM:-0500
TZOFFSETTO:-0400
TZNAME:EDT
DTSTART:20240310T070000
END:DAYLIGHT
BEGIN:STANDARD
TZOFFSETFROM:-0400
TZOFFSETTO:-0500
TZNAME:EST
DTSTART:20241103T060000
END:STANDARD
END:VTIMEZONE
BEGIN:VEVENT
DTSTART;VALUE=DATE:20230422
DTEND;VALUE=DATE:20230423
DTSTAMP:20260423T184825
CREATED:20230420T174457Z
LAST-MODIFIED:20230420T174457Z
UID:10020483-1682121600-1682207999@huronshores.ca
SUMMARY:Earth Day 2023
DESCRIPTION:Earth Day is an annual event to demonstrate support for environmental protection. This years theme is “Invest in our Planet” which highlights the importance of dedicating our time\, resources\, and energy to solving climate change and other environmental issues. Ways to invest in our planet include: \n \n\nPlanting trees\nReducing plastic consumption\nRecycling\nHosting a community clean up\nParticipating in Earth Day events \n\nLearn how you can get involved by visiting Earth Day Canada .
URL:https://huronshores.ca/event/earth-day-2023/
LOCATION:Ontario
CATEGORIES:Community News
END:VEVENT
BEGIN:VEVENT
DTSTART;TZID=America/Toronto:20230426T170000
DTEND;TZID=America/Toronto:20230426T190000
DTSTAMP:20260423T184825
CREATED:20230320T153024Z
LAST-MODIFIED:20230320T155401Z
UID:10020478-1682528400-1682535600@huronshores.ca
SUMMARY:Spaghetti Dinner
DESCRIPTION:The Iron Bridge Lions Club is hosting a monthly Spaghetti Dinner. Bring the whole family for some delicious food and delightful conversation with neighbors and friends. To reserve your plate please phone 705-843-2208; reservations are not required but appreciated.   \nDinner includes: \n\nSpaghetti\nBuns\nSalad\nIce Cream\nTea & Coffee\n\nCost: \n\nAdults – $15.00\nChildren  between 6-9 – $8.00\nChildren 5 and under – free
URL:https://huronshores.ca/event/spaghetti-dinner-2/
LOCATION:Iron Bridge Lions Hall\, 10 Clarissa Street\, Iron Bridge\, Ontario\, P0R 1H0\, Canada
CATEGORIES:Community News
ORGANIZER;CN="Iron Bridge Lions Club":MAILTO:ironbridgelions@yahoo.ca
END:VEVENT
END:VCALENDAR