BEGIN:VCALENDAR
VERSION:2.0
PRODID:-//Huron Shores - ECPv6.15.11//NONSGML v1.0//EN
CALSCALE:GREGORIAN
METHOD:PUBLISH
X-WR-CALNAME:Huron Shores
X-ORIGINAL-URL:https://huronshores.ca
X-WR-CALDESC:Events for Huron Shores
REFRESH-INTERVAL;VALUE=DURATION:PT1H
X-Robots-Tag:noindex
X-PUBLISHED-TTL:PT1H
BEGIN:VTIMEZONE
TZID:America/Toronto
BEGIN:DAYLIGHT
TZOFFSETFROM:-0500
TZOFFSETTO:-0400
TZNAME:EDT
DTSTART:20220313T070000
END:DAYLIGHT
BEGIN:STANDARD
TZOFFSETFROM:-0400
TZOFFSETTO:-0500
TZNAME:EST
DTSTART:20221106T060000
END:STANDARD
BEGIN:DAYLIGHT
TZOFFSETFROM:-0500
TZOFFSETTO:-0400
TZNAME:EDT
DTSTART:20230312T070000
END:DAYLIGHT
BEGIN:STANDARD
TZOFFSETFROM:-0400
TZOFFSETTO:-0500
TZNAME:EST
DTSTART:20231105T060000
END:STANDARD
BEGIN:DAYLIGHT
TZOFFSETFROM:-0500
TZOFFSETTO:-0400
TZNAME:EDT
DTSTART:20240310T070000
END:DAYLIGHT
BEGIN:STANDARD
TZOFFSETFROM:-0400
TZOFFSETTO:-0500
TZNAME:EST
DTSTART:20241103T060000
END:STANDARD
END:VTIMEZONE
BEGIN:VEVENT
DTSTART;TZID=America/Toronto:20231027T180000
DTEND;TZID=America/Toronto:20231027T200000
DTSTAMP:20260423T072145
CREATED:20231018T175120Z
LAST-MODIFIED:20231018T175535Z
UID:10022484-1698429600-1698436800@huronshores.ca
SUMMARY:Family Halloween Party & Skate
DESCRIPTION:
URL:https://huronshores.ca/event/family-halloween-party-skate/
LOCATION:Thessalon Memorial Arena\, 132 Main Street\, Thessalon\, Ontario\, P0R 1L0\, Canada
CATEGORIES:Community News,Recreation
END:VEVENT
BEGIN:VEVENT
DTSTART;TZID=America/Toronto:20231028T110000
DTEND;TZID=America/Toronto:20231028T170000
DTSTAMP:20260423T072145
CREATED:20231018T180033Z
LAST-MODIFIED:20231018T180033Z
UID:10022486-1698490800-1698512400@huronshores.ca
SUMMARY:Line Up Main Street Halloween Pumpkin Contest
DESCRIPTION:
URL:https://huronshores.ca/event/line-up-main-street-halloween-pumpkin-contest/
LOCATION:Thessalon Events and Activities Commitee
CATEGORIES:Community News,Recreation
END:VEVENT
BEGIN:VEVENT
DTSTART;TZID=America/Toronto:20231028T143000
DTEND;TZID=America/Toronto:20231028T170000
DTSTAMP:20260423T072145
CREATED:20231018T175822Z
LAST-MODIFIED:20231018T175822Z
UID:10022485-1698503400-1698512400@huronshores.ca
SUMMARY:Zombie Walk
DESCRIPTION:
URL:https://huronshores.ca/event/zombie-walk/
LOCATION:Thessalon Public School\, 90 Stanley Street\, Thessalon\, Ontario\, P0R 1L0\, Canada
CATEGORIES:Community News,Recreation
END:VEVENT
BEGIN:VEVENT
DTSTART;TZID=America/Toronto:20231029T190000
DTEND;TZID=America/Toronto:20231029T220000
DTSTAMP:20260423T072145
CREATED:20231026T164424Z
LAST-MODIFIED:20231026T164424Z
UID:10022495-1698606000-1698616800@huronshores.ca
SUMMARY:Sayers Lair Halloween Trail
DESCRIPTION:
URL:https://huronshores.ca/event/sayers-lair-halloween-trail/
LOCATION:2 Short Street\, 2 Short Street\, Iron Bridge\, Ontario\, P0R 1H0\, Canada
CATEGORIES:Community News,Recreation
END:VEVENT
BEGIN:VEVENT
DTSTART;TZID=America/Toronto:20231031T190000
DTEND;TZID=America/Toronto:20231031T220000
DTSTAMP:20260423T072145
CREATED:20231026T165016Z
LAST-MODIFIED:20231026T165016Z
UID:10022498-1698778800-1698789600@huronshores.ca
SUMMARY:Sayers Lair Halloween Trail
DESCRIPTION:
URL:https://huronshores.ca/event/sayers-lair-halloween-trail-2/
LOCATION:2 Short Street\, 2 Short Street\, Iron Bridge\, Ontario\, P0R 1H0\, Canada
CATEGORIES:Community News,Recreation
END:VEVENT
END:VCALENDAR