BEGIN:VCALENDAR
VERSION:2.0
PRODID:-//Huron Shores - ECPv6.15.11//NONSGML v1.0//EN
CALSCALE:GREGORIAN
METHOD:PUBLISH
X-ORIGINAL-URL:https://huronshores.ca
X-WR-CALDESC:Events for Huron Shores
REFRESH-INTERVAL;VALUE=DURATION:PT1H
X-Robots-Tag:noindex
X-PUBLISHED-TTL:PT1H
BEGIN:VTIMEZONE
TZID:America/Toronto
BEGIN:DAYLIGHT
TZOFFSETFROM:-0500
TZOFFSETTO:-0400
TZNAME:EDT
DTSTART:20230312T070000
END:DAYLIGHT
BEGIN:STANDARD
TZOFFSETFROM:-0400
TZOFFSETTO:-0500
TZNAME:EST
DTSTART:20231105T060000
END:STANDARD
BEGIN:DAYLIGHT
TZOFFSETFROM:-0500
TZOFFSETTO:-0400
TZNAME:EDT
DTSTART:20240310T070000
END:DAYLIGHT
BEGIN:STANDARD
TZOFFSETFROM:-0400
TZOFFSETTO:-0500
TZNAME:EST
DTSTART:20241103T060000
END:STANDARD
BEGIN:DAYLIGHT
TZOFFSETFROM:-0500
TZOFFSETTO:-0400
TZNAME:EDT
DTSTART:20250309T070000
END:DAYLIGHT
BEGIN:STANDARD
TZOFFSETFROM:-0400
TZOFFSETTO:-0500
TZNAME:EST
DTSTART:20251102T060000
END:STANDARD
END:VTIMEZONE
BEGIN:VEVENT
DTSTART;TZID=America/Toronto:20240810T113000
DTEND;TZID=America/Toronto:20240810T143000
DTSTAMP:20260420T010417
CREATED:20240722T190206Z
LAST-MODIFIED:20240722T190206Z
UID:10022681-1723289400-1723300200@huronshores.ca
SUMMARY:Teddy Bear Picnic
DESCRIPTION:Get ready for a beary special day at the Iron Bridge Museum and Tourist Information Center! Join us on Saturday\, August 10\, 2024\, for our Teddy Bear Picnic\, starting at 11:30 AM! 🧸 \nThe day is packed with fun events\, including:\n🍪 Cookies and\n🎨 Crafts\n🎲 Games\n🎨 Safe face painting.\n🍿 Popcorn\n🏆 Best dressed teddy bear contest! \nDon’t miss out on this fun-filled day with your favorite teddy bear!
URL:https://huronshores.ca/event/teddy-bear-picnic-2/
LOCATION:Iron Bridge Museum and Tourist Information Center\, 1 James Street\, Iron Bridge\, ON\, P0R 1H0\, Canada
CATEGORIES:Community News,Recreation
END:VEVENT
BEGIN:VEVENT
DTSTART;VALUE=DATE:20240824
DTEND;VALUE=DATE:20240825
DTSTAMP:20260420T010417
CREATED:20240502T131058Z
LAST-MODIFIED:20240502T131058Z
UID:10021431-1724457600-1724543999@huronshores.ca
SUMMARY:Annual Fall Fair
DESCRIPTION:The Iron Bridge Agricultural Society will be hosting its Annual Fall Fair on the Saturday August 24\, 2024 at the Iron Bridge Recreation Centre (Arena)\, 1 Chiblow Lake Rd.  Watch for details!
URL:https://huronshores.ca/event/annual-fall-fair/
LOCATION:Iron Bridge Recreation Centre\, 1 Chiblow Lake Road\, Iron Bridge\, ON\, P0R 1H0\, Canada
CATEGORIES:Community News
END:VEVENT
BEGIN:VEVENT
DTSTART;TZID=America/Toronto:20240824T200000
DTEND;TZID=America/Toronto:20240824T235900
DTSTAMP:20260420T010417
CREATED:20240812T141428Z
LAST-MODIFIED:20240812T141428Z
UID:10022694-1724529600-1724543940@huronshores.ca
SUMMARY:"We Just Want to Dance" Party
DESCRIPTION:A “We Just Want to Dance” Party hosted by Chris Goodmurphy will take place on Saturday\, August 24\, 2024 at 8 p.m. at the Thessalon Legion Brach 182 Hall\, on Algoma Street\, West in Thessalon. Entrance is by donation\, with all proceeds going to Legion Branch 182. Cash bar. Come our and have a fun night of music and dancing!
URL:https://huronshores.ca/event/we-just-want-to-dance-party/
LOCATION:Thessalon Royal Canadian Legion\, 18 Algoma St\, Thessalon\, ON\, P0R 1L0\, Canada
CATEGORIES:Community News,Recreation
END:VEVENT
END:VCALENDAR