BEGIN:VCALENDAR
VERSION:2.0
PRODID:-//Huron Shores - ECPv6.15.11//NONSGML v1.0//EN
CALSCALE:GREGORIAN
METHOD:PUBLISH
X-WR-CALNAME:Huron Shores
X-ORIGINAL-URL:https://huronshores.ca
X-WR-CALDESC:Events for Huron Shores
REFRESH-INTERVAL;VALUE=DURATION:PT1H
X-Robots-Tag:noindex
X-PUBLISHED-TTL:PT1H
BEGIN:VTIMEZONE
TZID:America/Toronto
BEGIN:DAYLIGHT
TZOFFSETFROM:-0500
TZOFFSETTO:-0400
TZNAME:EDT
DTSTART:20240310T070000
END:DAYLIGHT
BEGIN:STANDARD
TZOFFSETFROM:-0400
TZOFFSETTO:-0500
TZNAME:EST
DTSTART:20241103T060000
END:STANDARD
BEGIN:DAYLIGHT
TZOFFSETFROM:-0500
TZOFFSETTO:-0400
TZNAME:EDT
DTSTART:20250309T070000
END:DAYLIGHT
BEGIN:STANDARD
TZOFFSETFROM:-0400
TZOFFSETTO:-0500
TZNAME:EST
DTSTART:20251102T060000
END:STANDARD
BEGIN:DAYLIGHT
TZOFFSETFROM:-0500
TZOFFSETTO:-0400
TZNAME:EDT
DTSTART:20260308T070000
END:DAYLIGHT
BEGIN:STANDARD
TZOFFSETFROM:-0400
TZOFFSETTO:-0500
TZNAME:EST
DTSTART:20261101T060000
END:STANDARD
END:VTIMEZONE
BEGIN:VEVENT
DTSTART;TZID=America/Toronto:20250204T190000
DTEND;TZID=America/Toronto:20250204T210000
DTSTAMP:20260419T134242
CREATED:20250107T182446Z
LAST-MODIFIED:20250107T182446Z
UID:10022749-1738695600-1738702800@huronshores.ca
SUMMARY:Euchre Club
DESCRIPTION:🃏 What: Euchre Club\n📅 When: Every Tuesday\n⏰ Time: 7:00 PM – 9:00 PM\n📍 Where: Sowerby Hall \nJoin us for an evening of fun\, strategy\, and camaraderie! Whether you’re a seasoned player or new to the game\, everyone is welcome. Bring your friends or come solo – there’s always a place at our table for you. \nRefreshments will be provided. Looking forward to seeing you there!
URL:https://huronshores.ca/event/euchre-club-44/
LOCATION:Sowerby Hall\, 1410 Basswood Lake\, Thessalon\, Ontario\, P0R 1L0\, Canada
CATEGORIES:Community News,Recreation
END:VEVENT
BEGIN:VEVENT
DTSTART;TZID=America/Toronto:20250211T160000
DTEND;TZID=America/Toronto:20250211T170000
DTSTAMP:20260419T134242
CREATED:20250127T185102Z
LAST-MODIFIED:20250127T185102Z
UID:10022762-1739289600-1739293200@huronshores.ca
SUMMARY:Healthy Minds\, Healthy Communities: Trivia Night
DESCRIPTION:Date: Tuesday\, February 11th\, 2025\nTime: 4:00 PM – 5:00 PM\nLocation: Zoom \nThe Métis Family Wellbeing Program is hosting a Healthy Minds\, Healthy Communities Trivia Night\, a virtual event open to youth aged 12-17 in the Blind River area. \nWhat to Expect:\n\nA fun\, interactive trivia night centered on mental health\, wellness\, and community building.\nA chance to learn\, connect\, and showcase your knowledge.\nRaffle prizes for participants!\n\nRegistration Deadline:\nSign up by February 10th\, 2025. \nContact Information:\nTo register\, call or email:\nMadalynn Soltys\nMétis Family Wellbeing Coordinator\n10C Hanes Avenue\, Blind River\, ON P0R1B0\nPhone: 705-849-3099\nEmail: MadalynnS@metisnation.org \nJoin us for an engaging and meaningful evening of learning and fun\, all from the comfort of your home! \nHosted by the Métis Nation of Ontario.
URL:https://huronshores.ca/event/healthy-minds-healthy-communities-trivia-night/
LOCATION:Ontario
CATEGORIES:Community News
END:VEVENT
BEGIN:VEVENT
DTSTART;TZID=America/Toronto:20250211T190000
DTEND;TZID=America/Toronto:20250211T210000
DTSTAMP:20260419T134242
CREATED:20250107T182543Z
LAST-MODIFIED:20250107T182543Z
UID:10022748-1739300400-1739307600@huronshores.ca
SUMMARY:Euchre Club
DESCRIPTION:🃏 What: Euchre Club\n📅 When: Every Tuesday\n⏰ Time: 7:00 PM – 9:00 PM\n📍 Where: Sowerby Hall \nJoin us for an evening of fun\, strategy\, and camaraderie! Whether you’re a seasoned player or new to the game\, everyone is welcome. Bring your friends or come solo – there’s always a place at our table for you. \nRefreshments will be provided. Looking forward to seeing you there!
URL:https://huronshores.ca/event/euchre-club-45/
LOCATION:Sowerby Hall\, 1410 Basswood Lake\, Thessalon\, Ontario\, P0R 1L0\, Canada
CATEGORIES:Community News
END:VEVENT
BEGIN:VEVENT
DTSTART;TZID=America/Toronto:20250218T190000
DTEND;TZID=America/Toronto:20250218T210000
DTSTAMP:20260419T134242
CREATED:20250107T182640Z
LAST-MODIFIED:20250107T182640Z
UID:10022750-1739905200-1739912400@huronshores.ca
SUMMARY:Euchre Club
DESCRIPTION:🃏 What: Euchre Club\n📅 When: Every Tuesday\n⏰ Time: 7:00 PM – 9:00 PM\n📍 Where: Sowerby Hall \nJoin us for an evening of fun\, strategy\, and camaraderie! Whether you’re a seasoned player or new to the game\, everyone is welcome. Bring your friends or come solo – there’s always a place at our table for you. \nRefreshments will be provided. Looking forward to seeing you there!
URL:https://huronshores.ca/event/euchre-club-46/
LOCATION:Sowerby Hall\, 1410 Basswood Lake\, Thessalon\, Ontario\, P0R 1L0\, Canada
CATEGORIES:Community News,Recreation
END:VEVENT
END:VCALENDAR