BEGIN:VCALENDAR
VERSION:2.0
PRODID:-//Huron Shores - ECPv6.15.11//NONSGML v1.0//EN
CALSCALE:GREGORIAN
METHOD:PUBLISH
X-WR-CALNAME:Huron Shores
X-ORIGINAL-URL:https://huronshores.ca
X-WR-CALDESC:Events for Huron Shores
REFRESH-INTERVAL;VALUE=DURATION:PT1H
X-Robots-Tag:noindex
X-PUBLISHED-TTL:PT1H
BEGIN:VTIMEZONE
TZID:America/Toronto
BEGIN:DAYLIGHT
TZOFFSETFROM:-0500
TZOFFSETTO:-0400
TZNAME:EDT
DTSTART:20240310T070000
END:DAYLIGHT
BEGIN:STANDARD
TZOFFSETFROM:-0400
TZOFFSETTO:-0500
TZNAME:EST
DTSTART:20241103T060000
END:STANDARD
BEGIN:DAYLIGHT
TZOFFSETFROM:-0500
TZOFFSETTO:-0400
TZNAME:EDT
DTSTART:20250309T070000
END:DAYLIGHT
BEGIN:STANDARD
TZOFFSETFROM:-0400
TZOFFSETTO:-0500
TZNAME:EST
DTSTART:20251102T060000
END:STANDARD
BEGIN:DAYLIGHT
TZOFFSETFROM:-0500
TZOFFSETTO:-0400
TZNAME:EDT
DTSTART:20260308T070000
END:DAYLIGHT
BEGIN:STANDARD
TZOFFSETFROM:-0400
TZOFFSETTO:-0500
TZNAME:EST
DTSTART:20261101T060000
END:STANDARD
END:VTIMEZONE
BEGIN:VEVENT
DTSTART;TZID=America/Toronto:20250306T170000
DTEND;TZID=America/Toronto:20250306T183000
DTSTAMP:20260419T114824
CREATED:20250226T150624Z
LAST-MODIFIED:20250226T150624Z
UID:10022769-1741280400-1741285800@huronshores.ca
SUMMARY:Winter Fun Outdoor Activities!
DESCRIPTION:🎉 For Kids Ages 7-12 – A night of winter excitement\, discovery\, and delicious food! \n📅 Date: Thursday\, March 6\, 2025🕔 Time: 5:00 PM – 6:30 PM📍 Location: Sports Complex \n🥣 Supper Provided: Enjoy a warm meal featuring homemade soup & subs to keep you cozy! \n🎈 What’s in Store?✔️ Exciting Outdoor Activities – Winter games and fun in the snow!🧪 Cool Science Experiments – Hands-on learning and discovery!❄️ More Surprises! \n📩 For more details\, contact Jennifer at cyworker@mississaugi.com \nBundle up and get ready for an evening of fun\, laughter\, and adventure! 🎿✨
URL:https://huronshores.ca/event/winter-fun-outdoor-activities/
LOCATION:Mississagi First Nation Sport & Community Complex\, 43 Park Road\, Blind River\, Ontario\, P0R 1B0\, Canada
CATEGORIES:Community News,Recreation
END:VEVENT
BEGIN:VEVENT
DTSTART;TZID=America/Toronto:20250307T190000
DTEND;TZID=America/Toronto:20250307T210000
DTSTAMP:20260419T114824
CREATED:20250226T170131Z
LAST-MODIFIED:20250226T170131Z
UID:10022772-1741374000-1741381200@huronshores.ca
SUMMARY:Thessalon Coastal Trail Snowshoe Adventure!
DESCRIPTION:🥾 Join us for a magical evening of snowshoeing under the stars! \n📅 Date: Friday\, March 7\, 2025🕖 Time: 7:00 PM📍 Meeting Point: Coastal Trailhead (off Peachey Street) \n🔦 What to Expect:✅ Bring your headlamp – Light up the trail!🔥 Bonfire warming station – Cozy up by the fire.☕ Hot chocolate & treats – Warm drinks and snacks provided!🎁 Door Prize – A chance to win a special giveaway! \n💙 Donations are welcome and will support the expansion of the Thessalon Coastal Trail! \n📩 Presented by: Thessalon Recreational Trails Team \nFor more details or to donate\, contact Susan at 705-842-2217 or email susan@thessalon.ca. \n🌟 Lace up your snowshoes\, bundle up\, and experience the beauty of winter on the trail! 🌿🏔️
URL:https://huronshores.ca/event/thessalon-coastal-trail-snowshoe-adventure/
LOCATION:Thessalon Coastal Trail
CATEGORIES:Community News,Recreation
END:VEVENT
BEGIN:VEVENT
DTSTART;TZID=America/Toronto:20250315T180000
DTEND;TZID=America/Toronto:20250315T230000
DTSTAMP:20260419T114824
CREATED:20250226T142617Z
LAST-MODIFIED:20250226T142617Z
UID:10022766-1742061600-1742079600@huronshores.ca
SUMMARY:St. Patrick's Day Dinner & Dance
DESCRIPTION:📅 Saturday\, March 15📍 Iron Bridge Recreation Centre \nSchedule:🍽 Dinner: 6:00 p.m. – Enjoy a delicious Irish-themed meal featuring traditional dishes and root vegetables.💃 Dance: 8:00 – 11:00 p.m. – Live music by The Jacques Brothers to keep you on your feet! \n🎟 Ticket Options (Per Person): \n\nDinner Only: $20\nDance Only: $20\nDinner & Dance Combo: $30\n\n📞 Reserve your spot by March 10!Call 705-989-5934 or email ironbridgeagriculturalsociety@gmail.com – E-transfer accepted. \n🍻 Refreshments available | Licensed under AGCO \nCome for the food\, stay for the fun\, and celebrate Irish heritage with us! 🌿✨
URL:https://huronshores.ca/event/st-patricks-day-dinner-dance/
LOCATION:Iron Bridge Recreation Centre\, 1 Chiblow Lake Road\, Iron Bridge\, ON\, P0R 1H0\, Canada
CATEGORIES:Community News,Recreation
END:VEVENT
BEGIN:VEVENT
DTSTART;TZID=America/Toronto:20250318T130000
DTEND;TZID=America/Toronto:20250318T150000
DTSTAMP:20260419T114824
CREATED:20250107T192453Z
LAST-MODIFIED:20250107T192453Z
UID:10022753-1742302800-1742310000@huronshores.ca
SUMMARY:Monthly Senior Social
DESCRIPTION:Join the Fun at the Monthly Seniors Social! \nWhen: Every 3rd Tuesday of the month\, 1 – 3 p.m.\nWhere: Thessalon Memorial Arena Lobby \nActivities Include:\n🎨 Crafts\n🎲 Board Games\n🃏 Cards \nRefreshments: ☕ Tea/Coffee\n🍪 Snacks \nEveryone is welcome! Come for the games\, stay for the great company. See you there!
URL:https://huronshores.ca/event/monthly-senior-social-7/
LOCATION:Thessalon Memorial Arena\, 132 Main Street\, Thessalon\, Ontario\, P0R 1L0\, Canada
CATEGORIES:Community News,Recreation
END:VEVENT
BEGIN:VEVENT
DTSTART;TZID=America/Toronto:20250322T200000
DTEND;TZID=America/Toronto:20250322T230000
DTSTAMP:20260419T114824
CREATED:20250226T143117Z
LAST-MODIFIED:20250226T143117Z
UID:10022767-1742673600-1742684400@huronshores.ca
SUMMARY:Spring Break Dance Party
DESCRIPTION:📅 Date: March 22\, 2025🕗 Time: 8:00 PM📍 Location: Royal Canadian Thessalon Legion\, 18 Algoma St\, Thessalon\, ON \n🎧 Featuring DJ Donna – Bringing the best beats for a night of fun and dancing! \n💃 Hosted by Chris & Lynn Goodmurphy \n🎟 Entry by Donation – Come out\, dance\, and support a great cause! \n🌊 Get ready for tropical vibes\, great music\, and an unforgettable night! See you on the dance floor! 🌞🎉
URL:https://huronshores.ca/event/spring-break-dance-party/
LOCATION:Thessalon Royal Canadian Legion\, 18 Algoma St\, Thessalon\, ON\, P0R 1L0\, Canada
CATEGORIES:Community News,Recreation
END:VEVENT
END:VCALENDAR