BEGIN:VCALENDAR
VERSION:2.0
PRODID:-//Huron Shores - ECPv6.15.11//NONSGML v1.0//EN
CALSCALE:GREGORIAN
METHOD:PUBLISH
X-ORIGINAL-URL:https://huronshores.ca
X-WR-CALDESC:Events for Huron Shores
REFRESH-INTERVAL;VALUE=DURATION:PT1H
X-Robots-Tag:noindex
X-PUBLISHED-TTL:PT1H
BEGIN:VTIMEZONE
TZID:America/Toronto
BEGIN:DAYLIGHT
TZOFFSETFROM:-0500
TZOFFSETTO:-0400
TZNAME:EDT
DTSTART:20240310T070000
END:DAYLIGHT
BEGIN:STANDARD
TZOFFSETFROM:-0400
TZOFFSETTO:-0500
TZNAME:EST
DTSTART:20241103T060000
END:STANDARD
BEGIN:DAYLIGHT
TZOFFSETFROM:-0500
TZOFFSETTO:-0400
TZNAME:EDT
DTSTART:20250309T070000
END:DAYLIGHT
BEGIN:STANDARD
TZOFFSETFROM:-0400
TZOFFSETTO:-0500
TZNAME:EST
DTSTART:20251102T060000
END:STANDARD
BEGIN:DAYLIGHT
TZOFFSETFROM:-0500
TZOFFSETTO:-0400
TZNAME:EDT
DTSTART:20260308T070000
END:DAYLIGHT
BEGIN:STANDARD
TZOFFSETFROM:-0400
TZOFFSETTO:-0500
TZNAME:EST
DTSTART:20261101T060000
END:STANDARD
END:VTIMEZONE
BEGIN:VEVENT
DTSTART;TZID=America/Toronto:20250415T160000
DTEND;TZID=America/Toronto:20250415T180000
DTSTAMP:20260419T101137
CREATED:20250414T193644Z
LAST-MODIFIED:20250414T193644Z
UID:10022780-1744732800-1744740000@huronshores.ca
SUMMARY:Youth Programming Information Evening & Family Meal 👨‍👩‍👧‍👦🍽️
DESCRIPTION:Hosted by the Métis Family Wellbeing Program \nCurious about what youth programs are happening in your community? Come enjoy a warm meal\, connect with the Healing and Wellness staff\, and hear all about the exciting youth drop-in opportunities coming up! \n🗓 Tuesday\, April 15\, 2025⏰ 4:00 PM – 6:00 PM📍 10C Hanes Avenue (MNO Office)\, Blind River \n✨ Bring the family for:✅ A shared family meal✅ Info on monthly youth programming✅ A chance to meet the team behind it all! \n🎟️ RSVP by April 10 if possible — drop-ins are always welcome! \n📩 Questions or to RSVP? Contact Madalynn Soltys at📱 705-849-3099 or ✉️ MadalynnS@metisnation.org \nLet’s build community and support youth together!
URL:https://huronshores.ca/event/youth-programming-information-evening-family-meal-%f0%9f%91%a8%f0%9f%91%a9%f0%9f%91%a7%f0%9f%91%a6%f0%9f%8d%bd%ef%b8%8f/
LOCATION:MNO Office\, 10C Hanes Avenue\, Blind River\, Ontario\, P0R 1B0\, Canada
CATEGORIES:Community News,Recreation
END:VEVENT
BEGIN:VEVENT
DTSTART;TZID=America/Toronto:20250424T033000
DTEND;TZID=America/Toronto:20250424T163000
DTSTAMP:20260419T101137
CREATED:20250414T191336Z
LAST-MODIFIED:20250414T191638Z
UID:10022777-1745465400-1745512200@huronshores.ca
SUMMARY:April Youth Drop-In: Bean Bag Darts & Active Living 🎯
DESCRIPTION:Hosted by the Métis Family Wellbeing Program \nLooking for something fun to do after school? Join us for an exciting afternoon of conversation\, snacks\, and a little friendly competition! \n🗓 Thursday\, April 24\, 2025⏰ 3:30 PM – 4:30 PM📍 10C Hanes Avenue (MNO Office)\, Blind River👥 Open to youth aged 13–18 \nWe’ll kick things off with a chat about active living and healthy screen time habits\, followed by a game of bean bag darts! Compete to earn the highest score and take home a prize in the championship playoff! \n🥤 Healthy snacks and drinks provided🏆 Prize for the top scorer✅ RSVP by April 17 if you can – drop-ins welcome! \n📩 Questions or to RSVP? Contact Madalynn Soltys at📱 705-849-3099 or ✉️ MadalynnS@metisnation.org \nDon’t miss out — bring a friend and join the fun!
URL:https://huronshores.ca/event/april-youth-drop-in-bean-bag-darts-active-living-%f0%9f%8e%af/
LOCATION:MNO Office\, 10C Hanes Avenue\, Blind River\, Ontario\, P0R 1B0\, Canada
CATEGORIES:Community News,Recreation
END:VEVENT
END:VCALENDAR