BEGIN:VCALENDAR
VERSION:2.0
PRODID:-//Huron Shores - ECPv6.15.11//NONSGML v1.0//EN
CALSCALE:GREGORIAN
METHOD:PUBLISH
X-ORIGINAL-URL:https://huronshores.ca
X-WR-CALDESC:Events for Huron Shores
REFRESH-INTERVAL;VALUE=DURATION:PT1H
X-Robots-Tag:noindex
X-PUBLISHED-TTL:PT1H
BEGIN:VTIMEZONE
TZID:America/Toronto
BEGIN:DAYLIGHT
TZOFFSETFROM:-0500
TZOFFSETTO:-0400
TZNAME:EDT
DTSTART:20240310T070000
END:DAYLIGHT
BEGIN:STANDARD
TZOFFSETFROM:-0400
TZOFFSETTO:-0500
TZNAME:EST
DTSTART:20241103T060000
END:STANDARD
BEGIN:DAYLIGHT
TZOFFSETFROM:-0500
TZOFFSETTO:-0400
TZNAME:EDT
DTSTART:20250309T070000
END:DAYLIGHT
BEGIN:STANDARD
TZOFFSETFROM:-0400
TZOFFSETTO:-0500
TZNAME:EST
DTSTART:20251102T060000
END:STANDARD
BEGIN:DAYLIGHT
TZOFFSETFROM:-0500
TZOFFSETTO:-0400
TZNAME:EDT
DTSTART:20260308T070000
END:DAYLIGHT
BEGIN:STANDARD
TZOFFSETFROM:-0400
TZOFFSETTO:-0500
TZNAME:EST
DTSTART:20261101T060000
END:STANDARD
END:VTIMEZONE
BEGIN:VEVENT
DTSTART;TZID=America/Toronto:20250503T100000
DTEND;TZID=America/Toronto:20250503T130000
DTSTAMP:20260419T081914
CREATED:20250424T132104Z
LAST-MODIFIED:20250424T133918Z
UID:10022784-1746266400-1746277200@huronshores.ca
SUMMARY:🏃‍♀️ Kids Fun Trail Run with Team Canada Biathlete Shilo Rousseau
DESCRIPTION:📅 Saturday\, May 3\, 2025🕙 10:00 a.m.📍 Thessalon Coastal Trail \nJoin Shilo Rousseau for a fun and active morning on the trail! \n💲 $10 registration\, payable to Shilo at the event. \n🎁 Participants will have a chance to win a World Cup Race Bib and other great prizes! \n👟 A fun way for youth to get active and meet a hometown Olympian. \n📧 Pre-register by emailing susan@thessalon.ca or call 705-842-2217.
URL:https://huronshores.ca/event/%f0%9f%8f%83%e2%99%80%ef%b8%8f-kids-fun-trail-run-with-team-canada-biathlete-shilo-rousseau/
LOCATION:Thessalon Coastal Trail
CATEGORIES:Community News,Recreation
END:VEVENT
BEGIN:VEVENT
DTSTART;TZID=America/Toronto:20250503T140000
DTEND;TZID=America/Toronto:20250503T160000
DTSTAMP:20260419T081914
CREATED:20250424T132447Z
LAST-MODIFIED:20250424T134036Z
UID:10022785-1746280800-1746288000@huronshores.ca
SUMMARY:🤝 Meet and Greet with Team Canada Biathlete Shilo Rousseau
DESCRIPTION:📅 Saturday\, May 3\, 2025🕑 2:00 p.m. – 4:00 p.m.📍 Marina\, Harbourview Building \nCome welcome Shilo home and hear about her Olympic journey!Enjoy light snacks\, get an autograph\, and learn more about her inspiring path from hometown athlete to international competitor. \n📸 A great photo opportunity and afternoon with the community!
URL:https://huronshores.ca/event/%f0%9f%a4%9d-meet-and-greet-with-team-canada-biathlete-shilo-rousseau/
LOCATION:Thessalon Marina\, 40 Algoma St\, Thessalon\, Ontario\, P0R 1L0\, Canada
CATEGORIES:Community News,Recreation
END:VEVENT
BEGIN:VEVENT
DTSTART;TZID=America/Toronto:20250503T183000
DTEND;TZID=America/Toronto:20250503T200000
DTSTAMP:20260419T081914
CREATED:20250424T133225Z
LAST-MODIFIED:20250424T134309Z
UID:10022786-1746297000-1746302400@huronshores.ca
SUMMARY:💪 Strength Workshop with Shilo Rousseau
DESCRIPTION:📅 Tuesday\, May 6\, 2025🕡 6:30 p.m.📍 Thessalon Fitness Centre \nGet moving and train like an Olympian! Join Shilo for a hands-on strength training session. \n👥 Ages 14+ welcome | 💲 $20 admission\, payable to Shilo at the event \n📧 Pre-registration required – email susan@thessalon.ca or call 705-842-2217 \n💥 Don’t miss this chance to learn from a pro!
URL:https://huronshores.ca/event/%f0%9f%92%aa-strength-workshop-with-shilo-rousseau/
LOCATION:Thessalon Fitness Centre\, 333 River Street\, Thessalon\, Ontario\, P0R 1L0\, Canada
CATEGORIES:Community News,Recreation
END:VEVENT
BEGIN:VEVENT
DTSTART;TZID=America/Toronto:20250503T190000
DTEND;TZID=America/Toronto:20250504T010000
DTSTAMP:20260419T081914
CREATED:20250430T194418Z
LAST-MODIFIED:20250430T194418Z
UID:10022791-1746298800-1746320400@huronshores.ca
SUMMARY:🎉 Cinco de Mayo Celebration
DESCRIPTION:Celebrate with tacos\, music\, and fun at the Blind River Curling Club!🗓 Date: Saturday\, May 3🕖 Time: 7:00 PM – 1:00 AM📍 Location: 45 Centre Street\, Blind River🌮 Taco bar\, 🍸 drinks\, 🎶 music\, and 🎁 prizes!🎟 Contact for tickets/info: 705-849-5491🎗 In support of the Royal LePage Shelter Foundation Challenge 2025
URL:https://huronshores.ca/event/%f0%9f%8e%89-cinco-de-mayo-celebration/
LOCATION:Blind River Curling Club\, 45 Centre St\, Blind River\, ON\, P0R 1B0\, Canada
CATEGORIES:Community News
END:VEVENT
BEGIN:VEVENT
DTSTART;TZID=America/Toronto:20250511T110000
DTEND;TZID=America/Toronto:20250511T140000
DTSTAMP:20260419T081914
CREATED:20250430T194755Z
LAST-MODIFIED:20250430T194755Z
UID:10022792-1746961200-1746972000@huronshores.ca
SUMMARY:🌷 Mother’s Day Brunch
DESCRIPTION:Celebrate Mom with a delicious brunch buffet!🗓 Date: Sunday\, May 11🕚 Time: 11:00 AM – 2:00 PM📍 Location: Wharncliffe Community Hall\, 4847 Hwy 129📣 Flyers with menu and price details to be posted soon.
URL:https://huronshores.ca/event/%f0%9f%8c%b7-mothers-day-brunch/
LOCATION:Wharncliffee Community Centre\, 4847 Hwy 129\, Thessalon\, ON\, P0R 1L0\, Canada
CATEGORIES:Community News
END:VEVENT
END:VCALENDAR