BEGIN:VCALENDAR
VERSION:2.0
PRODID:-//Huron Shores - ECPv6.15.11//NONSGML v1.0//EN
CALSCALE:GREGORIAN
METHOD:PUBLISH
X-ORIGINAL-URL:https://huronshores.ca
X-WR-CALDESC:Events for Huron Shores
REFRESH-INTERVAL;VALUE=DURATION:PT1H
X-Robots-Tag:noindex
X-PUBLISHED-TTL:PT1H
BEGIN:VTIMEZONE
TZID:America/Toronto
BEGIN:DAYLIGHT
TZOFFSETFROM:-0500
TZOFFSETTO:-0400
TZNAME:EDT
DTSTART:20160313T070000
END:DAYLIGHT
BEGIN:STANDARD
TZOFFSETFROM:-0400
TZOFFSETTO:-0500
TZNAME:EST
DTSTART:20161106T060000
END:STANDARD
BEGIN:DAYLIGHT
TZOFFSETFROM:-0500
TZOFFSETTO:-0400
TZNAME:EDT
DTSTART:20170312T070000
END:DAYLIGHT
BEGIN:STANDARD
TZOFFSETFROM:-0400
TZOFFSETTO:-0500
TZNAME:EST
DTSTART:20171105T060000
END:STANDARD
BEGIN:DAYLIGHT
TZOFFSETFROM:-0500
TZOFFSETTO:-0400
TZNAME:EDT
DTSTART:20180311T070000
END:DAYLIGHT
BEGIN:STANDARD
TZOFFSETFROM:-0400
TZOFFSETTO:-0500
TZNAME:EST
DTSTART:20181104T060000
END:STANDARD
END:VTIMEZONE
BEGIN:VEVENT
DTSTART;TZID=America/Toronto:20171117T190000
DTEND;TZID=America/Toronto:20171117T210000
DTSTAMP:20260423T085530
CREATED:20171116T165642Z
LAST-MODIFIED:20171116T165642Z
UID:10020373-1510945200-1510952400@huronshores.ca
SUMMARY:Celebrate Canada 150
DESCRIPTION:Celebrate Canada 150 at the Thessalon Curling Club\, Friday & Saturday\, November 17 & 18/17. On Friday\, visit their heritage displays between 7:00 & 9:00 p.m.\, watch the Draw to the Button finalists & prize presentation by NCU Delegates\, coffee & cake to be served.  At 9:00 p.m.\, Flathead Ford will be entertaining for a dance featuring ’50s & ’60s music. \nOn Saturday\, enjoy a pancake breakfast between 8:00 & 11:00 a.m. to support the Bantam Curlers.  Then take part in a “Red & White Spiel”.  Cash prizes.  $35/person\, includes supper.  Everyone welcome!
URL:https://huronshores.ca/event/celebrate-canada-150/
CATEGORIES:Community News
ATTACH;FMTTYPE=image/jpeg:https://huronshores.ca/wp-content/uploads/2017/11/Canada-150-Curling-2.jpg
END:VEVENT
BEGIN:VEVENT
DTSTART;TZID=America/Toronto:20171118T080000
DTEND;TZID=America/Toronto:20171118T210000
DTSTAMP:20260423T085530
CREATED:20171116T170101Z
LAST-MODIFIED:20171116T170101Z
UID:10020376-1510992000-1511038800@huronshores.ca
SUMMARY:Celebrate Canada 150
DESCRIPTION:Celebrate Canada 150 at the Thessalon Curling Club\, Friday & Saturday\, November 17 & 18/17. On Friday\, visit their heritage displays between 7:00 & 9:00 p.m.\, watch the Draw to the Button finalists & prize presentation by NCU Delegates\, coffee & cake to be served.  At 9:00 p.m.\, Flathead Ford will be entertaining for a dance featuring ’50s & ’60s music. \nOn Saturday\, enjoy a pancake breakfast between 8:00 & 11:00 a.m. to support the Bantam Curlers.  Then take part in a “Red & White Spiel”.  Cash prizes.  $35/person\, includes supper.  Everyone welcome!
URL:https://huronshores.ca/event/celebrate-canada-150-2/
CATEGORIES:Community News
ATTACH;FMTTYPE=image/jpeg:https://huronshores.ca/wp-content/uploads/2017/11/Canada-150-Curling-2.jpg
END:VEVENT
END:VCALENDAR