BEGIN:VCALENDAR
VERSION:2.0
PRODID:-//Huron Shores - ECPv6.15.11//NONSGML v1.0//EN
CALSCALE:GREGORIAN
METHOD:PUBLISH
X-ORIGINAL-URL:https://huronshores.ca
X-WR-CALDESC:Events for Huron Shores
REFRESH-INTERVAL;VALUE=DURATION:PT1H
X-Robots-Tag:noindex
X-PUBLISHED-TTL:PT1H
BEGIN:VTIMEZONE
TZID:America/Toronto
BEGIN:DAYLIGHT
TZOFFSETFROM:-0500
TZOFFSETTO:-0400
TZNAME:EDT
DTSTART:20230312T070000
END:DAYLIGHT
BEGIN:STANDARD
TZOFFSETFROM:-0400
TZOFFSETTO:-0500
TZNAME:EST
DTSTART:20231105T060000
END:STANDARD
BEGIN:DAYLIGHT
TZOFFSETFROM:-0500
TZOFFSETTO:-0400
TZNAME:EDT
DTSTART:20240310T070000
END:DAYLIGHT
BEGIN:STANDARD
TZOFFSETFROM:-0400
TZOFFSETTO:-0500
TZNAME:EST
DTSTART:20241103T060000
END:STANDARD
BEGIN:DAYLIGHT
TZOFFSETFROM:-0500
TZOFFSETTO:-0400
TZNAME:EDT
DTSTART:20250309T070000
END:DAYLIGHT
BEGIN:STANDARD
TZOFFSETFROM:-0400
TZOFFSETTO:-0500
TZNAME:EST
DTSTART:20251102T060000
END:STANDARD
END:VTIMEZONE
BEGIN:VEVENT
DTSTART;TZID=America/Toronto:20240709T183000
DTEND;TZID=America/Toronto:20240709T210000
DTSTAMP:20260422T072456
CREATED:20240624T191115Z
LAST-MODIFIED:20240624T191115Z
UID:10022649-1720549800-1720558800@huronshores.ca
SUMMARY:Euchre Club
DESCRIPTION:🃏 What: Euchre Club\n📅 When: Every Tuesday\n⏰ Time: 7:00 PM – 9:00 PM\n📍 Where: Sowerby Hall \nJoin us for an evening of fun\, strategy\, and camaraderie! Whether you’re a seasoned player or new to the game\, everyone is welcome. Bring your friends or come solo – there’s always a place at our table for you. \nRefreshments will be provided. Looking forward to seeing you there!
URL:https://huronshores.ca/event/euchre-club-21/
LOCATION:Sowerby Hall\, 1410 Basswood Lake\, Thessalon\, Ontario\, P0R 1L0\, Canada
CATEGORIES:Community News
END:VEVENT
BEGIN:VEVENT
DTSTART;TZID=America/Toronto:20240716T183000
DTEND;TZID=America/Toronto:20240716T210000
DTSTAMP:20260422T072456
CREATED:20240624T191230Z
LAST-MODIFIED:20240624T191230Z
UID:10022650-1721154600-1721163600@huronshores.ca
SUMMARY:Euchre Club
DESCRIPTION:🃏 What: Euchre Club\n📅 When: Every Tuesday\n⏰ Time: 7:00 PM – 9:00 PM\n📍 Where: Sowerby Hall \nJoin us for an evening of fun\, strategy\, and camaraderie! Whether you’re a seasoned player or new to the game\, everyone is welcome. Bring your friends or come solo – there’s always a place at our table for you. \nRefreshments will be provided. Looking forward to seeing you there!
URL:https://huronshores.ca/event/euchre-club-22/
LOCATION:Sowerby Hall\, 1410 Basswood Lake\, Thessalon\, Ontario\, P0R 1L0\, Canada
CATEGORIES:Community News
END:VEVENT
BEGIN:VEVENT
DTSTART;TZID=America/Toronto:20240723T183000
DTEND;TZID=America/Toronto:20240723T210000
DTSTAMP:20260422T072456
CREATED:20240624T191334Z
LAST-MODIFIED:20240624T191334Z
UID:10022651-1721759400-1721768400@huronshores.ca
SUMMARY:Euchre Club
DESCRIPTION:🃏 What: Euchre Club\n📅 When: Every Tuesday\n⏰ Time: 7:00 PM – 9:00 PM\n📍 Where: Sowerby Hall \nJoin us for an evening of fun\, strategy\, and camaraderie! Whether you’re a seasoned player or new to the game\, everyone is welcome. Bring your friends or come solo – there’s always a place at our table for you. \nRefreshments will be provided. Looking forward to seeing you there!
URL:https://huronshores.ca/event/euchre-club-23/
LOCATION:Sowerby Hall\, 1410 Basswood Lake\, Thessalon\, Ontario\, P0R 1L0\, Canada
CATEGORIES:Community News
END:VEVENT
BEGIN:VEVENT
DTSTART;TZID=America/Toronto:20240730T183000
DTEND;TZID=America/Toronto:20240730T210000
DTSTAMP:20260422T072456
CREATED:20240624T191436Z
LAST-MODIFIED:20240624T191436Z
UID:10021464-1722364200-1722373200@huronshores.ca
SUMMARY:Euchre Club
DESCRIPTION:🃏 What: Euchre Club\n📅 When: Every Tuesday\n⏰ Time: 7:00 PM – 9:00 PM\n📍 Where: Sowerby Hall \nJoin us for an evening of fun\, strategy\, and camaraderie! Whether you’re a seasoned player or new to the game\, everyone is welcome. Bring your friends or come solo – there’s always a place at our table for you. \nRefreshments will be provided. Looking forward to seeing you there!
URL:https://huronshores.ca/event/euchre-club-24/
LOCATION:Sowerby Hall\, 1410 Basswood Lake\, Thessalon\, Ontario\, P0R 1L0\, Canada
CATEGORIES:Community News,Recreation
END:VEVENT
END:VCALENDAR