BEGIN:VCALENDAR
VERSION:2.0
PRODID:-//Huron Shores - ECPv6.15.11//NONSGML v1.0//EN
CALSCALE:GREGORIAN
METHOD:PUBLISH
X-ORIGINAL-URL:https://huronshores.ca
X-WR-CALDESC:Events for Huron Shores
REFRESH-INTERVAL;VALUE=DURATION:PT1H
X-Robots-Tag:noindex
X-PUBLISHED-TTL:PT1H
BEGIN:VTIMEZONE
TZID:America/Toronto
BEGIN:DAYLIGHT
TZOFFSETFROM:-0500
TZOFFSETTO:-0400
TZNAME:EDT
DTSTART:20240310T070000
END:DAYLIGHT
BEGIN:STANDARD
TZOFFSETFROM:-0400
TZOFFSETTO:-0500
TZNAME:EST
DTSTART:20241103T060000
END:STANDARD
BEGIN:DAYLIGHT
TZOFFSETFROM:-0500
TZOFFSETTO:-0400
TZNAME:EDT
DTSTART:20250309T070000
END:DAYLIGHT
BEGIN:STANDARD
TZOFFSETFROM:-0400
TZOFFSETTO:-0500
TZNAME:EST
DTSTART:20251102T060000
END:STANDARD
BEGIN:DAYLIGHT
TZOFFSETFROM:-0500
TZOFFSETTO:-0400
TZNAME:EDT
DTSTART:20260308T070000
END:DAYLIGHT
BEGIN:STANDARD
TZOFFSETFROM:-0400
TZOFFSETTO:-0500
TZNAME:EST
DTSTART:20261101T060000
END:STANDARD
END:VTIMEZONE
BEGIN:VEVENT
DTSTART;TZID=America/Toronto:20250506T123000
DTEND;TZID=America/Toronto:20250506T133000
DTSTAMP:20260421T115839
CREATED:20250429T141508Z
LAST-MODIFIED:20250429T141508Z
UID:10022789-1746534600-1746538200@huronshores.ca
SUMMARY:Euchre Club
DESCRIPTION:🃏 What: Euchre Club\n📅 When: Every Tuesday\n⏰ Time: 12:30 PM – 1:30 PM\n📍 Where: Sowerby Hall \nJoin us for an evening of fun\, strategy\, and camaraderie! Whether you’re a seasoned player or new to the game\, everyone is welcome. Bring your friends or come solo – there’s always a place at our table for you. \nRefreshments will be provided. Looking forward to seeing you there!
URL:https://huronshores.ca/event/euchre-club-48/
LOCATION:Sowerby Hall\, 1410 Basswood Lake\, Thessalon\, Ontario\, P0R 1L0\, Canada
CATEGORIES:Community News,Recreation
END:VEVENT
BEGIN:VEVENT
DTSTART;TZID=America/Toronto:20250513T123000
DTEND;TZID=America/Toronto:20250513T133000
DTSTAMP:20260421T115839
CREATED:20250507T155004Z
LAST-MODIFIED:20250507T155004Z
UID:10022808-1747139400-1747143000@huronshores.ca
SUMMARY:Euchre Club
DESCRIPTION:🃏 What: Euchre Club\n📅 When: Every Tuesday\n⏰ Time: 12:30 PM – 1:30 PM\n📍 Where: Sowerby Hall \nJoin us for an evening of fun\, strategy\, and camaraderie! Whether you’re a seasoned player or new to the game\, everyone is welcome. Bring your friends or come solo – there’s always a place at our table for you. \nRefreshments will be provided. Looking forward to seeing you there!
URL:https://huronshores.ca/event/euchre-club-49/
LOCATION:Sowerby Hall\, 1410 Basswood Lake\, Thessalon\, Ontario\, P0R 1L0\, Canada
CATEGORIES:Community News,Recreation
END:VEVENT
BEGIN:VEVENT
DTSTART;TZID=America/Toronto:20250520T003000
DTEND;TZID=America/Toronto:20250520T133000
DTSTAMP:20260421T115839
CREATED:20250507T155112Z
LAST-MODIFIED:20250507T155112Z
UID:10022806-1747701000-1747747800@huronshores.ca
SUMMARY:Euchre Club
DESCRIPTION:🃏 What: Euchre Club\n📅 When: Every Tuesday\n⏰ Time: 12:30 PM – 1:30 PM\n📍 Where: Sowerby Hall \nJoin us for an evening of fun\, strategy\, and camaraderie! Whether you’re a seasoned player or new to the game\, everyone is welcome. Bring your friends or come solo – there’s always a place at our table for you. \nRefreshments will be provided. Looking forward to seeing you there!
URL:https://huronshores.ca/event/euchre-club-50/
LOCATION:Sowerby Hall\, 1410 Basswood Lake\, Thessalon\, Ontario\, P0R 1L0\, Canada
CATEGORIES:Community News,Recreation
END:VEVENT
BEGIN:VEVENT
DTSTART;TZID=America/Toronto:20250527T003000
DTEND;TZID=America/Toronto:20250527T133000
DTSTAMP:20260421T115839
CREATED:20250507T155700Z
LAST-MODIFIED:20250507T155700Z
UID:10022809-1748305800-1748352600@huronshores.ca
SUMMARY:Euchre Club
DESCRIPTION:🃏 What: Euchre Club\n📅 When: Every Tuesday\n⏰ Time: 12:30 PM – 1:30 PM\n📍 Where: Sowerby Hall \nJoin us for an evening of fun\, strategy\, and camaraderie! Whether you’re a seasoned player or new to the game\, everyone is welcome. Bring your friends or come solo – there’s always a place at our table for you. \nRefreshments will be provided. Looking forward to seeing you there!
URL:https://huronshores.ca/event/euchre-club-51/
LOCATION:Sowerby Hall\, 1410 Basswood Lake\, Thessalon\, Ontario\, P0R 1L0\, Canada
CATEGORIES:Community News,Recreation
END:VEVENT
END:VCALENDAR