BEGIN:VCALENDAR
VERSION:2.0
PRODID:-//Huron Shores - ECPv6.15.11//NONSGML v1.0//EN
CALSCALE:GREGORIAN
METHOD:PUBLISH
X-ORIGINAL-URL:https://huronshores.ca
X-WR-CALDESC:Events for Huron Shores
REFRESH-INTERVAL;VALUE=DURATION:PT1H
X-Robots-Tag:noindex
X-PUBLISHED-TTL:PT1H
BEGIN:VTIMEZONE
TZID:America/Toronto
BEGIN:DAYLIGHT
TZOFFSETFROM:-0500
TZOFFSETTO:-0400
TZNAME:EDT
DTSTART:20240310T070000
END:DAYLIGHT
BEGIN:STANDARD
TZOFFSETFROM:-0400
TZOFFSETTO:-0500
TZNAME:EST
DTSTART:20241103T060000
END:STANDARD
BEGIN:DAYLIGHT
TZOFFSETFROM:-0500
TZOFFSETTO:-0400
TZNAME:EDT
DTSTART:20250309T070000
END:DAYLIGHT
BEGIN:STANDARD
TZOFFSETFROM:-0400
TZOFFSETTO:-0500
TZNAME:EST
DTSTART:20251102T060000
END:STANDARD
BEGIN:DAYLIGHT
TZOFFSETFROM:-0500
TZOFFSETTO:-0400
TZNAME:EDT
DTSTART:20260308T070000
END:DAYLIGHT
BEGIN:STANDARD
TZOFFSETFROM:-0400
TZOFFSETTO:-0500
TZNAME:EST
DTSTART:20261101T060000
END:STANDARD
END:VTIMEZONE
BEGIN:VEVENT
DTSTART;TZID=America/Toronto:20250402T190000
DTEND;TZID=America/Toronto:20250402T200000
DTSTAMP:20260423T012509
CREATED:20180820T124008Z
LAST-MODIFIED:20180820T124008Z
UID:10020941-1743620400-1743624000@huronshores.ca
SUMMARY:Rollerblade Ball Hockey
DESCRIPTION:Begins on August 1st\, 2018 and runs every Wednesday night at 7:00 pm.  Kids of all ages welcome! Hosted by the Iron Bridge Recreation Committee. \nAdmission: $2/kid; Note: Must have knee and elbow pads and a helmet.
URL:https://huronshores.ca/event/rollerblade-ball-hockey/2025-04-02/
CATEGORIES:Recreation
END:VEVENT
BEGIN:VEVENT
DTSTART;TZID=America/Toronto:20250403T180000
DTEND;TZID=America/Toronto:20250403T190000
DTSTAMP:20260423T012509
CREATED:20180820T124956Z
LAST-MODIFIED:20180820T124956Z
UID:10021308-1743703200-1743706800@huronshores.ca
SUMMARY:Iron Bridge Recreation Family Walking Group
DESCRIPTION:Every Thursday beginning on August 9\, 2018 from 6:00-7:00 pm at the Iron Bridge Recreation Centre.  Hosted by the Iron Bridge Recreation Committee. \nFee by donation. Families are all welcomed to come! There will be toys for children to play with\, or they can join the walking group. There will be fitness tracker sheets available; a prize will be awarded for the most active participant. \nBenefits of walking:\nEvery minute of walking can extend your life by 1.5-2 minutes.\nIncreases physical activity.\nLowers obesity rates.\nLower risk of chronic diseases such as diabetes\, stroke and heart disease.\nReduces stress and depression.
URL:https://huronshores.ca/event/iron-bridge-recreation-family-walking-group/2025-04-03/
CATEGORIES:Recreation
END:VEVENT
BEGIN:VEVENT
DTSTART;TZID=America/Toronto:20250409T190000
DTEND;TZID=America/Toronto:20250409T200000
DTSTAMP:20260423T012509
CREATED:20180820T124008Z
LAST-MODIFIED:20180820T124008Z
UID:10020942-1744225200-1744228800@huronshores.ca
SUMMARY:Rollerblade Ball Hockey
DESCRIPTION:Begins on August 1st\, 2018 and runs every Wednesday night at 7:00 pm.  Kids of all ages welcome! Hosted by the Iron Bridge Recreation Committee. \nAdmission: $2/kid; Note: Must have knee and elbow pads and a helmet.
URL:https://huronshores.ca/event/rollerblade-ball-hockey/2025-04-09/
CATEGORIES:Recreation
END:VEVENT
BEGIN:VEVENT
DTSTART;TZID=America/Toronto:20250410T180000
DTEND;TZID=America/Toronto:20250410T190000
DTSTAMP:20260423T012509
CREATED:20180820T124956Z
LAST-MODIFIED:20180820T124956Z
UID:10021309-1744308000-1744311600@huronshores.ca
SUMMARY:Iron Bridge Recreation Family Walking Group
DESCRIPTION:Every Thursday beginning on August 9\, 2018 from 6:00-7:00 pm at the Iron Bridge Recreation Centre.  Hosted by the Iron Bridge Recreation Committee. \nFee by donation. Families are all welcomed to come! There will be toys for children to play with\, or they can join the walking group. There will be fitness tracker sheets available; a prize will be awarded for the most active participant. \nBenefits of walking:\nEvery minute of walking can extend your life by 1.5-2 minutes.\nIncreases physical activity.\nLowers obesity rates.\nLower risk of chronic diseases such as diabetes\, stroke and heart disease.\nReduces stress and depression.
URL:https://huronshores.ca/event/iron-bridge-recreation-family-walking-group/2025-04-10/
CATEGORIES:Recreation
END:VEVENT
BEGIN:VEVENT
DTSTART;TZID=America/Toronto:20250416T190000
DTEND;TZID=America/Toronto:20250416T200000
DTSTAMP:20260423T012509
CREATED:20180820T124008Z
LAST-MODIFIED:20180820T124008Z
UID:10020943-1744830000-1744833600@huronshores.ca
SUMMARY:Rollerblade Ball Hockey
DESCRIPTION:Begins on August 1st\, 2018 and runs every Wednesday night at 7:00 pm.  Kids of all ages welcome! Hosted by the Iron Bridge Recreation Committee. \nAdmission: $2/kid; Note: Must have knee and elbow pads and a helmet.
URL:https://huronshores.ca/event/rollerblade-ball-hockey/2025-04-16/
CATEGORIES:Recreation
END:VEVENT
BEGIN:VEVENT
DTSTART;TZID=America/Toronto:20250417T180000
DTEND;TZID=America/Toronto:20250417T190000
DTSTAMP:20260423T012509
CREATED:20180820T124956Z
LAST-MODIFIED:20180820T124956Z
UID:10021310-1744912800-1744916400@huronshores.ca
SUMMARY:Iron Bridge Recreation Family Walking Group
DESCRIPTION:Every Thursday beginning on August 9\, 2018 from 6:00-7:00 pm at the Iron Bridge Recreation Centre.  Hosted by the Iron Bridge Recreation Committee. \nFee by donation. Families are all welcomed to come! There will be toys for children to play with\, or they can join the walking group. There will be fitness tracker sheets available; a prize will be awarded for the most active participant. \nBenefits of walking:\nEvery minute of walking can extend your life by 1.5-2 minutes.\nIncreases physical activity.\nLowers obesity rates.\nLower risk of chronic diseases such as diabetes\, stroke and heart disease.\nReduces stress and depression.
URL:https://huronshores.ca/event/iron-bridge-recreation-family-walking-group/2025-04-17/
CATEGORIES:Recreation
END:VEVENT
BEGIN:VEVENT
DTSTART;TZID=America/Toronto:20250423T190000
DTEND;TZID=America/Toronto:20250423T200000
DTSTAMP:20260423T012509
CREATED:20180820T124008Z
LAST-MODIFIED:20180820T124008Z
UID:10020944-1745434800-1745438400@huronshores.ca
SUMMARY:Rollerblade Ball Hockey
DESCRIPTION:Begins on August 1st\, 2018 and runs every Wednesday night at 7:00 pm.  Kids of all ages welcome! Hosted by the Iron Bridge Recreation Committee. \nAdmission: $2/kid; Note: Must have knee and elbow pads and a helmet.
URL:https://huronshores.ca/event/rollerblade-ball-hockey/2025-04-23/
CATEGORIES:Recreation
END:VEVENT
BEGIN:VEVENT
DTSTART;TZID=America/Toronto:20250424T180000
DTEND;TZID=America/Toronto:20250424T190000
DTSTAMP:20260423T012509
CREATED:20180820T124956Z
LAST-MODIFIED:20180820T124956Z
UID:10021311-1745517600-1745521200@huronshores.ca
SUMMARY:Iron Bridge Recreation Family Walking Group
DESCRIPTION:Every Thursday beginning on August 9\, 2018 from 6:00-7:00 pm at the Iron Bridge Recreation Centre.  Hosted by the Iron Bridge Recreation Committee. \nFee by donation. Families are all welcomed to come! There will be toys for children to play with\, or they can join the walking group. There will be fitness tracker sheets available; a prize will be awarded for the most active participant. \nBenefits of walking:\nEvery minute of walking can extend your life by 1.5-2 minutes.\nIncreases physical activity.\nLowers obesity rates.\nLower risk of chronic diseases such as diabetes\, stroke and heart disease.\nReduces stress and depression.
URL:https://huronshores.ca/event/iron-bridge-recreation-family-walking-group/2025-04-24/
CATEGORIES:Recreation
END:VEVENT
BEGIN:VEVENT
DTSTART;TZID=America/Toronto:20250430T190000
DTEND;TZID=America/Toronto:20250430T200000
DTSTAMP:20260423T012509
CREATED:20180820T124008Z
LAST-MODIFIED:20180820T124008Z
UID:10020945-1746039600-1746043200@huronshores.ca
SUMMARY:Rollerblade Ball Hockey
DESCRIPTION:Begins on August 1st\, 2018 and runs every Wednesday night at 7:00 pm.  Kids of all ages welcome! Hosted by the Iron Bridge Recreation Committee. \nAdmission: $2/kid; Note: Must have knee and elbow pads and a helmet.
URL:https://huronshores.ca/event/rollerblade-ball-hockey/2025-04-30/
CATEGORIES:Recreation
END:VEVENT
END:VCALENDAR