BEGIN:VCALENDAR
VERSION:2.0
PRODID:-//Huron Shores - ECPv6.15.11//NONSGML v1.0//EN
CALSCALE:GREGORIAN
METHOD:PUBLISH
X-WR-CALNAME:Huron Shores
X-ORIGINAL-URL:https://huronshores.ca
X-WR-CALDESC:Events for Huron Shores
REFRESH-INTERVAL;VALUE=DURATION:PT1H
X-Robots-Tag:noindex
X-PUBLISHED-TTL:PT1H
BEGIN:VTIMEZONE
TZID:America/Toronto
BEGIN:DAYLIGHT
TZOFFSETFROM:-0500
TZOFFSETTO:-0400
TZNAME:EDT
DTSTART:20240310T070000
END:DAYLIGHT
BEGIN:STANDARD
TZOFFSETFROM:-0400
TZOFFSETTO:-0500
TZNAME:EST
DTSTART:20241103T060000
END:STANDARD
BEGIN:DAYLIGHT
TZOFFSETFROM:-0500
TZOFFSETTO:-0400
TZNAME:EDT
DTSTART:20250309T070000
END:DAYLIGHT
BEGIN:STANDARD
TZOFFSETFROM:-0400
TZOFFSETTO:-0500
TZNAME:EST
DTSTART:20251102T060000
END:STANDARD
BEGIN:DAYLIGHT
TZOFFSETFROM:-0500
TZOFFSETTO:-0400
TZNAME:EDT
DTSTART:20260308T070000
END:DAYLIGHT
BEGIN:STANDARD
TZOFFSETFROM:-0400
TZOFFSETTO:-0500
TZNAME:EST
DTSTART:20261101T060000
END:STANDARD
END:VTIMEZONE
BEGIN:VEVENT
DTSTART;TZID=America/Toronto:20250914T123000
DTEND;TZID=America/Toronto:20250914T143000
DTSTAMP:20260422T083038
CREATED:20250910T190537Z
LAST-MODIFIED:20250910T190537Z
UID:10023717-1757853000-1757860200@huronshores.ca
SUMMARY:Terry Fox Run
DESCRIPTION:Join the Terry Fox Run on Sunday\, September 14 as we come together to celebrate the legacy of Terry Fox and raise funds for cancer research. \n\n\n Date: Sunday\, September 14\n Location: Peace Park Thessalon\n Time: Registration begins at 12:30 p.m.\n\n\n\nBring your family\, friends\, and community spirit — walk\, run\, or bike at your own pace. There are 5K and 10K routes marked. Every step makes a difference! \n\n\n\nNo entry fee\nNo minimum pledge\nDonations gratefully accepted\nBBQ following.\n\n\n\nLet’s make this year’s Terry Fox Run in Thessalon one to remember. Together\, we can keep Terry’s dream alive. 
URL:https://huronshores.ca/event/terry-fox-run/
LOCATION:Thessalon Peace Park\, 14 Water Street\, Thessalon\, ON\, P0R 1L0\, Canada
CATEGORIES:Community News,Recreation
END:VEVENT
END:VCALENDAR