BEGIN:VCALENDAR
VERSION:2.0
PRODID:-//Huron Shores - ECPv6.15.11//NONSGML v1.0//EN
CALSCALE:GREGORIAN
METHOD:PUBLISH
X-ORIGINAL-URL:https://huronshores.ca
X-WR-CALDESC:Events for Huron Shores
REFRESH-INTERVAL;VALUE=DURATION:PT1H
X-Robots-Tag:noindex
X-PUBLISHED-TTL:PT1H
BEGIN:VTIMEZONE
TZID:America/Toronto
BEGIN:DAYLIGHT
TZOFFSETFROM:-0500
TZOFFSETTO:-0400
TZNAME:EDT
DTSTART:20170312T070000
END:DAYLIGHT
BEGIN:STANDARD
TZOFFSETFROM:-0400
TZOFFSETTO:-0500
TZNAME:EST
DTSTART:20171105T060000
END:STANDARD
BEGIN:DAYLIGHT
TZOFFSETFROM:-0500
TZOFFSETTO:-0400
TZNAME:EDT
DTSTART:20180311T070000
END:DAYLIGHT
BEGIN:STANDARD
TZOFFSETFROM:-0400
TZOFFSETTO:-0500
TZNAME:EST
DTSTART:20181104T060000
END:STANDARD
BEGIN:DAYLIGHT
TZOFFSETFROM:-0500
TZOFFSETTO:-0400
TZNAME:EDT
DTSTART:20190310T070000
END:DAYLIGHT
BEGIN:STANDARD
TZOFFSETFROM:-0400
TZOFFSETTO:-0500
TZNAME:EST
DTSTART:20191103T060000
END:STANDARD
END:VTIMEZONE
BEGIN:VEVENT
DTSTART;TZID=America/Toronto:20180321T190000
DTEND;TZID=America/Toronto:20180321T190000
DTSTAMP:20260424T125741
CREATED:20171129T165346Z
LAST-MODIFIED:20171129T165346Z
UID:10020402-1521658800-1521658800@huronshores.ca
SUMMARY:Regular Meeting of Council
DESCRIPTION:The Regular Meeting of Council will convene at 7:00 p.m. in the Council Chambers\, 7 Bridge Street\, Iron Bridge.  The Agenda is posted at the Municipal Office the Monday prior unless that day is a holiday.  It would then be posted on the Tuesday.  Council Meetings are scheduled as follows:  March 21\, April 11\, May 2 and May 23\, to be further reviewed at the May 23rd Meeting.  Periodically Special Meetings are called in order to deliberate a specific matter.  As per the Municipal Act\, all Council Meetings are conducted in public.  Members of the public are able to observe the proceedings from the gallery.  If you wish to address Council directly with respect to a specific matter or concern\, please contact the Municipal Office by the Friday prior in order to be included as a Delegation on the Meeting Agenda.  Please click on the link below to learn more about Delegations and Deputations.
URL:https://huronshores.ca/event/regular-meeting-council-3-2018-03-28/2018-03-21/
CATEGORIES:Council Meeting
ATTACH;FMTTYPE=:
END:VEVENT
BEGIN:VEVENT
DTSTART;TZID=America/Toronto:20180329T083000
DTEND;TZID=America/Toronto:20180329T163000
DTSTAMP:20260424T125741
CREATED:20171129T192946Z
LAST-MODIFIED:20171129T192946Z
UID:10019942-1522312200-1522341000@huronshores.ca
SUMMARY:2018 Interim Tax 1st Installment Due
DESCRIPTION:The 1st Installment of the 2018 Interim Property Tax Billing is due today by close of business at 4:30 p.m.  Please visit the Treasury Department page via the link below for payment method details.  Interim Tax Installments are due the last business days of March and May.
URL:https://huronshores.ca/event/2018-interim-tax-1st-installment-due/
CATEGORIES:Treasury
ATTACH;FMTTYPE=:
END:VEVENT
END:VCALENDAR