BEGIN:VCALENDAR
VERSION:2.0
PRODID:-//Huron Shores - ECPv6.15.11//NONSGML v1.0//EN
CALSCALE:GREGORIAN
METHOD:PUBLISH
X-ORIGINAL-URL:https://huronshores.ca
X-WR-CALDESC:Events for Huron Shores
REFRESH-INTERVAL;VALUE=DURATION:PT1H
X-Robots-Tag:noindex
X-PUBLISHED-TTL:PT1H
BEGIN:VTIMEZONE
TZID:America/Toronto
BEGIN:DAYLIGHT
TZOFFSETFROM:-0500
TZOFFSETTO:-0400
TZNAME:EDT
DTSTART:20210314T070000
END:DAYLIGHT
BEGIN:STANDARD
TZOFFSETFROM:-0400
TZOFFSETTO:-0500
TZNAME:EST
DTSTART:20211107T060000
END:STANDARD
BEGIN:DAYLIGHT
TZOFFSETFROM:-0500
TZOFFSETTO:-0400
TZNAME:EDT
DTSTART:20220313T070000
END:DAYLIGHT
BEGIN:STANDARD
TZOFFSETFROM:-0400
TZOFFSETTO:-0500
TZNAME:EST
DTSTART:20221106T060000
END:STANDARD
BEGIN:DAYLIGHT
TZOFFSETFROM:-0500
TZOFFSETTO:-0400
TZNAME:EDT
DTSTART:20230312T070000
END:DAYLIGHT
BEGIN:STANDARD
TZOFFSETFROM:-0400
TZOFFSETTO:-0500
TZNAME:EST
DTSTART:20231105T060000
END:STANDARD
END:VTIMEZONE
BEGIN:VEVENT
DTSTART;TZID=America/Toronto:20220302T190000
DTEND;TZID=America/Toronto:20220302T200000
DTSTAMP:20260425T204128
CREATED:20180820T124008Z
LAST-MODIFIED:20180820T124008Z
UID:10020779-1646247600-1646251200@huronshores.ca
SUMMARY:Rollerblade Ball Hockey
DESCRIPTION:Begins on August 1st\, 2018 and runs every Wednesday night at 7:00 pm.  Kids of all ages welcome! Hosted by the Iron Bridge Recreation Committee. \nAdmission: $2/kid; Note: Must have knee and elbow pads and a helmet.
URL:https://huronshores.ca/event/rollerblade-ball-hockey/2022-03-02/
CATEGORIES:Recreation
END:VEVENT
BEGIN:VEVENT
DTSTART;TZID=America/Toronto:20220309T190000
DTEND;TZID=America/Toronto:20220309T200000
DTSTAMP:20260425T204128
CREATED:20180820T124008Z
LAST-MODIFIED:20180820T124008Z
UID:10020780-1646852400-1646856000@huronshores.ca
SUMMARY:Rollerblade Ball Hockey
DESCRIPTION:Begins on August 1st\, 2018 and runs every Wednesday night at 7:00 pm.  Kids of all ages welcome! Hosted by the Iron Bridge Recreation Committee. \nAdmission: $2/kid; Note: Must have knee and elbow pads and a helmet.
URL:https://huronshores.ca/event/rollerblade-ball-hockey/2022-03-09/
CATEGORIES:Recreation
END:VEVENT
BEGIN:VEVENT
DTSTART;TZID=America/Toronto:20220316T190000
DTEND;TZID=America/Toronto:20220316T200000
DTSTAMP:20260425T204128
CREATED:20180820T124008Z
LAST-MODIFIED:20180820T124008Z
UID:10020781-1647457200-1647460800@huronshores.ca
SUMMARY:Rollerblade Ball Hockey
DESCRIPTION:Begins on August 1st\, 2018 and runs every Wednesday night at 7:00 pm.  Kids of all ages welcome! Hosted by the Iron Bridge Recreation Committee. \nAdmission: $2/kid; Note: Must have knee and elbow pads and a helmet.
URL:https://huronshores.ca/event/rollerblade-ball-hockey/2022-03-16/
CATEGORIES:Recreation
END:VEVENT
BEGIN:VEVENT
DTSTART;TZID=America/Toronto:20220323T190000
DTEND;TZID=America/Toronto:20220323T200000
DTSTAMP:20260425T204128
CREATED:20180820T124008Z
LAST-MODIFIED:20180820T124008Z
UID:10020782-1648062000-1648065600@huronshores.ca
SUMMARY:Rollerblade Ball Hockey
DESCRIPTION:Begins on August 1st\, 2018 and runs every Wednesday night at 7:00 pm.  Kids of all ages welcome! Hosted by the Iron Bridge Recreation Committee. \nAdmission: $2/kid; Note: Must have knee and elbow pads and a helmet.
URL:https://huronshores.ca/event/rollerblade-ball-hockey/2022-03-23/
CATEGORIES:Recreation
END:VEVENT
BEGIN:VEVENT
DTSTART;TZID=America/Toronto:20220330T190000
DTEND;TZID=America/Toronto:20220330T200000
DTSTAMP:20260425T204128
CREATED:20180820T124008Z
LAST-MODIFIED:20180820T124008Z
UID:10020783-1648666800-1648670400@huronshores.ca
SUMMARY:Rollerblade Ball Hockey
DESCRIPTION:Begins on August 1st\, 2018 and runs every Wednesday night at 7:00 pm.  Kids of all ages welcome! Hosted by the Iron Bridge Recreation Committee. \nAdmission: $2/kid; Note: Must have knee and elbow pads and a helmet.
URL:https://huronshores.ca/event/rollerblade-ball-hockey/2022-03-30/
CATEGORIES:Recreation
END:VEVENT
END:VCALENDAR