BEGIN:VCALENDAR
VERSION:2.0
PRODID:-//Huron Shores - ECPv6.15.11//NONSGML v1.0//EN
CALSCALE:GREGORIAN
METHOD:PUBLISH
X-WR-CALNAME:Huron Shores
X-ORIGINAL-URL:https://huronshores.ca
X-WR-CALDESC:Events for Huron Shores
REFRESH-INTERVAL;VALUE=DURATION:PT1H
X-Robots-Tag:noindex
X-PUBLISHED-TTL:PT1H
BEGIN:VTIMEZONE
TZID:America/Toronto
BEGIN:DAYLIGHT
TZOFFSETFROM:-0500
TZOFFSETTO:-0400
TZNAME:EDT
DTSTART:20220313T070000
END:DAYLIGHT
BEGIN:STANDARD
TZOFFSETFROM:-0400
TZOFFSETTO:-0500
TZNAME:EST
DTSTART:20221106T060000
END:STANDARD
BEGIN:DAYLIGHT
TZOFFSETFROM:-0500
TZOFFSETTO:-0400
TZNAME:EDT
DTSTART:20230312T070000
END:DAYLIGHT
BEGIN:STANDARD
TZOFFSETFROM:-0400
TZOFFSETTO:-0500
TZNAME:EST
DTSTART:20231105T060000
END:STANDARD
BEGIN:DAYLIGHT
TZOFFSETFROM:-0500
TZOFFSETTO:-0400
TZNAME:EDT
DTSTART:20240310T070000
END:DAYLIGHT
BEGIN:STANDARD
TZOFFSETFROM:-0400
TZOFFSETTO:-0500
TZNAME:EST
DTSTART:20241103T060000
END:STANDARD
END:VTIMEZONE
BEGIN:VEVENT
DTSTART;TZID=America/Toronto:20230301T190000
DTEND;TZID=America/Toronto:20230301T200000
DTSTAMP:20260424T230753
CREATED:20180820T124008Z
LAST-MODIFIED:20180820T124008Z
UID:10020832-1677697200-1677700800@huronshores.ca
SUMMARY:Rollerblade Ball Hockey
DESCRIPTION:Begins on August 1st\, 2018 and runs every Wednesday night at 7:00 pm.  Kids of all ages welcome! Hosted by the Iron Bridge Recreation Committee. \nAdmission: $2/kid; Note: Must have knee and elbow pads and a helmet.
URL:https://huronshores.ca/event/rollerblade-ball-hockey/2023-03-01/
CATEGORIES:Recreation
END:VEVENT
BEGIN:VEVENT
DTSTART;TZID=America/Toronto:20230308T190000
DTEND;TZID=America/Toronto:20230308T200000
DTSTAMP:20260424T230753
CREATED:20180820T124008Z
LAST-MODIFIED:20180820T124008Z
UID:10020833-1678302000-1678305600@huronshores.ca
SUMMARY:Rollerblade Ball Hockey
DESCRIPTION:Begins on August 1st\, 2018 and runs every Wednesday night at 7:00 pm.  Kids of all ages welcome! Hosted by the Iron Bridge Recreation Committee. \nAdmission: $2/kid; Note: Must have knee and elbow pads and a helmet.
URL:https://huronshores.ca/event/rollerblade-ball-hockey/2023-03-08/
CATEGORIES:Recreation
END:VEVENT
BEGIN:VEVENT
DTSTART;TZID=America/Toronto:20230315T190000
DTEND;TZID=America/Toronto:20230315T200000
DTSTAMP:20260424T230753
CREATED:20180820T124008Z
LAST-MODIFIED:20180820T124008Z
UID:10020834-1678906800-1678910400@huronshores.ca
SUMMARY:Rollerblade Ball Hockey
DESCRIPTION:Begins on August 1st\, 2018 and runs every Wednesday night at 7:00 pm.  Kids of all ages welcome! Hosted by the Iron Bridge Recreation Committee. \nAdmission: $2/kid; Note: Must have knee and elbow pads and a helmet.
URL:https://huronshores.ca/event/rollerblade-ball-hockey/2023-03-15/
CATEGORIES:Recreation
END:VEVENT
BEGIN:VEVENT
DTSTART;TZID=America/Toronto:20230322T190000
DTEND;TZID=America/Toronto:20230322T200000
DTSTAMP:20260424T230753
CREATED:20180820T124008Z
LAST-MODIFIED:20180820T124008Z
UID:10020835-1679511600-1679515200@huronshores.ca
SUMMARY:Rollerblade Ball Hockey
DESCRIPTION:Begins on August 1st\, 2018 and runs every Wednesday night at 7:00 pm.  Kids of all ages welcome! Hosted by the Iron Bridge Recreation Committee. \nAdmission: $2/kid; Note: Must have knee and elbow pads and a helmet.
URL:https://huronshores.ca/event/rollerblade-ball-hockey/2023-03-22/
CATEGORIES:Recreation
END:VEVENT
BEGIN:VEVENT
DTSTART;TZID=America/Toronto:20230329T190000
DTEND;TZID=America/Toronto:20230329T200000
DTSTAMP:20260424T230753
CREATED:20180820T124008Z
LAST-MODIFIED:20180820T124008Z
UID:10020836-1680116400-1680120000@huronshores.ca
SUMMARY:Rollerblade Ball Hockey
DESCRIPTION:Begins on August 1st\, 2018 and runs every Wednesday night at 7:00 pm.  Kids of all ages welcome! Hosted by the Iron Bridge Recreation Committee. \nAdmission: $2/kid; Note: Must have knee and elbow pads and a helmet.
URL:https://huronshores.ca/event/rollerblade-ball-hockey/2023-03-29/
CATEGORIES:Recreation
END:VEVENT
END:VCALENDAR