BEGIN:VCALENDAR
VERSION:2.0
PRODID:-//Huron Shores - ECPv6.15.11//NONSGML v1.0//EN
CALSCALE:GREGORIAN
METHOD:PUBLISH
X-WR-CALNAME:Huron Shores
X-ORIGINAL-URL:https://huronshores.ca
X-WR-CALDESC:Events for Huron Shores
REFRESH-INTERVAL;VALUE=DURATION:PT1H
X-Robots-Tag:noindex
X-PUBLISHED-TTL:PT1H
BEGIN:VTIMEZONE
TZID:America/Toronto
BEGIN:DAYLIGHT
TZOFFSETFROM:-0500
TZOFFSETTO:-0400
TZNAME:EDT
DTSTART:20230312T070000
END:DAYLIGHT
BEGIN:STANDARD
TZOFFSETFROM:-0400
TZOFFSETTO:-0500
TZNAME:EST
DTSTART:20231105T060000
END:STANDARD
BEGIN:DAYLIGHT
TZOFFSETFROM:-0500
TZOFFSETTO:-0400
TZNAME:EDT
DTSTART:20240310T070000
END:DAYLIGHT
BEGIN:STANDARD
TZOFFSETFROM:-0400
TZOFFSETTO:-0500
TZNAME:EST
DTSTART:20241103T060000
END:STANDARD
BEGIN:DAYLIGHT
TZOFFSETFROM:-0500
TZOFFSETTO:-0400
TZNAME:EDT
DTSTART:20250309T070000
END:DAYLIGHT
BEGIN:STANDARD
TZOFFSETFROM:-0400
TZOFFSETTO:-0500
TZNAME:EST
DTSTART:20251102T060000
END:STANDARD
END:VTIMEZONE
BEGIN:VEVENT
DTSTART;TZID=America/Toronto:20240207T190000
DTEND;TZID=America/Toronto:20240207T200000
DTSTAMP:20260424T004509
CREATED:20180820T124008Z
LAST-MODIFIED:20180820T124008Z
UID:10020881-1707332400-1707336000@huronshores.ca
SUMMARY:Rollerblade Ball Hockey
DESCRIPTION:Begins on August 1st\, 2018 and runs every Wednesday night at 7:00 pm.  Kids of all ages welcome! Hosted by the Iron Bridge Recreation Committee. \nAdmission: $2/kid; Note: Must have knee and elbow pads and a helmet.
URL:https://huronshores.ca/event/rollerblade-ball-hockey/2024-02-07/
CATEGORIES:Recreation
END:VEVENT
BEGIN:VEVENT
DTSTART;TZID=America/Toronto:20240214T190000
DTEND;TZID=America/Toronto:20240214T200000
DTSTAMP:20260424T004509
CREATED:20180820T124008Z
LAST-MODIFIED:20180820T124008Z
UID:10020882-1707937200-1707940800@huronshores.ca
SUMMARY:Rollerblade Ball Hockey
DESCRIPTION:Begins on August 1st\, 2018 and runs every Wednesday night at 7:00 pm.  Kids of all ages welcome! Hosted by the Iron Bridge Recreation Committee. \nAdmission: $2/kid; Note: Must have knee and elbow pads and a helmet.
URL:https://huronshores.ca/event/rollerblade-ball-hockey/2024-02-14/
CATEGORIES:Recreation
END:VEVENT
BEGIN:VEVENT
DTSTART;TZID=America/Toronto:20240221T190000
DTEND;TZID=America/Toronto:20240221T200000
DTSTAMP:20260424T004509
CREATED:20180820T124008Z
LAST-MODIFIED:20180820T124008Z
UID:10020883-1708542000-1708545600@huronshores.ca
SUMMARY:Rollerblade Ball Hockey
DESCRIPTION:Begins on August 1st\, 2018 and runs every Wednesday night at 7:00 pm.  Kids of all ages welcome! Hosted by the Iron Bridge Recreation Committee. \nAdmission: $2/kid; Note: Must have knee and elbow pads and a helmet.
URL:https://huronshores.ca/event/rollerblade-ball-hockey/2024-02-21/
CATEGORIES:Recreation
END:VEVENT
BEGIN:VEVENT
DTSTART;TZID=America/Toronto:20240228T190000
DTEND;TZID=America/Toronto:20240228T200000
DTSTAMP:20260424T004509
CREATED:20180820T124008Z
LAST-MODIFIED:20180820T124008Z
UID:10020884-1709146800-1709150400@huronshores.ca
SUMMARY:Rollerblade Ball Hockey
DESCRIPTION:Begins on August 1st\, 2018 and runs every Wednesday night at 7:00 pm.  Kids of all ages welcome! Hosted by the Iron Bridge Recreation Committee. \nAdmission: $2/kid; Note: Must have knee and elbow pads and a helmet.
URL:https://huronshores.ca/event/rollerblade-ball-hockey/2024-02-28/
CATEGORIES:Recreation
END:VEVENT
END:VCALENDAR