BEGIN:VCALENDAR
VERSION:2.0
PRODID:-//Huron Shores - ECPv6.15.11//NONSGML v1.0//EN
CALSCALE:GREGORIAN
METHOD:PUBLISH
X-ORIGINAL-URL:https://huronshores.ca
X-WR-CALDESC:Events for Huron Shores
REFRESH-INTERVAL;VALUE=DURATION:PT1H
X-Robots-Tag:noindex
X-PUBLISHED-TTL:PT1H
BEGIN:VTIMEZONE
TZID:America/Toronto
BEGIN:DAYLIGHT
TZOFFSETFROM:-0500
TZOFFSETTO:-0400
TZNAME:EDT
DTSTART:20230312T070000
END:DAYLIGHT
BEGIN:STANDARD
TZOFFSETFROM:-0400
TZOFFSETTO:-0500
TZNAME:EST
DTSTART:20231105T060000
END:STANDARD
BEGIN:DAYLIGHT
TZOFFSETFROM:-0500
TZOFFSETTO:-0400
TZNAME:EDT
DTSTART:20240310T070000
END:DAYLIGHT
BEGIN:STANDARD
TZOFFSETFROM:-0400
TZOFFSETTO:-0500
TZNAME:EST
DTSTART:20241103T060000
END:STANDARD
BEGIN:DAYLIGHT
TZOFFSETFROM:-0500
TZOFFSETTO:-0400
TZNAME:EDT
DTSTART:20250309T070000
END:DAYLIGHT
BEGIN:STANDARD
TZOFFSETFROM:-0400
TZOFFSETTO:-0500
TZNAME:EST
DTSTART:20251102T060000
END:STANDARD
END:VTIMEZONE
BEGIN:VEVENT
DTSTART;TZID=America/Toronto:20240403T190000
DTEND;TZID=America/Toronto:20240403T200000
DTSTAMP:20260423T210749
CREATED:20180820T124008Z
LAST-MODIFIED:20180820T124008Z
UID:10020889-1712170800-1712174400@huronshores.ca
SUMMARY:Rollerblade Ball Hockey
DESCRIPTION:Begins on August 1st\, 2018 and runs every Wednesday night at 7:00 pm.  Kids of all ages welcome! Hosted by the Iron Bridge Recreation Committee. \nAdmission: $2/kid; Note: Must have knee and elbow pads and a helmet.
URL:https://huronshores.ca/event/rollerblade-ball-hockey/2024-04-03/
CATEGORIES:Recreation
END:VEVENT
BEGIN:VEVENT
DTSTART;TZID=America/Toronto:20240410T190000
DTEND;TZID=America/Toronto:20240410T200000
DTSTAMP:20260423T210749
CREATED:20180820T124008Z
LAST-MODIFIED:20180820T124008Z
UID:10020890-1712775600-1712779200@huronshores.ca
SUMMARY:Rollerblade Ball Hockey
DESCRIPTION:Begins on August 1st\, 2018 and runs every Wednesday night at 7:00 pm.  Kids of all ages welcome! Hosted by the Iron Bridge Recreation Committee. \nAdmission: $2/kid; Note: Must have knee and elbow pads and a helmet.
URL:https://huronshores.ca/event/rollerblade-ball-hockey/2024-04-10/
CATEGORIES:Recreation
END:VEVENT
BEGIN:VEVENT
DTSTART;TZID=America/Toronto:20240417T190000
DTEND;TZID=America/Toronto:20240417T200000
DTSTAMP:20260423T210749
CREATED:20180820T124008Z
LAST-MODIFIED:20180820T124008Z
UID:10020891-1713380400-1713384000@huronshores.ca
SUMMARY:Rollerblade Ball Hockey
DESCRIPTION:Begins on August 1st\, 2018 and runs every Wednesday night at 7:00 pm.  Kids of all ages welcome! Hosted by the Iron Bridge Recreation Committee. \nAdmission: $2/kid; Note: Must have knee and elbow pads and a helmet.
URL:https://huronshores.ca/event/rollerblade-ball-hockey/2024-04-17/
CATEGORIES:Recreation
END:VEVENT
BEGIN:VEVENT
DTSTART;TZID=America/Toronto:20240424T190000
DTEND;TZID=America/Toronto:20240424T200000
DTSTAMP:20260423T210749
CREATED:20180820T124008Z
LAST-MODIFIED:20180820T124008Z
UID:10020892-1713985200-1713988800@huronshores.ca
SUMMARY:Rollerblade Ball Hockey
DESCRIPTION:Begins on August 1st\, 2018 and runs every Wednesday night at 7:00 pm.  Kids of all ages welcome! Hosted by the Iron Bridge Recreation Committee. \nAdmission: $2/kid; Note: Must have knee and elbow pads and a helmet.
URL:https://huronshores.ca/event/rollerblade-ball-hockey/2024-04-24/
CATEGORIES:Recreation
END:VEVENT
END:VCALENDAR