BEGIN:VCALENDAR
VERSION:2.0
PRODID:-//Huron Shores - ECPv6.15.11//NONSGML v1.0//EN
CALSCALE:GREGORIAN
METHOD:PUBLISH
X-WR-CALNAME:Huron Shores
X-ORIGINAL-URL:https://huronshores.ca
X-WR-CALDESC:Events for Huron Shores
REFRESH-INTERVAL;VALUE=DURATION:PT1H
X-Robots-Tag:noindex
X-PUBLISHED-TTL:PT1H
BEGIN:VTIMEZONE
TZID:America/Toronto
BEGIN:DAYLIGHT
TZOFFSETFROM:-0500
TZOFFSETTO:-0400
TZNAME:EDT
DTSTART:20230312T070000
END:DAYLIGHT
BEGIN:STANDARD
TZOFFSETFROM:-0400
TZOFFSETTO:-0500
TZNAME:EST
DTSTART:20231105T060000
END:STANDARD
BEGIN:DAYLIGHT
TZOFFSETFROM:-0500
TZOFFSETTO:-0400
TZNAME:EDT
DTSTART:20240310T070000
END:DAYLIGHT
BEGIN:STANDARD
TZOFFSETFROM:-0400
TZOFFSETTO:-0500
TZNAME:EST
DTSTART:20241103T060000
END:STANDARD
BEGIN:DAYLIGHT
TZOFFSETFROM:-0500
TZOFFSETTO:-0400
TZNAME:EDT
DTSTART:20250309T070000
END:DAYLIGHT
BEGIN:STANDARD
TZOFFSETFROM:-0400
TZOFFSETTO:-0500
TZNAME:EST
DTSTART:20251102T060000
END:STANDARD
END:VTIMEZONE
BEGIN:VEVENT
DTSTART;TZID=America/Toronto:20240501T163000
DTEND;TZID=America/Toronto:20240501T190000
DTSTAMP:20260422T050113
CREATED:20240328T193038Z
LAST-MODIFIED:20240328T193038Z
UID:10021407-1714581000-1714590000@huronshores.ca
SUMMARY:Spaghetti Dinner
DESCRIPTION:The Iron Bridge Lions Club is hosting a monthly Spaghetti Dinner. Bring the whole family for some delicious food and delightful conversation with neighbors and friends. To reserve your plate please phone 705-843-2208 or 705-208-1148; reservations are not required but appreciated.\n\nDinner includes:\n\n\n\nSpaghetti\nGarlic Bread\nSalad\nIce Cream\nTea & Coffee\n\nCost: \nAdults – $15.00\nChildren between 6-9 – $8.00\nChildren 5 and under – free
URL:https://huronshores.ca/event/spaghetti-dinner-6/
LOCATION:Iron Bridge Lions Hall\, 10 Clarissa Street\, Iron Bridge\, Ontario\, P0R 1H0\, Canada
CATEGORIES:Community News
ORGANIZER;CN="Iron Bridge Lions Club":MAILTO:ironbridgelions@yahoo.ca
END:VEVENT
END:VCALENDAR