BEGIN:VCALENDAR
VERSION:2.0
PRODID:-//Huron Shores - ECPv6.15.11//NONSGML v1.0//EN
CALSCALE:GREGORIAN
METHOD:PUBLISH
X-ORIGINAL-URL:https://huronshores.ca
X-WR-CALDESC:Events for Huron Shores
REFRESH-INTERVAL;VALUE=DURATION:PT1H
X-Robots-Tag:noindex
X-PUBLISHED-TTL:PT1H
BEGIN:VTIMEZONE
TZID:America/Toronto
BEGIN:DAYLIGHT
TZOFFSETFROM:-0500
TZOFFSETTO:-0400
TZNAME:EDT
DTSTART:20250309T070000
END:DAYLIGHT
BEGIN:STANDARD
TZOFFSETFROM:-0400
TZOFFSETTO:-0500
TZNAME:EST
DTSTART:20251102T060000
END:STANDARD
BEGIN:DAYLIGHT
TZOFFSETFROM:-0500
TZOFFSETTO:-0400
TZNAME:EDT
DTSTART:20260308T070000
END:DAYLIGHT
BEGIN:STANDARD
TZOFFSETFROM:-0400
TZOFFSETTO:-0500
TZNAME:EST
DTSTART:20261101T060000
END:STANDARD
BEGIN:DAYLIGHT
TZOFFSETFROM:-0500
TZOFFSETTO:-0400
TZNAME:EDT
DTSTART:20270314T070000
END:DAYLIGHT
BEGIN:STANDARD
TZOFFSETFROM:-0400
TZOFFSETTO:-0500
TZNAME:EST
DTSTART:20271107T060000
END:STANDARD
END:VTIMEZONE
BEGIN:VEVENT
DTSTART;TZID=America/Toronto:20260515T193000
DTEND;TZID=America/Toronto:20260515T210000
DTSTAMP:20260419T211220
CREATED:20260331T154441Z
LAST-MODIFIED:20260331T154441Z
UID:10024753-1778873400-1778878800@huronshores.ca
SUMMARY:Live Music with The Pictones 🎶
DESCRIPTION:Get ready for an evening of great Canadian tunes with The Pictones! This lively acoustic duo blends banjo\, accordion\, guitar\, and more for a fun and energetic performance you won’t want to miss. \n📅 Friday\, May 15🕢 7:30 PM📍 Blind River Curling Club \nFeaturing talented musicians Tom Leighton and Mark Despault\, this show promises a mix of toe-tapping music\, storytelling\, and good vibes all around. \n💲 Admission: $20🎟️ Advance tickets ($15) available at A Barrel of Goodies \nCome out for a night of music\, laughter\, and great company! 🎵
URL:https://huronshores.ca/event/live-music-with-the-pictones-%f0%9f%8e%b6/
LOCATION:Blind River Curling Club\, 45 Centre St\, Blind River\, ON\, P0R 1B0\, Canada
CATEGORIES:Community News,Recreation
END:VEVENT
END:VCALENDAR