BEGIN:VCALENDAR
VERSION:2.0
PRODID:-//Huron Shores - ECPv6.15.11//NONSGML v1.0//EN
CALSCALE:GREGORIAN
METHOD:PUBLISH
X-ORIGINAL-URL:https://huronshores.ca
X-WR-CALDESC:Events for Huron Shores
REFRESH-INTERVAL;VALUE=DURATION:PT1H
X-Robots-Tag:noindex
X-PUBLISHED-TTL:PT1H
BEGIN:VTIMEZONE
TZID:America/Toronto
BEGIN:DAYLIGHT
TZOFFSETFROM:-0500
TZOFFSETTO:-0400
TZNAME:EDT
DTSTART:20170312T070000
END:DAYLIGHT
BEGIN:STANDARD
TZOFFSETFROM:-0400
TZOFFSETTO:-0500
TZNAME:EST
DTSTART:20171105T060000
END:STANDARD
BEGIN:DAYLIGHT
TZOFFSETFROM:-0500
TZOFFSETTO:-0400
TZNAME:EDT
DTSTART:20180311T070000
END:DAYLIGHT
BEGIN:STANDARD
TZOFFSETFROM:-0400
TZOFFSETTO:-0500
TZNAME:EST
DTSTART:20181104T060000
END:STANDARD
BEGIN:DAYLIGHT
TZOFFSETFROM:-0500
TZOFFSETTO:-0400
TZNAME:EDT
DTSTART:20190310T070000
END:DAYLIGHT
BEGIN:STANDARD
TZOFFSETFROM:-0400
TZOFFSETTO:-0500
TZNAME:EST
DTSTART:20191103T060000
END:STANDARD
END:VTIMEZONE
BEGIN:VEVENT
DTSTART;TZID=America/Toronto:20180821T190000
DTEND;TZID=America/Toronto:20180821T190000
DTSTAMP:20260424T114445
CREATED:20180727T194358Z
LAST-MODIFIED:20180727T194358Z
UID:10020577-1534878000-1534878000@huronshores.ca
SUMMARY:Call of the Wild
DESCRIPTION:A Night of Robert Service Poetry & Song.  Featuring Vernon Bailey & John McClenaghan.  Tuesday\, August 21/18\, Music starts at 7:15 p.m.; show at 7:30 p.m. at the Historic Cordukes/Weber 12-Sided Barn\, 1410 Basswood Lake Rd.\, Sowerby.  Admission by donation & all proceeds will be donated to the “North Shore Health Network – Thessalon Site”\, to assist in the purchase of a Digital X-ray Machine.  Sponsored by The North Shore Sentinel\, The Big Basswood Lake Assn. & the Sowerby Heritage Centre Committee.
URL:https://huronshores.ca/event/call-of-the-wild/
CATEGORIES:Community News,Fundraiser,Recreation
ATTACH;FMTTYPE=image/jpeg:https://huronshores.ca/wp-content/uploads/2018/07/wolfmoon.jpg
END:VEVENT
END:VCALENDAR