BEGIN:VCALENDAR
VERSION:2.0
PRODID:-//Huron Shores - ECPv6.15.11//NONSGML v1.0//EN
CALSCALE:GREGORIAN
METHOD:PUBLISH
X-WR-CALNAME:Huron Shores
X-ORIGINAL-URL:https://huronshores.ca
X-WR-CALDESC:Events for Huron Shores
REFRESH-INTERVAL;VALUE=DURATION:PT1H
X-Robots-Tag:noindex
X-PUBLISHED-TTL:PT1H
BEGIN:VTIMEZONE
TZID:America/Toronto
BEGIN:DAYLIGHT
TZOFFSETFROM:-0500
TZOFFSETTO:-0400
TZNAME:EDT
DTSTART:20140309T070000
END:DAYLIGHT
BEGIN:STANDARD
TZOFFSETFROM:-0400
TZOFFSETTO:-0500
TZNAME:EST
DTSTART:20141102T060000
END:STANDARD
BEGIN:DAYLIGHT
TZOFFSETFROM:-0500
TZOFFSETTO:-0400
TZNAME:EDT
DTSTART:20150308T070000
END:DAYLIGHT
BEGIN:STANDARD
TZOFFSETFROM:-0400
TZOFFSETTO:-0500
TZNAME:EST
DTSTART:20151101T060000
END:STANDARD
BEGIN:DAYLIGHT
TZOFFSETFROM:-0500
TZOFFSETTO:-0400
TZNAME:EDT
DTSTART:20160313T070000
END:DAYLIGHT
BEGIN:STANDARD
TZOFFSETFROM:-0400
TZOFFSETTO:-0500
TZNAME:EST
DTSTART:20161106T060000
END:STANDARD
END:VTIMEZONE
BEGIN:VEVENT
DTSTART;TZID=America/Toronto:20150905T100000
DTEND;TZID=America/Toronto:20150905T160000
DTSTAMP:20260423T204335
CREATED:20150717T195823Z
LAST-MODIFIED:20150717T195823Z
UID:10015740-1441447200-1441468800@huronshores.ca
SUMMARY:Iron Bridge Fall Fair
DESCRIPTION:The Iron Bridge Agricultural Society’s Annual Fall Fair & Parade\, Saturday\, September 5/15 at the Iron Bridge Recreation Centre (Arena)\, 1 Chiblow Lake Rd. Parade at 12:30 p.m.  Events include Men’s and Children’s Chili Challenge; the Ladies’ Stew Challenge\, Science North’s Human Body Exhibit; Tarot Card readings; and many local vendors.  Admission is by donation.
URL:https://huronshores.ca/event/iron-bridge-fall-fair/
CATEGORIES:Community News,Local Food
ATTACH;FMTTYPE=image/gif:https://huronshores.ca/wp-content/uploads/2013/08/Fall-Fair.gif
END:VEVENT
BEGIN:VEVENT
DTSTART;TZID=America/Toronto:20150907T160000
DTEND;TZID=America/Toronto:20150907T190000
DTSTAMP:20260423T204335
CREATED:20150904T140404Z
LAST-MODIFIED:20150904T140404Z
UID:10015721-1441641600-1441652400@huronshores.ca
SUMMARY:Turkey Supper
DESCRIPTION:A Turkey Supper will be held Monday\, September 7/15 at Cloudslee United Church.  Supper served family-style from 4:00 – 7:00 p.m.  Tickets go on sale at 3:00 p.m. that day at Cloudslee United Church.  Everyone welcome!
URL:https://huronshores.ca/event/turkey-supper/
CATEGORIES:Community News,Local Food
ATTACH;FMTTYPE=image/jpeg:https://huronshores.ca/wp-content/uploads/2015/09/Turkey-Supper.jpg
END:VEVENT
END:VCALENDAR