BEGIN:VCALENDAR
VERSION:2.0
PRODID:-//Huron Shores - ECPv6.15.11//NONSGML v1.0//EN
CALSCALE:GREGORIAN
METHOD:PUBLISH
X-WR-CALNAME:Huron Shores
X-ORIGINAL-URL:https://huronshores.ca
X-WR-CALDESC:Events for Huron Shores
REFRESH-INTERVAL;VALUE=DURATION:PT1H
X-Robots-Tag:noindex
X-PUBLISHED-TTL:PT1H
BEGIN:VTIMEZONE
TZID:America/Toronto
BEGIN:DAYLIGHT
TZOFFSETFROM:-0500
TZOFFSETTO:-0400
TZNAME:EDT
DTSTART:20150308T070000
END:DAYLIGHT
BEGIN:STANDARD
TZOFFSETFROM:-0400
TZOFFSETTO:-0500
TZNAME:EST
DTSTART:20151101T060000
END:STANDARD
BEGIN:DAYLIGHT
TZOFFSETFROM:-0500
TZOFFSETTO:-0400
TZNAME:EDT
DTSTART:20160313T070000
END:DAYLIGHT
BEGIN:STANDARD
TZOFFSETFROM:-0400
TZOFFSETTO:-0500
TZNAME:EST
DTSTART:20161106T060000
END:STANDARD
BEGIN:DAYLIGHT
TZOFFSETFROM:-0500
TZOFFSETTO:-0400
TZNAME:EDT
DTSTART:20170312T070000
END:DAYLIGHT
BEGIN:STANDARD
TZOFFSETFROM:-0400
TZOFFSETTO:-0500
TZNAME:EST
DTSTART:20171105T060000
END:STANDARD
END:VTIMEZONE
BEGIN:VEVENT
DTSTART;TZID=America/Toronto:20160806T090000
DTEND;TZID=America/Toronto:20160806T140000
DTSTAMP:20260423T001017
CREATED:20160601T181327Z
LAST-MODIFIED:20160601T181327Z
UID:10019595-1470474000-1470492000@huronshores.ca
SUMMARY:Sowerby Farmers' Market
DESCRIPTION:The Farmers’ Market in Sowerby is held every Saturday from 9:00 a.m. to 2:00 p.m.\, June to September\, at the Historic Cordukes/Weber 12-Sided Barn\, 1410 Basswood Lake Road\, just north of the intersection with Highway 17.
URL:https://huronshores.ca/event/sowerby-farmers-market-2/2016-08-06/
CATEGORIES:Community News,Farmers' Markets
ATTACH;FMTTYPE=image/jpeg:https://huronshores.ca/wp-content/uploads/2014/02/farmers-market-623x200-1.jpg
END:VEVENT
BEGIN:VEVENT
DTSTART;TZID=America/Toronto:20160806T090000
DTEND;TZID=America/Toronto:20160806T140000
DTSTAMP:20260423T001017
CREATED:20160627T141148Z
LAST-MODIFIED:20160627T141148Z
UID:10019616-1470474000-1470492000@huronshores.ca
SUMMARY:Iron Bridge Farmers' Market
DESCRIPTION:The Iron Bridge Farmers’ Market is held on Saturdays from 9:00 a.m. to 2:00 p.m. in the Gazebo at the Iron Bridge Historical Museum\, 1 James Street (at the intersection with Hwy. 17).  Come out and try our vendors fresh local produce\, mouth-watering baking\, preserves\, and handicrafts.   Take time to browse the museum exhibits depicting the proud pioneer heritage of our area.
URL:https://huronshores.ca/event/iron-bridge-farmers-market/2016-08-06/
CATEGORIES:Community News,Farmers' Markets
ATTACH;FMTTYPE=image/jpeg:https://huronshores.ca/wp-content/uploads/2014/02/farmers-market-623x200-1.jpg
END:VEVENT
BEGIN:VEVENT
DTSTART;TZID=America/Toronto:20160813T090000
DTEND;TZID=America/Toronto:20160813T140000
DTSTAMP:20260423T001017
CREATED:20160601T181327Z
LAST-MODIFIED:20160601T181327Z
UID:10019596-1471078800-1471096800@huronshores.ca
SUMMARY:Sowerby Farmers' Market
DESCRIPTION:The Farmers’ Market in Sowerby is held every Saturday from 9:00 a.m. to 2:00 p.m.\, June to September\, at the Historic Cordukes/Weber 12-Sided Barn\, 1410 Basswood Lake Road\, just north of the intersection with Highway 17.
URL:https://huronshores.ca/event/sowerby-farmers-market-2/2016-08-13/
CATEGORIES:Community News,Farmers' Markets
ATTACH;FMTTYPE=image/jpeg:https://huronshores.ca/wp-content/uploads/2014/02/farmers-market-623x200-1.jpg
END:VEVENT
BEGIN:VEVENT
DTSTART;TZID=America/Toronto:20160813T090000
DTEND;TZID=America/Toronto:20160813T140000
DTSTAMP:20260423T001017
CREATED:20160627T141148Z
LAST-MODIFIED:20160627T141148Z
UID:10019617-1471078800-1471096800@huronshores.ca
SUMMARY:Iron Bridge Farmers' Market
DESCRIPTION:The Iron Bridge Farmers’ Market is held on Saturdays from 9:00 a.m. to 2:00 p.m. in the Gazebo at the Iron Bridge Historical Museum\, 1 James Street (at the intersection with Hwy. 17).  Come out and try our vendors fresh local produce\, mouth-watering baking\, preserves\, and handicrafts.   Take time to browse the museum exhibits depicting the proud pioneer heritage of our area.
URL:https://huronshores.ca/event/iron-bridge-farmers-market/2016-08-13/
CATEGORIES:Community News,Farmers' Markets
ATTACH;FMTTYPE=image/jpeg:https://huronshores.ca/wp-content/uploads/2014/02/farmers-market-623x200-1.jpg
END:VEVENT
BEGIN:VEVENT
DTSTART;TZID=America/Toronto:20160820T090000
DTEND;TZID=America/Toronto:20160820T140000
DTSTAMP:20260423T001017
CREATED:20160601T181327Z
LAST-MODIFIED:20160601T181327Z
UID:10019597-1471683600-1471701600@huronshores.ca
SUMMARY:Sowerby Farmers' Market
DESCRIPTION:The Farmers’ Market in Sowerby is held every Saturday from 9:00 a.m. to 2:00 p.m.\, June to September\, at the Historic Cordukes/Weber 12-Sided Barn\, 1410 Basswood Lake Road\, just north of the intersection with Highway 17.
URL:https://huronshores.ca/event/sowerby-farmers-market-2/2016-08-20/
CATEGORIES:Community News,Farmers' Markets
ATTACH;FMTTYPE=image/jpeg:https://huronshores.ca/wp-content/uploads/2014/02/farmers-market-623x200-1.jpg
END:VEVENT
BEGIN:VEVENT
DTSTART;TZID=America/Toronto:20160820T090000
DTEND;TZID=America/Toronto:20160820T140000
DTSTAMP:20260423T001017
CREATED:20160627T141148Z
LAST-MODIFIED:20160627T141148Z
UID:10019618-1471683600-1471701600@huronshores.ca
SUMMARY:Iron Bridge Farmers' Market
DESCRIPTION:The Iron Bridge Farmers’ Market is held on Saturdays from 9:00 a.m. to 2:00 p.m. in the Gazebo at the Iron Bridge Historical Museum\, 1 James Street (at the intersection with Hwy. 17).  Come out and try our vendors fresh local produce\, mouth-watering baking\, preserves\, and handicrafts.   Take time to browse the museum exhibits depicting the proud pioneer heritage of our area.
URL:https://huronshores.ca/event/iron-bridge-farmers-market/2016-08-20/
CATEGORIES:Community News,Farmers' Markets
ATTACH;FMTTYPE=image/jpeg:https://huronshores.ca/wp-content/uploads/2014/02/farmers-market-623x200-1.jpg
END:VEVENT
BEGIN:VEVENT
DTSTART;TZID=America/Toronto:20160827T090000
DTEND;TZID=America/Toronto:20160827T140000
DTSTAMP:20260423T001017
CREATED:20160601T181327Z
LAST-MODIFIED:20160601T181327Z
UID:10019598-1472288400-1472306400@huronshores.ca
SUMMARY:Sowerby Farmers' Market
DESCRIPTION:The Farmers’ Market in Sowerby is held every Saturday from 9:00 a.m. to 2:00 p.m.\, June to September\, at the Historic Cordukes/Weber 12-Sided Barn\, 1410 Basswood Lake Road\, just north of the intersection with Highway 17.
URL:https://huronshores.ca/event/sowerby-farmers-market-2/2016-08-27/
CATEGORIES:Community News,Farmers' Markets
ATTACH;FMTTYPE=image/jpeg:https://huronshores.ca/wp-content/uploads/2014/02/farmers-market-623x200-1.jpg
END:VEVENT
BEGIN:VEVENT
DTSTART;TZID=America/Toronto:20160827T090000
DTEND;TZID=America/Toronto:20160827T140000
DTSTAMP:20260423T001017
CREATED:20160627T141148Z
LAST-MODIFIED:20160627T141148Z
UID:10019619-1472288400-1472306400@huronshores.ca
SUMMARY:Iron Bridge Farmers' Market
DESCRIPTION:The Iron Bridge Farmers’ Market is held on Saturdays from 9:00 a.m. to 2:00 p.m. in the Gazebo at the Iron Bridge Historical Museum\, 1 James Street (at the intersection with Hwy. 17).  Come out and try our vendors fresh local produce\, mouth-watering baking\, preserves\, and handicrafts.   Take time to browse the museum exhibits depicting the proud pioneer heritage of our area.
URL:https://huronshores.ca/event/iron-bridge-farmers-market/2016-08-27/
CATEGORIES:Community News,Farmers' Markets
ATTACH;FMTTYPE=image/jpeg:https://huronshores.ca/wp-content/uploads/2014/02/farmers-market-623x200-1.jpg
END:VEVENT
END:VCALENDAR