BEGIN:VCALENDAR
VERSION:2.0
PRODID:-//Huron Shores - ECPv6.15.11//NONSGML v1.0//EN
CALSCALE:GREGORIAN
METHOD:PUBLISH
X-ORIGINAL-URL:https://huronshores.ca
X-WR-CALDESC:Events for Huron Shores
REFRESH-INTERVAL;VALUE=DURATION:PT1H
X-Robots-Tag:noindex
X-PUBLISHED-TTL:PT1H
BEGIN:VTIMEZONE
TZID:America/Toronto
BEGIN:DAYLIGHT
TZOFFSETFROM:-0500
TZOFFSETTO:-0400
TZNAME:EDT
DTSTART:20160313T070000
END:DAYLIGHT
BEGIN:STANDARD
TZOFFSETFROM:-0400
TZOFFSETTO:-0500
TZNAME:EST
DTSTART:20161106T060000
END:STANDARD
BEGIN:DAYLIGHT
TZOFFSETFROM:-0500
TZOFFSETTO:-0400
TZNAME:EDT
DTSTART:20170312T070000
END:DAYLIGHT
BEGIN:STANDARD
TZOFFSETFROM:-0400
TZOFFSETTO:-0500
TZNAME:EST
DTSTART:20171105T060000
END:STANDARD
BEGIN:DAYLIGHT
TZOFFSETFROM:-0500
TZOFFSETTO:-0400
TZNAME:EDT
DTSTART:20180311T070000
END:DAYLIGHT
BEGIN:STANDARD
TZOFFSETFROM:-0400
TZOFFSETTO:-0500
TZNAME:EST
DTSTART:20181104T060000
END:STANDARD
END:VTIMEZONE
BEGIN:VEVENT
DTSTART;TZID=America/Toronto:20170311T100000
DTEND;TZID=America/Toronto:20170311T150000
DTSTAMP:20260422T112825
CREATED:20170214T192747Z
LAST-MODIFIED:20170214T192747Z
UID:10020084-1489226400-1489244400@huronshores.ca
SUMMARY:Seedy Saturday
DESCRIPTION:Central Algoma Seedy Saturday\, March 11/17\, Central Algoma Secondary School (CASS)\, 32 Kensington Rd.\, Desbarats from 10:00 a.m. to 3:00 p.m.  There will be presentations\, demonstrations\, door prizes\, children’s activities\, exhibitors\, vendors\, a seed swap and seed sales\, food and refreshment.  Accessible Venue. For more info contact:  seedysat@gmail.com
URL:https://huronshores.ca/event/seedy-saturday/
CATEGORIES:Community News,Farmers' Markets
ATTACH;FMTTYPE=image/jpeg:https://huronshores.ca/wp-content/uploads/2017/02/seeds_4.jpg
END:VEVENT
END:VCALENDAR