BEGIN:VCALENDAR
VERSION:2.0
PRODID:-//Huron Shores - ECPv6.15.11//NONSGML v1.0//EN
CALSCALE:GREGORIAN
METHOD:PUBLISH
X-WR-CALNAME:Huron Shores
X-ORIGINAL-URL:https://huronshores.ca
X-WR-CALDESC:Events for Huron Shores
REFRESH-INTERVAL;VALUE=DURATION:PT1H
X-Robots-Tag:noindex
X-PUBLISHED-TTL:PT1H
BEGIN:VTIMEZONE
TZID:America/Toronto
BEGIN:DAYLIGHT
TZOFFSETFROM:-0500
TZOFFSETTO:-0400
TZNAME:EDT
DTSTART:20160313T070000
END:DAYLIGHT
BEGIN:STANDARD
TZOFFSETFROM:-0400
TZOFFSETTO:-0500
TZNAME:EST
DTSTART:20161106T060000
END:STANDARD
BEGIN:DAYLIGHT
TZOFFSETFROM:-0500
TZOFFSETTO:-0400
TZNAME:EDT
DTSTART:20170312T070000
END:DAYLIGHT
BEGIN:STANDARD
TZOFFSETFROM:-0400
TZOFFSETTO:-0500
TZNAME:EST
DTSTART:20171105T060000
END:STANDARD
BEGIN:DAYLIGHT
TZOFFSETFROM:-0500
TZOFFSETTO:-0400
TZNAME:EDT
DTSTART:20180311T070000
END:DAYLIGHT
BEGIN:STANDARD
TZOFFSETFROM:-0400
TZOFFSETTO:-0500
TZNAME:EST
DTSTART:20181104T060000
END:STANDARD
END:VTIMEZONE
BEGIN:VEVENT
DTSTART;TZID=America/Toronto:20171123T090000
DTEND;TZID=America/Toronto:20171123T140000
DTSTAMP:20260421T205623
CREATED:20171116T145747Z
LAST-MODIFIED:20171116T145747Z
UID:10019927-1511427600-1511445600@huronshores.ca
SUMMARY:Ontario Agriculture Roadshow 2017
DESCRIPTION:Ontario Agriculture Roadshow 2017 is hosted by BDO on November 23/17 from 9:30 a.m.-2:00 p.m. (complimentary lunch included).  Guest speakers will cover topics of concern for farm owners and agribusinesses including uncertain trade agreements\, tax policy changes\, climate change & growing use of social media.  To RSVP contact Georgina at gecampbell@bdo.ca or 705-842-5777.
URL:https://huronshores.ca/event/ontario-agriculture-roadshow-2017/
CATEGORIES:Community News,Local Food
ATTACH;FMTTYPE=image/jpeg:https://huronshores.ca/wp-content/uploads/2017/11/Ontario-Agriculture-Roadshow-2017.jpg
END:VEVENT
END:VCALENDAR