BEGIN:VCALENDAR
VERSION:2.0
PRODID:-//Huron Shores - ECPv6.15.11//NONSGML v1.0//EN
CALSCALE:GREGORIAN
METHOD:PUBLISH
X-ORIGINAL-URL:https://huronshores.ca
X-WR-CALDESC:Events for Huron Shores
REFRESH-INTERVAL;VALUE=DURATION:PT1H
X-Robots-Tag:noindex
X-PUBLISHED-TTL:PT1H
BEGIN:VTIMEZONE
TZID:America/Toronto
BEGIN:DAYLIGHT
TZOFFSETFROM:-0500
TZOFFSETTO:-0400
TZNAME:EDT
DTSTART:20180311T070000
END:DAYLIGHT
BEGIN:STANDARD
TZOFFSETFROM:-0400
TZOFFSETTO:-0500
TZNAME:EST
DTSTART:20181104T060000
END:STANDARD
BEGIN:DAYLIGHT
TZOFFSETFROM:-0500
TZOFFSETTO:-0400
TZNAME:EDT
DTSTART:20190310T070000
END:DAYLIGHT
BEGIN:STANDARD
TZOFFSETFROM:-0400
TZOFFSETTO:-0500
TZNAME:EST
DTSTART:20191103T060000
END:STANDARD
BEGIN:DAYLIGHT
TZOFFSETFROM:-0500
TZOFFSETTO:-0400
TZNAME:EDT
DTSTART:20200308T070000
END:DAYLIGHT
BEGIN:STANDARD
TZOFFSETFROM:-0400
TZOFFSETTO:-0500
TZNAME:EST
DTSTART:20201101T060000
END:STANDARD
END:VTIMEZONE
BEGIN:VEVENT
DTSTART;TZID=America/Toronto:20191205T083000
DTEND;TZID=America/Toronto:20191205T163000
DTSTAMP:20260420T003101
CREATED:20190528T140846Z
LAST-MODIFIED:20190528T140846Z
UID:10021483-1575534600-1575563400@huronshores.ca
SUMMARY:Good Food Box Order & Payment Deadline
DESCRIPTION:
URL:https://huronshores.ca/event/good-food-box-order-payment-deadline-3/
CATEGORIES:Community News,Local Food
ATTACH;FMTTYPE=image/jpeg:https://huronshores.ca/wp-content/uploads/2013/12/Farmers-Market-Produce.jpg
END:VEVENT
BEGIN:VEVENT
DTSTART;TZID=America/Toronto:20191212T083000
DTEND;TZID=America/Toronto:20191212T163000
DTSTAMP:20260420T003101
CREATED:20190528T142421Z
LAST-MODIFIED:20190528T142421Z
UID:10021490-1576139400-1576168200@huronshores.ca
SUMMARY:Good Food Box Pick-Up Dates
DESCRIPTION:
URL:https://huronshores.ca/event/good-food-box-pick-up-dates-4/
CATEGORIES:Community News,Local Food
ATTACH;FMTTYPE=image/jpeg:https://huronshores.ca/wp-content/uploads/2013/12/Farmers-Market-Produce.jpg
END:VEVENT
END:VCALENDAR