BEGIN:VCALENDAR
VERSION:2.0
PRODID:-//Huron Shores - ECPv6.15.11//NONSGML v1.0//EN
CALSCALE:GREGORIAN
METHOD:PUBLISH
X-ORIGINAL-URL:https://huronshores.ca
X-WR-CALDESC:Events for Huron Shores
REFRESH-INTERVAL;VALUE=DURATION:PT1H
X-Robots-Tag:noindex
X-PUBLISHED-TTL:PT1H
BEGIN:VTIMEZONE
TZID:America/Toronto
BEGIN:DAYLIGHT
TZOFFSETFROM:-0500
TZOFFSETTO:-0400
TZNAME:EDT
DTSTART:20170312T070000
END:DAYLIGHT
BEGIN:STANDARD
TZOFFSETFROM:-0400
TZOFFSETTO:-0500
TZNAME:EST
DTSTART:20171105T060000
END:STANDARD
BEGIN:DAYLIGHT
TZOFFSETFROM:-0500
TZOFFSETTO:-0400
TZNAME:EDT
DTSTART:20180311T070000
END:DAYLIGHT
BEGIN:STANDARD
TZOFFSETFROM:-0400
TZOFFSETTO:-0500
TZNAME:EST
DTSTART:20181104T060000
END:STANDARD
BEGIN:DAYLIGHT
TZOFFSETFROM:-0500
TZOFFSETTO:-0400
TZNAME:EDT
DTSTART:20190310T070000
END:DAYLIGHT
BEGIN:STANDARD
TZOFFSETFROM:-0400
TZOFFSETTO:-0500
TZNAME:EST
DTSTART:20191103T060000
END:STANDARD
END:VTIMEZONE
BEGIN:VEVENT
DTSTART;VALUE=DATE:20180702
DTEND;VALUE=DATE:20180703
DTSTAMP:20260421T065220
CREATED:20171129T200735Z
LAST-MODIFIED:20171129T200735Z
UID:10020410-1530489600-1530575999@huronshores.ca
SUMMARY:Canada Day Office Closure
DESCRIPTION:The Municipal Office will be CLOSED on Monday\, July 2\, to recognize the July 1\, Canada Day holiday\, as identified in the Holidays Act.  The Office will re-open on July 3/18 at 8:30 a.m.  The Waste Sites will be open for their Regular Summer Hours of Operation:  Saturday\, June 30\, 9:00 a.m. to 5:00 p.m.; Monday\, July 2\, and Wednesday July 4\, 4:00 to 8:00 p.m.  Have a happy and safe Canada Day holiday weekend!
URL:https://huronshores.ca/event/canada-day-closures/
LOCATION:Ontario
CATEGORIES:Community News,Office Closure,Waste Disposal
ATTACH;FMTTYPE=image/png:https://huronshores.ca/wp-content/uploads/2017/06/Canada-Moose.png
END:VEVENT
END:VCALENDAR