BEGIN:VCALENDAR
VERSION:2.0
PRODID:-//Huron Shores - ECPv6.15.11//NONSGML v1.0//EN
CALSCALE:GREGORIAN
METHOD:PUBLISH
X-ORIGINAL-URL:https://huronshores.ca
X-WR-CALDESC:Events for Huron Shores
REFRESH-INTERVAL;VALUE=DURATION:PT1H
X-Robots-Tag:noindex
X-PUBLISHED-TTL:PT1H
BEGIN:VTIMEZONE
TZID:America/Toronto
BEGIN:DAYLIGHT
TZOFFSETFROM:-0500
TZOFFSETTO:-0400
TZNAME:EDT
DTSTART:20170312T070000
END:DAYLIGHT
BEGIN:STANDARD
TZOFFSETFROM:-0400
TZOFFSETTO:-0500
TZNAME:EST
DTSTART:20171105T060000
END:STANDARD
BEGIN:DAYLIGHT
TZOFFSETFROM:-0500
TZOFFSETTO:-0400
TZNAME:EDT
DTSTART:20180311T070000
END:DAYLIGHT
BEGIN:STANDARD
TZOFFSETFROM:-0400
TZOFFSETTO:-0500
TZNAME:EST
DTSTART:20181104T060000
END:STANDARD
BEGIN:DAYLIGHT
TZOFFSETFROM:-0500
TZOFFSETTO:-0400
TZNAME:EDT
DTSTART:20190310T070000
END:DAYLIGHT
BEGIN:STANDARD
TZOFFSETFROM:-0400
TZOFFSETTO:-0500
TZNAME:EST
DTSTART:20191103T060000
END:STANDARD
END:VTIMEZONE
BEGIN:VEVENT
DTSTART;TZID=America/Toronto:20180502T190000
DTEND;TZID=America/Toronto:20180502T190000
DTSTAMP:20260419T220730
CREATED:20180424T163329Z
LAST-MODIFIED:20180424T163329Z
UID:10019994-1525287600-1525287600@huronshores.ca
SUMMARY:Special Meeting - Official Plan Amendment
DESCRIPTION:Council authorized\, via Resolution #17-08-04 dated April 11th\, 2018\, that a Public Meeting being held under the Planning Act on Wednesday\, May 2nd\, 2018\, at 7:00 p.m. in the Council Chambers\, 7 Bridge Street\, Iron Bridge re: the Proposed Official Plan Amendment Application File No. 2018-OPA-01 of the Huron Shores Official Plan (957 Chevis Rd.).  The Regular Meeting of Council will convene following adjournment of the Public Meeting.  The Agendas for both meetings will be posted on Monday\, April 30/18.
URL:https://huronshores.ca/event/special-meeting-official-plan-amendment/
LOCATION:Ontario
CATEGORIES:Planning & Zoning
ATTACH;FMTTYPE=:
END:VEVENT
END:VCALENDAR