BEGIN:VCALENDAR
VERSION:2.0
PRODID:-//Huron Shores - ECPv6.15.11//NONSGML v1.0//EN
CALSCALE:GREGORIAN
METHOD:PUBLISH
X-WR-CALNAME:Huron Shores
X-ORIGINAL-URL:https://huronshores.ca
X-WR-CALDESC:Events for Huron Shores
REFRESH-INTERVAL;VALUE=DURATION:PT1H
X-Robots-Tag:noindex
X-PUBLISHED-TTL:PT1H
BEGIN:VTIMEZONE
TZID:America/Toronto
BEGIN:DAYLIGHT
TZOFFSETFROM:-0500
TZOFFSETTO:-0400
TZNAME:EDT
DTSTART:20240310T070000
END:DAYLIGHT
BEGIN:STANDARD
TZOFFSETFROM:-0400
TZOFFSETTO:-0500
TZNAME:EST
DTSTART:20241103T060000
END:STANDARD
BEGIN:DAYLIGHT
TZOFFSETFROM:-0500
TZOFFSETTO:-0400
TZNAME:EDT
DTSTART:20250309T070000
END:DAYLIGHT
BEGIN:STANDARD
TZOFFSETFROM:-0400
TZOFFSETTO:-0500
TZNAME:EST
DTSTART:20251102T060000
END:STANDARD
BEGIN:DAYLIGHT
TZOFFSETFROM:-0500
TZOFFSETTO:-0400
TZNAME:EDT
DTSTART:20260308T070000
END:DAYLIGHT
BEGIN:STANDARD
TZOFFSETFROM:-0400
TZOFFSETTO:-0500
TZNAME:EST
DTSTART:20261101T060000
END:STANDARD
END:VTIMEZONE
BEGIN:VEVENT
DTSTART;TZID=America/Toronto:20250804T110000
DTEND;TZID=America/Toronto:20250804T150000
DTSTAMP:20260423T112129
CREATED:20250715T162753Z
LAST-MODIFIED:20250715T162753Z
UID:10022817-1754305200-1754319600@huronshores.ca
SUMMARY:Country Fair & Silent Auction!
DESCRIPTION:🎉 You’re Invited to the Country Fair & Silent Auction! 🎉Hosted by the Thessalon Township Heritage Association \n🗓 Monday\, August 4\, 2025 (Civic Holiday)🕚 11:00 AM – 3:00 PM📍 Heritage Park Museum & Little Rapids Community Hall#2 & #4 Little Rapids Road — just 3 km north of Thessalon off Hwy 129 \nJoin us for a fun-filled day for all ages! Enjoy:🎶 Live Music🍔 Delicious Food🛍 Arts & Crafts Marketplace🎯 Kid’s Activities🎟 50/50 Raffle🖊 Silent Auction…and so much more! \nBring your family and friends for a celebration of community\, culture\, and good old-fashioned fun!
URL:https://huronshores.ca/event/country-fair-silent-auction-5/
LOCATION:Thessalon Township Community Centre\, 4 Little Rapids Road\, Thessalon\, Ontario\, P0R 1L0\, Canada
CATEGORIES:Community News
END:VEVENT
END:VCALENDAR