BEGIN:VCALENDAR
VERSION:2.0
PRODID:-//Huron Shores - ECPv6.15.11//NONSGML v1.0//EN
CALSCALE:GREGORIAN
METHOD:PUBLISH
X-WR-CALNAME:Huron Shores
X-ORIGINAL-URL:https://huronshores.ca
X-WR-CALDESC:Events for Huron Shores
REFRESH-INTERVAL;VALUE=DURATION:PT1H
X-Robots-Tag:noindex
X-PUBLISHED-TTL:PT1H
BEGIN:VTIMEZONE
TZID:America/Toronto
BEGIN:DAYLIGHT
TZOFFSETFROM:-0500
TZOFFSETTO:-0400
TZNAME:EDT
DTSTART:20230312T070000
END:DAYLIGHT
BEGIN:STANDARD
TZOFFSETFROM:-0400
TZOFFSETTO:-0500
TZNAME:EST
DTSTART:20231105T060000
END:STANDARD
BEGIN:DAYLIGHT
TZOFFSETFROM:-0500
TZOFFSETTO:-0400
TZNAME:EDT
DTSTART:20240310T070000
END:DAYLIGHT
BEGIN:STANDARD
TZOFFSETFROM:-0400
TZOFFSETTO:-0500
TZNAME:EST
DTSTART:20241103T060000
END:STANDARD
BEGIN:DAYLIGHT
TZOFFSETFROM:-0500
TZOFFSETTO:-0400
TZNAME:EDT
DTSTART:20250309T070000
END:DAYLIGHT
BEGIN:STANDARD
TZOFFSETFROM:-0400
TZOFFSETTO:-0500
TZNAME:EST
DTSTART:20251102T060000
END:STANDARD
END:VTIMEZONE
BEGIN:VEVENT
DTSTART;TZID=America/Toronto:20240703T093000
DTEND;TZID=America/Toronto:20240703T113000
DTSTAMP:20260422T175506
CREATED:20240625T133734Z
LAST-MODIFIED:20240625T133734Z
UID:10022664-1719999000-1720006200@huronshores.ca
SUMMARY:Coffee Hour
DESCRIPTION:Come out for a warm and welcoming coffee hour at Church of the Redeemer in partnership with Zion United Church! \n📅 Date: 1st and 3rd Wednesday of each Month \n🕤 Time: 9:30 a.m. to 11:30 a.m. \n📍 Location: Church of Redeemer \nCome and enjoy a delightful morning with friends\, neighbors\, and fellow community members. Whether you’re a regular attendee or a first-time visitor\, everyone is welcome to share in good conversation\, delicious coffee\, and tasty treats.
URL:https://huronshores.ca/event/coffee-hour-7/
LOCATION:Church of Redeemer\, 257 Main Street\, Thessalon\, ON\, P0R 1L0\, Canada
CATEGORIES:Community News,Recreation
END:VEVENT
BEGIN:VEVENT
DTSTART;TZID=America/Toronto:20240712T093000
DTEND;TZID=America/Toronto:20240712T233000
DTSTAMP:20260422T175506
CREATED:20240625T131203Z
LAST-MODIFIED:20240625T131203Z
UID:10022653-1720776600-1720827000@huronshores.ca
SUMMARY:Community Coffee Hour
DESCRIPTION:Come out for a warm and welcoming coffee hour at Zion United Church! \n📅 Date: Every 2nd and 4th Friday of the month \n🕤 Time: 9:30 a.m. to 11:30 a.m. \n📍 Location: Zion United Church \nCome and enjoy a delightful morning with friends\, neighbors\, and fellow community members. Whether you’re a regular attendee or a first-time visitor\, everyone is welcome to share in good conversation\, delicious coffee\, and tasty treats.
URL:https://huronshores.ca/event/community-coffee-hour-2/
LOCATION:Zion United Church\, 224 Main Street\, Thessalon\, ON\, P0R 1L0\, Canada
CATEGORIES:Community News,Recreation
END:VEVENT
BEGIN:VEVENT
DTSTART;TZID=America/Toronto:20240717T093000
DTEND;TZID=America/Toronto:20240717T113000
DTSTAMP:20260422T175506
CREATED:20240625T133842Z
LAST-MODIFIED:20240625T133842Z
UID:10022665-1721208600-1721215800@huronshores.ca
SUMMARY:Coffee Hour
DESCRIPTION:Come out for a warm and welcoming coffee hour at Church of the Redeemer in partnership with Zion United Church! \n📅 Date: 1st and 3rd Wednesday of each Month \n🕤 Time: 9:30 a.m. to 11:30 a.m. \n📍 Location: Church of Redeemer \nCome and enjoy a delightful morning with friends\, neighbors\, and fellow community members. Whether you’re a regular attendee or a first-time visitor\, everyone is welcome to share in good conversation\, delicious coffee\, and tasty treats.
URL:https://huronshores.ca/event/coffee-hour-8/
LOCATION:Church of Redeemer\, 257 Main Street\, Thessalon\, ON\, P0R 1L0\, Canada
CATEGORIES:Community News,Recreation
END:VEVENT
BEGIN:VEVENT
DTSTART;TZID=America/Toronto:20240726T093000
DTEND;TZID=America/Toronto:20240726T113000
DTSTAMP:20260422T175506
CREATED:20240625T131345Z
LAST-MODIFIED:20240625T131345Z
UID:10022654-1721986200-1721993400@huronshores.ca
SUMMARY:Community Coffee Hour
DESCRIPTION:Come out for a warm and welcoming coffee hour at Zion United Church! \n📅 Date: Every 2nd and 4th Friday of the month \n🕤 Time: 9:30 a.m. to 11:30 a.m. \n📍 Location: Zion United Church \nCome and enjoy a delightful morning with friends\, neighbors\, and fellow community members. Whether you’re a regular attendee or a first-time visitor\, everyone is welcome to share in good conversation\, delicious coffee\, and tasty treats.
URL:https://huronshores.ca/event/community-coffee-hour-3/
LOCATION:Zion United Church\, 224 Main Street\, Thessalon\, ON\, P0R 1L0\, Canada
CATEGORIES:Community News,Recreation
END:VEVENT
END:VCALENDAR