BEGIN:VCALENDAR
VERSION:2.0
PRODID:-//Huron Shores - ECPv6.15.11//NONSGML v1.0//EN
CALSCALE:GREGORIAN
METHOD:PUBLISH
X-WR-CALNAME:Huron Shores
X-ORIGINAL-URL:https://huronshores.ca
X-WR-CALDESC:Events for Huron Shores
REFRESH-INTERVAL;VALUE=DURATION:PT1H
X-Robots-Tag:noindex
X-PUBLISHED-TTL:PT1H
BEGIN:VTIMEZONE
TZID:America/Toronto
BEGIN:DAYLIGHT
TZOFFSETFROM:-0500
TZOFFSETTO:-0400
TZNAME:EDT
DTSTART:20240310T070000
END:DAYLIGHT
BEGIN:STANDARD
TZOFFSETFROM:-0400
TZOFFSETTO:-0500
TZNAME:EST
DTSTART:20241103T060000
END:STANDARD
BEGIN:DAYLIGHT
TZOFFSETFROM:-0500
TZOFFSETTO:-0400
TZNAME:EDT
DTSTART:20250309T070000
END:DAYLIGHT
BEGIN:STANDARD
TZOFFSETFROM:-0400
TZOFFSETTO:-0500
TZNAME:EST
DTSTART:20251102T060000
END:STANDARD
BEGIN:DAYLIGHT
TZOFFSETFROM:-0500
TZOFFSETTO:-0400
TZNAME:EDT
DTSTART:20260308T070000
END:DAYLIGHT
BEGIN:STANDARD
TZOFFSETFROM:-0400
TZOFFSETTO:-0500
TZNAME:EST
DTSTART:20261101T060000
END:STANDARD
END:VTIMEZONE
BEGIN:VEVENT
DTSTART;TZID=America/Toronto:20250506T130000
DTEND;TZID=America/Toronto:20250506T160000
DTSTAMP:20260422T195047
CREATED:20250414T160336Z
LAST-MODIFIED:20250414T160336Z
UID:10022468-1746536400-1746547200@huronshores.ca
SUMMARY:Watercolor Beginners Workshop with Lillian Asquith 🎨
DESCRIPTION:Learn the basics of watercolour painting in this fun and beginner-friendly workshop! \n📍 TVM Art Gallery\, 1 Hagger Rd.\, Blind River🗓 Tuesday\, May 6🕐 1:00 PM – 4:00 PM💲 $30 – All materials provided \nJoin guest artist Lillian Asquith as she guides participants through watercolour techniques\, colour mixing theory\, and more. You’ll leave with your very own finished painting! \n✨ Space is limited — register today📧 Contact: museum@blindriver.ca
URL:https://huronshores.ca/event/watercolor-beginners-workshop-with-lillian-asquith-%f0%9f%8e%a8/
LOCATION:Timber Village Museum\, 1 Hagger Road\, Blind River\, Ontario\, P0R 1B0\, Canada
CATEGORIES:Community News
ORGANIZER;CN="Timber Village Museum":MAILTO:museum@blindriver.ca
END:VEVENT
BEGIN:VEVENT
DTSTART;TZID=America/Toronto:20250509T140000
DTEND;TZID=America/Toronto:20250509T160000
DTSTAMP:20260422T195047
CREATED:20250416T150115Z
LAST-MODIFIED:20250416T150115Z
UID:10022781-1746799200-1746806400@huronshores.ca
SUMMARY:🌸 Mother’s Day Afternoon Tea 🌸
DESCRIPTION:Celebrate the special women in your life with a delightful afternoon of elegance\, treats\, and good company. \nJoin us for a charming tea experience featuring:🫖 A curated menu of finger sandwiches\, cakes\, and sweets🌺 Beautiful floral centerpieces available for purchase🎁 Door prizes🍯 Take-home scones & preserves for sale \n📅 Friday\, May 9 & Saturday\, May 10\, 2025🕑 2:00 PM (Reserved Seating Only)📍 TVM Art Gallery\, 1 Hagger Rd.\, Blind River💵 $30 per person \n🎟 Seating is limited — reserve your spot today!📞 705-849-3006📧 museum@blindriver.ca \nMake this Mother’s Day one to remember with Afternoon Tea and a view 💐
URL:https://huronshores.ca/event/%f0%9f%8c%b8-mothers-day-afternoon-tea-%f0%9f%8c%b8/
LOCATION:Timber Village Museum\, 1 Hagger Road\, Blind River\, Ontario\, P0R 1B0\, Canada
CATEGORIES:Community News,Recreation
ORGANIZER;CN="Timber Village Museum":MAILTO:museum@blindriver.ca
END:VEVENT
END:VCALENDAR