BEGIN:VCALENDAR
VERSION:2.0
PRODID:-//Huron Shores - ECPv6.15.11//NONSGML v1.0//EN
CALSCALE:GREGORIAN
METHOD:PUBLISH
X-WR-CALNAME:Huron Shores
X-ORIGINAL-URL:https://huronshores.ca
X-WR-CALDESC:Events for Huron Shores
REFRESH-INTERVAL;VALUE=DURATION:PT1H
X-Robots-Tag:noindex
X-PUBLISHED-TTL:PT1H
BEGIN:VTIMEZONE
TZID:America/Toronto
BEGIN:DAYLIGHT
TZOFFSETFROM:-0500
TZOFFSETTO:-0400
TZNAME:EDT
DTSTART:20160313T070000
END:DAYLIGHT
BEGIN:STANDARD
TZOFFSETFROM:-0400
TZOFFSETTO:-0500
TZNAME:EST
DTSTART:20161106T060000
END:STANDARD
BEGIN:DAYLIGHT
TZOFFSETFROM:-0500
TZOFFSETTO:-0400
TZNAME:EDT
DTSTART:20170312T070000
END:DAYLIGHT
BEGIN:STANDARD
TZOFFSETFROM:-0400
TZOFFSETTO:-0500
TZNAME:EST
DTSTART:20171105T060000
END:STANDARD
BEGIN:DAYLIGHT
TZOFFSETFROM:-0500
TZOFFSETTO:-0400
TZNAME:EDT
DTSTART:20180311T070000
END:DAYLIGHT
BEGIN:STANDARD
TZOFFSETFROM:-0400
TZOFFSETTO:-0500
TZNAME:EST
DTSTART:20181104T060000
END:STANDARD
END:VTIMEZONE
BEGIN:VEVENT
DTSTART;VALUE=DATE:20170401
DTEND;VALUE=DATE:20170402
DTSTAMP:20260423T105647
CREATED:20161219T195521Z
LAST-MODIFIED:20161219T195521Z
UID:10020027-1491004800-1491091199@huronshores.ca
SUMMARY:Waste Sites Summer Operating Hours
DESCRIPTION:Effective April 1st to September 30th\, all Waste Disposal and Recycling Sites switch to Summer Operating Hours:  Mondays & Wednesdays\, 4:00 – 8:00 p.m.; Saturdays\, 9:00 a.m. – 5:00 p.m.  For further information\, please click on the link below to visit the Waste Disposal & Recycling Program page.
URL:https://huronshores.ca/event/waste-sites-summer-operating-hours/
CATEGORIES:Waste Disposal
ATTACH;FMTTYPE=image/png:https://huronshores.ca/wp-content/uploads/2012/06/trash-dumpster-white.svg_.thumb_.png
END:VEVENT
END:VCALENDAR