BEGIN:VCALENDAR
VERSION:2.0
PRODID:-//Huron Shores - ECPv6.15.11//NONSGML v1.0//EN
CALSCALE:GREGORIAN
METHOD:PUBLISH
X-WR-CALNAME:Huron Shores
X-ORIGINAL-URL:https://huronshores.ca
X-WR-CALDESC:Events for Huron Shores
REFRESH-INTERVAL;VALUE=DURATION:PT1H
X-Robots-Tag:noindex
X-PUBLISHED-TTL:PT1H
BEGIN:VTIMEZONE
TZID:America/Toronto
BEGIN:DAYLIGHT
TZOFFSETFROM:-0500
TZOFFSETTO:-0400
TZNAME:EDT
DTSTART:20170312T070000
END:DAYLIGHT
BEGIN:STANDARD
TZOFFSETFROM:-0400
TZOFFSETTO:-0500
TZNAME:EST
DTSTART:20171105T060000
END:STANDARD
BEGIN:DAYLIGHT
TZOFFSETFROM:-0500
TZOFFSETTO:-0400
TZNAME:EDT
DTSTART:20180311T070000
END:DAYLIGHT
BEGIN:STANDARD
TZOFFSETFROM:-0400
TZOFFSETTO:-0500
TZNAME:EST
DTSTART:20181104T060000
END:STANDARD
BEGIN:DAYLIGHT
TZOFFSETFROM:-0500
TZOFFSETTO:-0400
TZNAME:EDT
DTSTART:20190310T070000
END:DAYLIGHT
BEGIN:STANDARD
TZOFFSETFROM:-0400
TZOFFSETTO:-0500
TZNAME:EST
DTSTART:20191103T060000
END:STANDARD
BEGIN:DAYLIGHT
TZOFFSETFROM:-0500
TZOFFSETTO:-0400
TZNAME:EDT
DTSTART:20200308T070000
END:DAYLIGHT
BEGIN:STANDARD
TZOFFSETFROM:-0400
TZOFFSETTO:-0500
TZNAME:EST
DTSTART:20201101T060000
END:STANDARD
END:VTIMEZONE
BEGIN:VEVENT
DTSTART;VALUE=DATE:20181222
DTEND;VALUE=DATE:20190102
DTSTAMP:20260419T131756
CREATED:20180814T192941Z
LAST-MODIFIED:20180814T192941Z
UID:10020586-1545436800-1546387199@huronshores.ca
SUMMARY:Christmas Holidays Office & Waste Site Closures
DESCRIPTION:The Municipal Office will be closed from 4:30 p.m.\, Friday\, December 21st\, 2018 to Tuesday\, January 1st\, 2019\, inclusive for the Christmas Holiday season.  The Office will re-open on Wednesday\, January 2nd\, 2019 at 8:30 a.m. \nOn Mondays\, December 24th and December 31st\, the Waste Disposal Sites will have abbreviated hours of operation\, 2:00 p.m. to 4:00 p.m. only\, and will be closed entirely for the statutory Boxing Day holiday\, Wednesday\, December 26th.  The Waste Sites will be open on the Saturdays during the holiday week as per usual from 9:00 a.m. to 5:00 p.m.
URL:https://huronshores.ca/event/christmas-holidays-waste-site-closures/
CATEGORIES:Office Closure,Waste Disposal
ATTACH;FMTTYPE=image/jpeg:https://huronshores.ca/wp-content/uploads/2011/07/Christmas-Wishes-Home-Page.jpg
END:VEVENT
END:VCALENDAR